Workbook

Sheet ZBIORCZE ZESTAWIENIE KOSZTÓW
A1: BUDOWA DROGI GMINNEJ PUBLICZNEJ W MIEJSCOWOŚCI MYŚLENICE - PRZEBUDOWA I ZABEZPIECZENIEM SIECI ELEKTRYCZNEJ NN I SN
A2: Wykonawca: | C2: Wykonawca zostanie wyłoniony w postępowaniu przetargowym zgodnie z ustawą Prawo zamówień publicznych (t.j. z 2018 r. poz. 1986, 2215, z 2019 r. poz. 53)
A3: Data: | C3: 2020-04-24
A5: Lp | B5: Kod branży | C5: Oznaczenie arkusza | D5: Nazwa elementu | E5: Wartość | F5: Oszczędności netto | G5: Oszczędności netto | H5: Komentarz | I5: Wskaźnik techniczno-ekonomiczny | J5: Powierzchnia obiektu | K5: Jednostka | L5: Udział
A6: 1 | B6: 2 | C6: 3 | D6: 4 | E6: 5 | F6: 6 | G6: 7 | H6: 8 | I6: 9 | J6: 10 | K6: 11 | L6: 12
A7: 1 | C7: Kosztorys | D7: BUDOWA DROGI GMINNEJ PUBLICZNEJ W MIEJSCOWOŚCI MYŚLENICE - PRZEBUDOWA I ZABEZPIECZENIEM SIECI ELEKTRYCZNEJ NN I SN | E7: ='1 OŚWIETLENIE DROGOWE'!K7+'2 PRZEBUDOWA I BUDOWA SIECI UZB'!K7 -> 0 | I7: =ROUND(E7/J7, 2) -> 0 | J7: =E23 -> 1 | K7: =F23
A8: 2 | C8: Rozdział 1 | D8: OŚWIETLENIE DROGOWE | E8: ='1 OŚWIETLENIE DROGOWE'!K7 -> 0 | I8: =ROUND(E8/J8, 2) -> 0 | J8: =E23 -> 1 | K8: =F23
A9: 3 | C9: GRUPA 1.1 | D9: OZNAKOWANIE DRÓG I URZADZENIA BEZPIECZEŃSTWA RUCHU | E9: ='1 OŚWIETLENIE DROGOWE'!K8 -> 0
A10: 4 | C10: ELEMENT 1.1.1 | D10: Budowa oświetlenia ulicznego wraz z liniami kablowymi nn-0,23/0,4kV wraz z przyłączem | E10: ='1 OŚWIETLENIE DROGOWE'!K9 -> 0
A11: 5 | C11: ELEMENT 1.1.2 | D11: Oświetlenie dróg | E11: ='1 OŚWIETLENIE DROGOWE'!K10 -> 0
A12: 6 | C12: Rozdział 2 | D12: PRZEBUDOWA I BUDOWA SIECI UZBROJENIA TERENU - SIECI I URZĄDZENIA | E12: ='2 PRZEBUDOWA I BUDOWA SIECI UZB'!K7 -> 0 | I12: =ROUND(E12/J12, 2) -> 0 | J12: =E23 -> 1 | K12: =F23
A13: 7 | C13: GRUPA 2.1 | D13: Przebudowa sieci kablowych SN-8,7/15kV, własność TAURON (wg rysunku E04) | E13: ='2 PRZEBUDOWA I BUDOWA SIECI UZB'!K8 -> 0
A14: 8 | C14: ELEMENT 2.1.1 | D14: Przebudowa i budowa linii kablowych średniego napięcia | E14: ='2 PRZEBUDOWA I BUDOWA SIECI UZB'!K9 -> 0
A15: 9 | C15: ELEMENT 2.1.2 | D15: Przebudowa sieci kablowych SN-8,7/15kV, planowane demontaże, własność TAURON | E15: ='2 PRZEBUDOWA I BUDOWA SIECI UZB'!K21 -> 0
A16: 10 | C16: ELEMENT 2.1.3 | D16: Przebudowa sieci kablowych nn-0,23/0,4kV, własność TAURON (wg rysunków: E05; E06;E07; E08) | E16: ='2 PRZEBUDOWA I BUDOWA SIECI UZB'!K42 -> 0
A17: 11 | C17: ELEMENT 2.1.4 | D17: Przebudowa linii kablowych nn-0,23/0,4kV, pozostałe | E17: ='2 PRZEBUDOWA I BUDOWA SIECI UZB'!K69 -> 0
D22: Dane wyjściowe
E23: 1

Sheet 1 OŚWIETLENIE DROGOWE
A1: OŚWIETLENIE DROGOWE
A2: Wykonawca:
A3: Data:
A5: Lp | B5: STWiORB | C5: Kod indywidualny | D5: Podstawa | E5: Opis robót | F5: Jednostka | G5: Szacowany obmiar projektanta | H5: Obmiar zweryfikowany przez wykonawcę | I5: Krotność | J5: Cena jednostkowa netto | K5: Wartość
A6: 1 | B6: 2 | C6: 3 | D6: 4 | E6: 5 | F6: 6 | G6: 7 | H6: 8 | I6: 9 | J6: 10 | K6: 11
A7: 1 | D7: Rozdział | E7: OŚWIETLENIE DROGOWE | K7: ='1 OŚWIETLENIE DROGOWE'!K8 -> 0
A8: 1.1 | B8: D-07.00.00. | D8: Grupa | E8: OZNAKOWANIE DRÓG I URZADZENIA BEZPIECZEŃSTWA RUCHU | K8: ='1 OŚWIETLENIE DROGOWE'!K9+'1 OŚWIETLENIE DROGOWE'!K10 -> 0
A9: 1.1.1 | D9: Element | E9: Budowa oświetlenia ulicznego wraz z liniami kablowymi nn-0,23/0,4kV wraz z przyłączem
A10: 1.1.2 | B10: D-07.07.01. | D10: Element | E10: Oświetlenie dróg | K10: =SUM(K11:K40) -> 0
A11: 1 | D11: KNR 201/702/3 (3) | E11: Kopanie rowu kablowego z wydobyciem urobku i złożenie wzdłoż strefy robót w gruncie kategorii I-II | F11: m | G11: 5 | I11: 1 | K11: =ROUND(H11*J11, 2) -> 0
A12: 2 | D12: KNR 510/301/1 | E12: Nasypanie warstwy piasku na dnie rowu kablowego grubości 10 cm_x005F_x000A_R = 0,955 M = 1,000 S = 1,000 | F12: m | G12: 5 | I12: 1 | K12: =ROUND(H12*J12, 2) -> 0
A13: 3 | D13: KNNR 5/707/4 (1) | E13: Układanie kabla w rowach kablowych z przykryciem folią z tworzywa sztucznego kabel NA2XY-J 4x35 RE 0,6/1 Kv | F13: m | G13: 5 | I13: 1 | K13: =ROUND(H13*J13, 2) -> 0
A14: 4 | D14: KNR 510/301/1 | E14: Zasypanie kabla energetycznego warstwą piasku grubości 10 cm_x005F_x000A_R = 0,955 M = 1,000 S = 1,000 | F14: m | G14: 5 | I14: 1 | K14: =ROUND(H14*J14, 2) -> 0
A15: 5 | D15: KNR 201/705/1 (1) | E15: Zasypanie rowu kablowego gruntem pochodzącym z wykopu | F15: m | G15: 5 | I15: 1 | K15: =ROUND(H15*J15, 2) -> 0
A16: 6 | D16: KNR 201/702/3 (3) | E16: Kopanie rowu kablowego z wydobyciem urobku i złożenie wzdłoż strefy robót w gruncie kategorii I-II | F16: m | G16: 940 | I16: 1 | K16: =ROUND(H16*J16, 2) -> 0
A17: 7 | D17: KNR 510/301/1 | E17: Nasypanie warstwy piasku na dnie rowu kablowego grubości 10 cm_x005F_x000A_R = 0,955 M = 1,000 S = 1,000 | F17: m | G17: 940 | I17: 1 | K17: =ROUND(H17*J17, 2) -> 0
A18: 8 | D18: KNRW 219/306/8 (1) | E18: Ułożenie rury ochronnej DVK 110 w gotowym rowie kablowym_x005F_x000A_R = 2,000 M = 2,000 S = 2,000 | F18: m | G18: 190 | I18: 1 | K18: =ROUND(H18*J18, 2) -> 0
A19: 9 | D19: KNRW 219/102/1 | E19: Oznakowanie trasy przepustu taśmą ułozoną w ziemi | F19: m | G19: 190 | I19: 1 | K19: =ROUND(H19*J19, 2) -> 0
A20: 10 | D20: KNR 225/613/1 | E20: Wciąganie kabla YKY 5x10mm2 do rur ochronnych, słupów oświetleniowych i szafy oświetleniowej bez kosztów kabla | F20: m | G20: 19 | I20: 1 | K20: =ROUND(H20*J20, 2) -> 0
A21: 11 | D21: KNNR 5/707/4 (1) | E21: Układanie kabla w rowach kablowych z przykryciem folią z tworzywa sztucznego kabel YKYżo 5x10 bez kosztów kabla | F21: m | G21: 750 | I21: 1 | K21: =ROUND(H21*J21, 2) -> 0
A22: 12 | D22: # Kalkulacja indywidualna | E22: Koszt kabla YKYżo 5x10 | F22: m | G22: 940 | I22: 1 | K22: =ROUND(H22*J22, 2) -> 0
... A40: 30 | D40: KNR 1321/301/2 | E40: Wykonanie pomiarów fotometrycznych oświetlenia (komplet dla obliczeń fotometrycznych) | F40: obwód | G40: 1 | I40: 1 | K40: =ROUND(H40*J40, 2) -> 0

Sheet 2 PRZEBUDOWA I BUDOWA SIECI UZB
A1: PRZEBUDOWA I BUDOWA SIECI UZBROJENIA TERENU - SIECI I URZĄDZENIA
A2: Wykonawca: | C2: Wykonawca zostanie wyłoniony w postępowaniu przetargowym zgodnie z ustawą Prawo zamówień publicznych (t.j. z 2018 r. poz. 1986, 2215, z 2019 r. poz. 53)
A3: Data: | C3: 2020-04-24
A5: Lp | B5: Odniesienie do dokumentacji przetargowej | C5: Kod indywidualny | D5: Podstawa | E5: Opis robót | F5: Jednostka | G5: Szacowany obmiar projektanta | H5: Obmiar zweryfikowany przez wykonawcę | I5: Krotność | J5: Cena jednostkowa netto | K5: Wartość
A6: 1 | B6: 2 | C6: 3 | D6: 4 | E6: 5 | F6: 6 | G6: 7 | H6: 8 | I6: 9 | J6: 10 | K6: 11
A7: 2 | D7: Rozdział | E7: PRZEBUDOWA I BUDOWA SIECI UZBROJENIA TERENU - SIECI I URZĄDZENIA | K7: ='2 PRZEBUDOWA I BUDOWA SIECI UZB'!K8 -> 0
A8: 2.1 | D8: Grupa | E8: Przebudowa sieci kablowych SN-8,7/15kV, własność TAURON (wg rysunku E04) | K8: ='2 PRZEBUDOWA I BUDOWA SIECI UZB'!K9+'2 PRZEBUDOWA I BUDOWA SIECI UZB'!K21+'2 PRZEBUDOWA I BUDOWA SIECI UZB'!K42+'2 PRZEBUDOWA I BUDOWA SIECI UZB'!K69 -> 0
A9: 2.1.1 | B9: D-01.03.02. | D9: Element | E9: Przebudowa i budowa linii kablowych średniego napięcia | K9: =SUM(K10:K20) -> 0
A10: 31 | D10: KNR 201/702/3 (3) | E10: Mechaniczne kopanie rowu kablowego z wydobyciem urobku i złożenie wzdłoż strefy robót w gruncie kategorii I-II | F10: m | G10: 640 | I10: 1 | K10: =ROUND(H10*J10, 2) -> 0
A11: 32 | D11: KNR 510/301/1 | E11: Nasypanie warstwy piasku na dnie rowu kablowego grubości 10 cm_x005F_x000A_R = 0,955 M = 1,000 S = 1,000 | F11: m | G11: 640 | I11: 1 | K11: =ROUND(H11*J11, 2) -> 0
A12: 33 | D12: KNRW 219/306/8 (1) | E12: Ułożenie rury ochronnej DVK 160 w gotowym rowie kablowym_x005F_x000A_R = 2,000 M = 2,000 S = 2,000 | F12: m | G12: 60 | I12: 1 | K12: =ROUND(H12*J12, 2) -> 0
A13: 34 | D13: KNRW 219/306/8 (1) | E13: Ułożenie rury ochronnej SRS160 160 w gotowym rowie kablowym_x005F_x000A_R = 2,000 M = 2,000 S = 2,000 | F13: m | G13: 170 | I13: 1 | K13: =ROUND(H13*J13, 2) -> 0
A14: 35 | D14: KNR 225/613/1 | E14: Wciąganie kabla XRUHAKXS do rur ochronnych, bez kosztów kabla | F14: m | G14: 230 | I14: 1 | K14: =ROUND(H14*J14, 2) -> 0
A15: 36 | D15: # KNR 228/405/1 analogia | E15: Zabepieczenie końców rur za pomocą zaślepek mułoszczelnych | F15: kpl | G15: 34 | I15: 1 | K15: =ROUND(H15*J15, 2) -> 0
A16: 37 | D16: KNRW 219/102/1 | E16: Oznakowanie trasy rur ochronnych taśmą ułozoną w ziemi | F16: m | G16: 230 | I16: 1 | K16: =ROUND(H16*J16, 2) -> 0
A17: 38 | D17: KNNR 5/707/3 (1) | E17: Układanie kabla w rowach kablowych z przykryciem folią z tworzywa sztucznego kabel 3x XRUHAKXS 1x120/50 12/20kV | F17: m | G17: 640 | I17: 1 | K17: =ROUND(H17*J17, 2) -> 0
A18: 39 | D18: KNR 510/301/1 | E18: Obsypanie warstwą piasku rur ochronnych i kabla grubości 10 cm_x005F_x000A_R = 0,955 M = 1,000 S = 1,000 | F18: m | G18: 640 | I18: 1 | K18: =ROUND(H18*J18, 2) -> 0
A19: 40 | D19: # Kalkulacja własna | E19: Koszt kabla XRUHAKXS 1x120/50 | F19: m | G19: 2036 | I19: 1 | K19: =ROUND(H19*J19, 2) -> 0
A20: 41 | D20: KNR 201/705/3 (3) | E20: Mechaniczne zasypywanie rowów dla kabli gruntem pochodzacym z wykopu | F20: m | G20: 640 | I20: 1 | K20: =ROUND(H20*J20, 2) -> 0
A21: 2.1.2 | B21: D-01.03.02. | D21: Element | E21: Przebudowa sieci kablowych SN-8,7/15kV, planowane demontaże, własność TAURON | K21: =SUM(K22:K41) -> 0
A22: 42 | D22: KNR 201/701/4 (2) | E22: Odkopalnie istniejącego kabla typu 3x XUHAKXS 1x120 przeznaczonego do demontażu z złożeniem urobku w strfie robót grunt kat I-II | F22: m | G22: 150 | I22: 1 | K22: =ROUND(H22*J22, 2) -> 0
A23: 43 | D23: KSNR 9/101/6 | E23: Demontaż istniejącego złącza kablowego z załadowaniem na środki transportowe i wywiezienie w miejsce składowania/utylizacji | F23: kpl | G23: 6 | I23: 1 | K23: =ROUND(H23*J23, 2) -> 0
A24: 44 | D24: KSNR 9/801/10 | E24: Demontaż linii kablowej 3x XUHAKXS 1x120 z załadowaniem na srodki transportowe i wywiezienie w miejsce składowani/utylizacji wraz z wykopaniem i zasypaniem wykopu. | F24: m | G24: 150 | I24: 1 | K24: =ROUND(H24*J24, 2) -> 0
A25: 45 | D25: KNR 201/705/3 (3) | E25: Zasypanie rowów kablowych po demontazu kabla gruntem pochodzącym z wykopu | F25: m | G25: 150 | I25: 1 | K25: =ROUND(H25*J25, 2) -> 0
A26: 46 | D26: KNR 201/702/3 (3) | E26: Mechaniczne kopanie rowu kablowego z wydobyciem urobku i złożenie wzdłoż strefy robót w gruncie kategorii I-II | F26: m | G26: 150 | I26: 1 | K26: =ROUND(H26*J26, 2) -> 0
A27: 47 | D27: KNR 510/301/1 | E27: Nasypanie warstwy piasku na dnie rowu kablowego grubości 10 cm_x005F_x000A_R = 0,955 M = 1,000 S = 1,000 | F27: m | G27: 150 | I27: 1 | K27: =ROUND(H27*J27, 2) -> 0
A28: 48 | D28: KNNR 5/707/3 (1) | E28: Układanie kabla w rowach kablowych z przykryciem folią z tworzywa sztucznego kabel 3x XRUHAKXS 1x120/50 12/20kV z kosztami kabla | F28: m | G28: 150 | I28: 1 | K28: =ROUND(H28*J28, 2) -> 0
A29: 49 | D29: KNNR 9/806/4 | E29: Połączenie istniejącej sieci kablowej z odcinkiem projektowanym za pomocą muf SN | F29: szt | G29: 6 | I29: 1 | K29: =ROUND(H29*J29, 2) -> 0
A30: 50 | D30: KNR 510/301/1 | E30: Obsypanie warstwą piasku kabla grubości 10 cm_x005F_x000A_R = 0,955 M = 1,000 S = 1,000 | F30: m | G30: 150 | I30: 1 | K30: =ROUND(H30*J30, 2) -> 0
A31: 51 | D31: KNR 201/705/3 (3) | E31: Mechaniczne zasypywanie rowów dla kabli gruntem pochodzacym z wykopu | F31: m | G31: 150 | I31: 1 | K31: =ROUND(H31*J31, 2) -> 0
A32: 52 | D32: KNR 201/701/4 (2) | E32: Odkopalnie istniejącego kabla typu 3x XRUHAKXS 1x120 przeznaczonego do demontażu z złożeniem urobku w strfie robót grunt kat I-II | F32: m | G32: 490 | I32: 1 | K32: =ROUND(H32*J32, 2) -> 0
A33: 53 | D33: KSNR 9/101/6 | E33: Demontaż istniejącego złącza kablowego z załadowaniem na środki transportowe i wywiezienie w miejsce składowania/utylizacji | F33: kpl | G33: 6 | I33: 1 | K33: =ROUND(H33*J33, 2) -> 0
... A41: 61 | D41: KNR 201/705/3 (3) | E41: Mechaniczne zasypywanie rowów dla kabli gruntem pochodzacym z wykopu | F41: m | G41: 490 | I41: 1 | K41: =ROUND(H41*J41, 2) -> 0
A42: 2.1.3 | B42: D-01.03.02B. | D42: Element | E42: Przebudowa sieci kablowych nn-0,23/0,4kV, własność TAURON (wg rysunków: E05; E06;E07; E08) | K42: =SUM(K43:K68) -> 0
A43: 62 | D43: KNR 201/701/4 (2) | E43: Odkopalnie istniejącego kabla typu YAKXS 4x120 przeznaczonego do demontażu z złożeniem urobku w strfie robót grunt kat I-II | F43: m | G43: 440 | I43: 1 | K43: =ROUND(H43*J43, 2) -> 0
A44: 63 | D44: KSNR 9/801/10 | E44: Demontaż linii kablowej YAKXS 4x120 z załadowaniem na srodki transportowe i wywiezienie w miejsce składowani/utylizacji wraz z wykopaniem i zasypaniem wykopu. | F44: m | G44: 445 | I44: 1 | K44: =ROUND(H44*J44, 2) -> 0
A45: 64 | D45: KNR 201/705/3 (3) | E45: Zasypanie rowów kablowych po demontażu kabla gruntem pochodzącym z wykopu | F45: m | G45: 445 | I45: 1 | K45: =ROUND(H45*J45, 2) -> 0
A46: 65 | D46: KNR 201/702/3 (3) | E46: Mechaniczne kopanie rowu kablowego z wydobyciem urobku i złożenie wzdłoż strefy robót w gruncie kategorii I-II | F46: m | G46: 550 | I46: 1 | K46: =ROUND(H46*J46, 2) -> 0
A47: 66 | D47: KNR 510/301/1 | E47: Nasypanie warstwy piasku na dnie rowu kablowego grubości 10 cm_x005F_x000A_R = 0,955 M = 1,000 S = 1,000 | F47: m | G47: 550 | I47: 1 | K47: =ROUND(H47*J47, 2) -> 0
A48: 67 | D48: KNNR 5/707/3 (1) | E48: Układanie kabla w rowach kablowych z przykryciem folią z tworzywa sztucznego kabel NA2XY-J 4x120z kosztami kabla | F48: m | G48: 550 | I48: 1 | K48: =ROUND(H48*J48, 2) -> 0
A49: 68 | D49: KNNR 9/806/4 | E49: Połączenie istniejącej sieci kablowej z odcinkiem projektowanym za pomocą mufy LJSM 4x120 | F49: szt | G49: 6 | I49: 1 | K49: =ROUND(H49*J49, 2) -> 0
A50: 69 | D50: KNR 510/301/1 | E50: Obsypanie warstwą piasku kabla grubości 10 cm_x005F_x000A_R = 0,955 M = 1,000 S = 1,000 | F50: m | G50: 550 | I50: 1 | K50: =ROUND(H50*J50, 2) -> 0
A51: 70 | D51: KNR 201/705/3 (3) | E51: Mechaniczne zasypywanie rowów dla kabli gruntem pochodzacym z wykopu | F51: m | G51: 550 | I51: 1 | K51: =ROUND(H51*J51, 2) -> 0
A52: 71 | D52: KNR 201/702/3 (3) | E52: Mechaniczne kopanie rowu kablowego z wydobyciem urobku i złożenie wzdłoż strefy robót w gruncie kategorii I-II | F52: m | G52: 400 | I52: 1 | K52: =ROUND(H52*J52, 2) -> 0
A53: 72 | D53: KNR 510/301/1 | E53: Nasypanie warstwy piasku na dnie rowu kablowego grubości 10 cm_x005F_x000A_R = 0,955 M = 1,000 S = 1,000 | F53: m | G53: 400 | I53: 1 | K53: =ROUND(H53*J53, 2) -> 0
A54: 73 | D54: KNNR 5/707/3 (1) | E54: Układanie kabla w rowach kablowych z przykryciem folią z tworzywa sztucznego kabel NA2XY-J 4x240 bez kosztów kabla | F54: m | G54: 400 | I54: 1 | K54: =ROUND(H54*J54, 2) -> 0
... A68: 87 | D68: KNNR 5/606/4 (1) | E68: Budowa uziemienia słupa system uziemienia słupa FeZn 30x4 | F68: szt | G68: 3 | I68: 1 | K68: =ROUND(H68*J68, 2) -> 0
A69: 2.1.4 | B69: D-01.03.03. | D69: Element | E69: Przebudowa linii kablowych nn-0,23/0,4kV, pozostałe | K69: =SUM(K70:K98) -> 0
A70: 88 | D70: KNR 201/701/2 (2) | E70: Ręczne kopanie rowów dla kabli, z wydobyciem urobku na powierzchnie i złożenie urubku w granicach robót grunt kat III, | F70: m | G70: 10 | I70: 1 | K70: =ROUND(H70*J70, 2) -> 0
A71: 89 | D71: KNR 510/301/1 | E71: Nasypanie warstwy piasku na dnie rowu kablowego grubości 10 cm_x005F_x000A_R = 0,955 M = 1,000 S = 1,000 | F71: m | G71: 10 | I71: 1 | K71: =ROUND(H71*J71, 2) -> 0
A72: 90 | D72: KNRW 219/306/8 (1) | E72: Ułożenie rury ochronnej SRS110N w gotowym rowie kablowym_x005F_x000A_R = 2,000 M = 2,000 S = 2,000 | F72: m | G72: 10 | I72: 1 | K72: =ROUND(H72*J72, 2) -> 0
A73: 91 | D73: KNRW 219/102/1 | E73: Oznakowanie trasy rur ochronnych taśmą ułozoną w ziemi | F73: m | G73: 10 | I73: 1 | K73: =ROUND(H73*J73, 2) -> 0
A74: 92 | D74: KNR 225/613/1 | E74: Wciąganie kabla do rur ochronnych, bez kosztów kabla | F74: m | G74: 10 | I74: 1 | K74: =ROUND(H74*J74, 2) -> 0
A75: 93 | D75: KNR 510/301/1 | E75: Obsypanie warstwą piasku rury ochronnej grubości 10 cm_x005F_x000A_R = 0,955 M = 1,000 S = 1,000 | F75: m | G75: 10 | I75: 1 | K75: =ROUND(H75*J75, 2) -> 0
A76: 94 | D76: KNR 201/704/2 (2) | E76: Zasypanie rowu kablowego gruntem pochodzącym z wykopu | F76: m | G76: 10 | I76: 1 | K76: =ROUND(H76*J76, 2) -> 0
A77: 95 | D77: KNR 201/701/2 (2) | E77: Ręczne kopanie rowów dla kabli, z wydobyciem urobku na powierzchnie i złożenie urubku w granicach robót grunt kat III, | F77: m | G77: 10 | I77: 1 | K77: =ROUND(H77*J77, 2) -> 0
A78: 96 | D78: KNR 510/301/1 | E78: Nasypanie warstwy piasku na dnie rowu kablowego grubości 10 cm_x005F_x000A_R = 0,955 M = 1,000 S = 1,000 | F78: m | G78: 10 | I78: 1 | K78: =ROUND(H78*J78, 2) -> 0
A79: 97 | D79: KNRW 219/306/8 (1) | E79: Ułożenie rury ochronnej DVR110N w gotowym rowie kablowym_x005F_x000A_R = 2,000 M = 2,000 S = 2,000 | F79: m | G79: 10 | I79: 1 | K79: =ROUND(H79*J79, 2) -> 0
A80: 98 | D80: KNRW 219/102/1 | E80: Oznakowanie trasy rur ochronnych taśmą ułozoną w ziemi | F80: m | G80: 10 | I80: 1 | K80: =ROUND(H80*J80, 2) -> 0
A81: 99 | D81: KNR 225/613/1 | E81: Wciąganie kabla do rur ochronnych, bez kosztów kabla | F81: m | G81: 10 | I81: 1 | K81: =ROUND(H81*J81, 2) -> 0
... A98: 116 | D98: # Kalkulacja indywidualna | E98: Zapewnienie zasilania bezprzerwowego (agregat z inwerterem 1kW) | F98: kpl | G98: 1 | I98: 1 | K98: =ROUND(H98*J98, 2) -> 0
