Workbook

Sheet ZBIORCZE ZESTAWIENIE KOSZTÓW
A1: BUDOWA DROGI GMINNEJ PUBLICZNEJ W MIEJSCOWOŚCI MYŚLENICE WRAZ Z BUDOWĄ SIECI OŚWIETLENIA ULICZNEGO, PRZEBUDOWĄ SIECI GAZOWEJ, SIECI KANALIZACJI SANITARNEJ I DESZCZOWEJ ORAZ PRZEBUDOWĄ I ZABEZPIECZENIEM SIECI ELEKTRYCZNEJ NN I SN
A2: Wykonawca: | C2: Wykonawca zostanie wyłoniony w postępowaniu przetargowym zgodnie z ustawą Prawo zamówień publicznych (t.j. z 2018 r. poz. 1986, 2215, z 2019 r. poz. 53)
A3: Data: | C3: 2020-04-24
A5: Lp | B5: Kod branży | C5: Oznaczenie arkusza | D5: Nazwa elementu | E5: Wartość | F5: Oszczędności netto | G5: Oszczędności netto | H5: Komentarz | I5: Wskaźnik techniczno-ekonomiczny | J5: Powierzchnia obiektu | K5: Jednostka | L5: Udział
A6: 1 | B6: 2 | C6: 3 | D6: 4 | E6: 5 | F6: 6 | G6: 7 | H6: 8 | I6: 9 | J6: 10 | K6: 11 | L6: 12
A7: 1 | C7: Kosztorys | D7: BUDOWA DROGI GMINNEJ PUBLICZNEJ W MIEJSCOWOŚCI MYŚLENICE WRAZ Z BUDOWĄ SIECI OŚWIETLENIA ULICZNEGO, PRZEBUDOWĄ SIECI GAZOWEJ, SIECI KANALIZACJI SANITARNEJ I DESZCZOWEJ ORAZ PRZEBUDOWĄ I ZABEZPIECZENIEM SIECI ELEKTRYCZNEJ NN I SN | E7: ='1 BUDOWA DROGI GMINNEJ PUBLICZN'!L7 -> 0 | I7: =ROUND(E7/J7, 2) -> 0 | J7: =E53 -> 1 | K7: =F53
A8: 2 | C8: GRUPA 1 | D8: ROBOTY PRZYGOTOWAWCZE | E8: ='1 BUDOWA DROGI GMINNEJ PUBLICZN'!L8 -> 0
A9: 3 | C9: ELEMENT 1.1 | D9: Odtworzenie trasy i punktów wysokościowych | E9: ='1 BUDOWA DROGI GMINNEJ PUBLICZN'!L9 -> 0
A10: 4 | C10: ELEMENT 1.2 | D10: Rozbiórka elementów dróg | E10: ='1 BUDOWA DROGI GMINNEJ PUBLICZN'!L11 -> 0
A11: 5 | C11: ELEMENT 1.3 | D11: Przebudowa sieci gazowej przy przebudowie dróg | E11: ='1 BUDOWA DROGI GMINNEJ PUBLICZN'!L17 -> 0
A12: 6 | C12: ELEMENT 1.4 | D12: Przebudowa podziemnych sieci kanalizacji sanitarnej | E12: ='1 BUDOWA DROGI GMINNEJ PUBLICZN'!L40 -> 0
A13: 7 | C13: GRUPA 1.5 | D13: ROBOTY ZIEMNE | E13: ='1 BUDOWA DROGI GMINNEJ PUBLICZN'!L53 -> 0
A14: 8 | C14: ELEMENT 1.5.1 | D14: Wykonanie wykopów w gruntach I-V kat | E14: ='1 BUDOWA DROGI GMINNEJ PUBLICZN'!L54 -> 0
A15: 9 | C15: ELEMENT 1.5.2 | D15: Wykonanie nasypów | E15: ='1 BUDOWA DROGI GMINNEJ PUBLICZN'!L56 -> 0
A16: 10 | C16: GRUPA 2 | D16: ODWODNIENIE KORPUSU DROGOWEGO | E16: ='1 BUDOWA DROGI GMINNEJ PUBLICZN'!L58 -> 0
A17: 11 | C17: ELEMENT 2.1 | D17: Kanalizacja deszczowa | E17: ='1 BUDOWA DROGI GMINNEJ PUBLICZN'!L59 -> 0
A18: 12 | C18: GRUPA 3 | D18: PODBUDOWY | E18: ='1 BUDOWA DROGI GMINNEJ PUBLICZN'!L70 -> 0
A19: 13 | C19: ELEMENT 3.1 | D19: Profilowanie i zagęszczenie podłoża | E19: ='1 BUDOWA DROGI GMINNEJ PUBLICZN'!L71 -> 0
A20: 14 | C20: ELEMENT 3.2 | D20: Oczyszczenie i skropienie warstw konstrukcyjnych | E20: ='1 BUDOWA DROGI GMINNEJ PUBLICZN'!L73 -> 0
A21: 15 | C21: ELEMENT 3.3 | D21: Ulepszone podoże i podbudowy z mieszanek związanych spoiwem hydraulicznym | E21: ='1 BUDOWA DROGI GMINNEJ PUBLICZN'!L76 -> 0
A22: 16 | C22: ELEMENT 3.4 | D22: Podbudowy z mieszanki kruszyw niezwiązanych | E22: ='1 BUDOWA DROGI GMINNEJ PUBLICZN'!L79 -> 0
A23: 17 | C23: ELEMENT 3.5 | D23: Podbudowa z betonu asfaltowego | E23: ='1 BUDOWA DROGI GMINNEJ PUBLICZN'!L81 -> 0
A24: 18 | C24: GRUPA 3.6 | D24: NAWIERZCHNIE | E24: ='1 BUDOWA DROGI GMINNEJ PUBLICZN'!L83 -> 0
A25: 19 | C25: ELEMENT 3.6.1 | D25: Nawierzchnie z betonu asfaltowego. Warstwa wiążąca | E25: ='1 BUDOWA DROGI GMINNEJ PUBLICZN'!L84 -> 0
A26: 20 | C26: ELEMENT 3.6.2 | D26: Nawierzchnie z betonu asfaltowego. Warstwa ścieralna | E26: ='1 BUDOWA DROGI GMINNEJ PUBLICZN'!L86 -> 0
A27: 21 | C27: GRUPA 4 | D27: ROBOTY WYKOŃCZENIOWE | E27: ='1 BUDOWA DROGI GMINNEJ PUBLICZN'!L88 -> 0
A28: 22 | C28: ELEMENT 4.1 | D28: Umocnienie powierzchniowe skarp narzutem kamiennym | E28: ='1 BUDOWA DROGI GMINNEJ PUBLICZN'!L89 -> 0
A29: 23 | C29: ELEMENT 4.2 | D29: Umocnienie rowów elementami prefabrykowanymi | E29: ='1 BUDOWA DROGI GMINNEJ PUBLICZN'!L91 -> 0
A30: 24 | C30: GRUPA 4.3 | D30: OZNAKOWANIE DRÓG I URZĄDZENIA BEZPIECZEŃSTWA RUCHU | E30: ='1 BUDOWA DROGI GMINNEJ PUBLICZN'!L93 -> 0
A31: 25 | C31: ELEMENT 4.3.1 | D31: Oznakowanie poziome | E31: ='1 BUDOWA DROGI GMINNEJ PUBLICZN'!L94 -> 0
A32: 26 | C32: ELEMENT 4.3.2 | D32: Oznakowanie pionowe | E32: ='1 BUDOWA DROGI GMINNEJ PUBLICZN'!L97 -> 0
A33: 27 | C33: ELEMENT 4.3.3 | D33: Przestawienie oznakowania pionowego | E33: ='1 BUDOWA DROGI GMINNEJ PUBLICZN'!L102 -> 0
A34: 28 | C34: ELEMENT 4.3.4 | D34: Bariery ochronne stalowe | E34: ='1 BUDOWA DROGI GMINNEJ PUBLICZN'!L107 -> 0
A35: 29 | C35: GRUPA 5 | D35: ELEMENTY ULIC | E35: ='1 BUDOWA DROGI GMINNEJ PUBLICZN'!L109 -> 0
A36: 30 | C36: ELEMENT 5.1 | D36: Krawężniki betonowe | E36: ='1 BUDOWA DROGI GMINNEJ PUBLICZN'!L110 -> 0
A37: 31 | C37: ELEMENT 5.2 | D37: Betonowe obrzeża chodnikowe | E37: ='1 BUDOWA DROGI GMINNEJ PUBLICZN'!L113 -> 0
A38: 32 | C38: ELEMENT 5.3 | D38: Chodnik z brukowej kostki betonowej | E38: ='1 BUDOWA DROGI GMINNEJ PUBLICZN'!L115 -> 0
A39: 33 | C39: ELEMENT 5.4 | D39: Ścieki z prefabrykowanych elementów betonowych | E39: ='1 BUDOWA DROGI GMINNEJ PUBLICZN'!L119 -> 0
A40: 34 | C40: GRUPA 6 | D40: INNE ROBOBOTY | E40: ='1 BUDOWA DROGI GMINNEJ PUBLICZN'!L122 -> 0
A41: 35 | C41: ELEMENT 6.1 | D41: Zjazdy do gospodarstw z kostki brukowej betonowej | E41: ='1 BUDOWA DROGI GMINNEJ PUBLICZN'!L123 -> 0
A42: 36 | C42: ELEMENT 6.2 | D42: Zjazdy do gospodarstw z kruszywa naturalnego | E42: ='1 BUDOWA DROGI GMINNEJ PUBLICZN'!L128 -> 0
A43: 37 | C43: ELEMENT 6.3 | D43: Zjazdy do gospodarstw remont czastkowy z płyt betonowych | E43: ='1 BUDOWA DROGI GMINNEJ PUBLICZN'!L130 -> 0
A44: 38 | C44: ELEMENT 6.4 | D44: Zjazdy do gospodarstw remont cząstkowy nawierzchni bitumicznej | E44: ='1 BUDOWA DROGI GMINNEJ PUBLICZN'!L138 -> 0
A45: 39 | C45: ELEMENT 6.5 | D45: Ogrodzenie z paneli metalowych i bramą z napędem | E45: ='1 BUDOWA DROGI GMINNEJ PUBLICZN'!L140 -> 0
A46: 40 | C46: ELEMENT 6.6 | D46: Ogrodzenie z paneli metalowych, furtką i bramą z napędem | E46: ='1 BUDOWA DROGI GMINNEJ PUBLICZN'!L156 -> 0
A47: 41 | C47: ELEMENT 6.7 | D47: Ogrodzenie panelowe | E47: ='1 BUDOWA DROGI GMINNEJ PUBLICZN'!L173 -> 0
D52: Dane wyjściowe
E53: 1

Sheet 1 BUDOWA DROGI GMINNEJ PUBLICZN
A1: BUDOWA DROGI GMINNEJ PUBLICZNEJ W MIEJSCOWOŚCI MYŚLENICE WRAZ Z BUDOWĄ SIECI OŚWIETLENIA ULICZNEGO, PRZEBUDOWĄ SIECI GAZOWEJ, SIECI KANALIZACJI SANITARNEJ I DESZCZOWEJ
A2: Wykonawca:
A3: Data:
A5: Lp | B5: Odniesienie do dokumentacji przetargowej | C5: Kod indywidualny | D5: Odniesienie do dokumentacji przetargowej | E5: Podstawa | F5: Opis robót | G5: Jednostka | H5: Szacowany obmiar projektanta | I5: Obmiar zweryfikowany przez wykonawcę | J5: Krotność | K5: Cena jednostkowa netto | L5: Wartość
A6: 1 | B6: 2 | C6: 3 | D6: 2 | E6: 4 | F6: 5 | G6: 6 | H6: 7 | I6: 8 | J6: 9 | K6: 10 | L6: 11
E7: Kosztorys | F7: BUDOWA DROGI GMINNEJ PUBLICZNEJ W MIEJSCOWOŚCI MYŚLENICE WRAZ Z BUDOWĄ SIECI OŚWIETLENIA ULICZNEGO, PRZEBUDOWĄ SIECI GAZOWEJ, SIECI KANALIZACJI SANITARNEJ I DESZCZOWEJ ORAZ PRZEBUDOWĄ I ZABEZPIECZENIEM SIECI ELEKTRYCZNEJ NN I SN | L7: ='1 BUDOWA DROGI GMINNEJ PUBLICZN'!L8+'1 BUDOWA DROGI GMINNEJ PUBLICZN'!L58+'1 BUDOWA DROGI GMINNEJ PUBLICZN'!L70+'1 BUDOWA DROGI GMINNEJ PUBLICZN'!L88+'1 BUDOWA DROGI GMINNEJ PUBLICZN'!L109+'1 BUDOWA DROGI GMINNEJ PUBLICZN'!L122 -> 0
A8: 1 | D8: D-01.00.00. | E8: Grupa | F8: ROBOTY PRZYGOTOWAWCZE | L8: ='1 BUDOWA DROGI GMINNEJ PUBLICZN'!L9+'1 BUDOWA DROGI GMINNEJ PUBLICZN'!L11+'1 BUDOWA DROGI GMINNEJ PUBLICZN'!L17+'1 BUDOWA DROGI GMINNEJ PUBLICZN'!L40+'1 BUDOWA DROGI GMINNEJ PUBLICZN'!L53 -> 0
A9: 1.1 | D9: D-01.01.01. | E9: Element | F9: Odtworzenie trasy i punktów wysokościowych | L9: =SUM(L10:L10) -> 0
A10: 1 | E10: KNR 201/119/3 | F10: Odtworzenie trasy i punktów wysokościowych przy budowie dróg, trasa dróg w terenie równinnym | G10: km | H10: 0.869 | J10: 1 | L10: =ROUND(I10*K10, 2) -> 0
A11: 1.2 | D11: D-01.02.04. | E11: Element | F11: Rozbiórka elementów dróg | L11: =SUM(L12:L16) -> 0
A12: 2 | E12: # KNNR 6/808/4 analogia | F12: Rozebranie istniejących ogrodzeń nie przeznaczonych do odbudowania złożenie złomu w strefie robót | G12: m | H12: 29 | J12: 1 | L12: =ROUND(I12*K12, 2) -> 0
A13: 3 | E13: KNR 404/1107/1 (1); KNR 404/1107/4 (1) | F13: Załadowanie złomu na środki transportowe i wywiezienie z terenu rozbiórki w miejsce wybrane przez wykonawcę spełniające wymagania przepisów o gospodarce odpadami, na odległość do 10·km, | G13: t | H13: 0.754 | J13: 1 | L13: =ROUND(I13*K13, 2) -> 0
A14: 4 | E14: AT 3/104/3; KNR 404/1103/5 | F14: Rozebranie istniejącej nawierzchni z mieszanek mineralno-bitumicznych, grubości 10·cm, z załadowaniem na środki transportowe i wywiezienie z terenu rozbiórki w miejsce wybrane przez wykonawcę spełniające wymagania przepisów o gospodarce odpadam | G14: m2 | H14: 3114 | J14: 1 | L14: =ROUND(I14*K14, 2) -> 0
A15: 5 | E15: KNR 231/703/5 | F15: Demontaz istniejących tablic znaków drogowych wywiezienie z terenu rozbiórki w miejsce wybrane przez wykonawcę spełniające wymagania przepisów o gospodarce odpadami | G15: szt | H15: 1 | J15: 1 | L15: =ROUND(I15*K15, 2) -> 0
A16: 6 | E16: KNR 231/818/8 | F16: Demontaz istniejących slupków do montażu tablic znaków drogowych wywiezienie z terenu rozbiórki w miejsce wybrane przez wykonawcę spełniające wymagania przepisów o gospodarce odpadami | G16: szt | H16: 1 | J16: 1 | L16: =ROUND(I16*K16, 2) -> 0
A17: 1.3 | D17: D-01.03.05. | E17: Element | F17: Przebudowa sieci gazowej przy przebudowie dróg | L17: =SUM(L18:L39) -> 0
A18: 7 | E18: KNNR 1/209/5 | F18: Mechaniczne wykonanie wykopów z wydobyciem urobku na powierzchnie i złożenie wzdłuż granicy robót na odkład, grunt kat III-IV, przyjęto 80 % ogólnych robót ziemnych | G18: m3 | H18: 49.93 | J18: 1 | L18: =ROUND(I18*K18, 2) -> 0
A19: 8 | E19: KNNR 1/305/2 | F19: Ręczne wykonanie wykopów z wydobyciem urobku na powierzchnie i złożenie wzdłuż granicy robót na odkład, grunt kat III-IV, przyjęto 20 % ogólnych robót ziemnych | G19: m3 | H19: 12.482 | J19: 1 | L19: =ROUND(I19*K19, 2) -> 0
A20: 9 | E20: KNNR 1/313/1 | F20: Umocnienie ścian wykopów wraz z rozbiórką palami szalunkowymi stalowymi (wypraskami) w gruntach suchych, szerokość do 1·m, umocnienie pełne w gruncie kategorii I-IV, | G20: m2 | H20: 124.824 | J20: 1 | L20: =ROUND(I20*K20, 2) -> 0
A21: 10 | E21: KNNR 11/501/5 | F21: Wykonanie podłoży i obsypki z kruszyw naturalnych dowiezionych z ich przesianiem - piasek | G21: m3 | H21: 33.733 | J21: 1 | L21: =ROUND(I21*K21, 2) -> 0
A22: 11 | E22: # KNRW 219/306/12 (1) analogia | F22: Ułożenie na dnie wykopu rury ochronnej PE 100 SDR17 DN300 | G22: m | H22: 7 | J22: 1 | L22: =ROUND(I22*K22, 2) -> 0
A23: 12 | E23: KNRW 219/410/1 | F23: Przeciąganie rur przewodowych przez rurach ochronnych, montaż płóz. | G23: m | H23: 7 | J23: 1 | L23: =ROUND(I23*K23, 2) -> 0
A24: 13 | E24: # KNR 228/405/5 analogia | F24: Zamknięcie końcówek rur ochronnych manszetami ochronnymi | G24: szt | H24: 2 | J24: 1 | L24: =ROUND(I24*K24, 2) -> 0
A25: 14 | E25: KNRW 219/301/13 | F25: Ręczne rozciągnięcie rury i ułożenie na dnie wykopu wraz z wypoziomowaniem. Ułożenie przewodu sygnalizacyjnego. Wykonanie wstępnej próby szczelności. Rury PE 100 SDR17 DN180 bez kosztów rury przewodowej | G25: m | H25: 48.4 | J25: 1 | L25: =ROUND(I25*K25, 2) -> 0
A26: 15 | E26: # Kalkulacja indywidualna | F26: Koszt rury przewodowej PE 100 SDR17 DN180 | G26: m | H26: 48.4 | J26: 1 | L26: =ROUND(I26*K26, 2) -> 0
A27: 16 | E27: KNRW 219/301/2 | F27: Ręczne rozciągnięcie rury i ułożenie na dnie wykopu wraz z wypoziomowaniem. Ułożenie przewodu sygnalizacyjnego. Wykonanie wstępnej próby szczelności. Rury PE 100RC SDR11 DN25 z kosztami rury przewodowej | G27: m | H27: 2 | J27: 1 | L27: =ROUND(I27*K27, 2) -> 0
A28: 17 | E28: KNRW 219/301/6 | F28: Ręczne rozciągnięcie rury i ułożenie na dnie wykopu wraz z wypoziomowaniem. Ułożenie przewodu sygnalizacyjnego. Wykonanie wstępnej próby szczelności. Rury PE 100RC SDR11 DN63 z kosztami rury przewodowej | G28: m | H28: 2 | J28: 1 | L28: =ROUND(I28*K28, 2) -> 0
A29: 18 | E29: KNRW 219/303/6 (1) | F29: Połączenie rur PE za pomocą złączki do zgrzewania elektrooporowego średnicy DN 63 | G29: złącze | H29: 1 | J29: 1 | L29: =ROUND(I29*K29, 2) -> 0
... A39: 28 | E39: KNNR 1/205/3 | F39: Mechaniczne załadowanie pozostałego gruntu zmagazynowanego w hałdach z transportem i utylizacją na koszt i wg. uznania Wykonawcy | G39: m3 | H39: 33.733 | J39: 1 | L39: =ROUND(I39*K39, 2) -> 0
A40: 1.4 | D40: D-01.03.06. | E40: Element | F40: Przebudowa podziemnych sieci kanalizacji sanitarnej | L40: =SUM(L41:L52) -> 0
A41: 29 | E41: KNNR 1/202/4; KNNR 1/208/2 (1) | F41: Mechaniczne wykonanie wykopów z załadunkiem i transportem urobku , w miejsce składowania/na hałdę, grunt kat III-IV - przyjęto 80% ogólnych robót ziemnych | G41: m3 | H41: 343.857 | J41: 1 | L41: =ROUND(I41*K41, 2) -> 0
A42: 30 | E42: KNNR 1/301/2 (1); KNNR 1/208/2 (1) | F42: Ręczne wykonanie wykopów z załadunkiem i transportem urobku , w miejsce składowania/utylizacji kategoria gruntu IV, przyjęto 20% ogólnych robót ziemnych | G42: m3 | H42: 85.965 | J42: 1 | L42: =ROUND(I42*K42, 2) -> 0
A43: 31 | E43: KNRW 218/903/1 | F43: Montaż i demontaż konstrukcji podwieszeń rurociągów sieci gazowej, kolidujących z inwestycją | G43: kpl | H43: 1 | J43: 1 | L43: =ROUND(I43*K43, 2) -> 0
A44: 32 | E44: KNRW 218/901/1 | F44: Montaż i demontaż konstrukcji podwieszeń kabli energetycznych kolidujących z inwestycją | G44: kpl | H44: 1 | J44: 1 | L44: =ROUND(I44*K44, 2) -> 0
A45: 33 | E45: KNNR 1/313/1 | F45: Umocnienie ścian wykopów wraz z rozbiórką palami szalunkowymi stalowymi (wypraskami), w gruncie kategorii I-IV, | G45: m2 | H45: 693.26 | J45: 1 | L45: =ROUND(I45*K45, 2) -> 0
A46: 34 | E46: KNNR 11/501/5 | F46: Wykonanie podłoży i obsypki z kruszyw naturalnych dowiezionych z ich przesianiem pod montaż rur kanalizacyjnych | G46: m3 | H46: 78.017 | J46: 1 | L46: =ROUND(I46*K46, 2) -> 0
A47: 35 | E47: KNRW 218/408/5 | F47: Opuszczenie rur na dno wykopu, ułożenie i montaż kanału z rur PVC-lite DN315 mm z przycięciem, sprawdzenie i wyregulowanie niwelety | G47: m | H47: 141.3 | J47: 1 | L47: =ROUND(I47*K47, 2) -> 0
A48: 36 | E48: KNNR 4/1413/1 (1) | F48: Montaż studni rewizyjnych Fi 1000, z gotowych elementów, w gotowym wykopie, antykorozją powierzchni betonowych, z dnem monolitycznym, z stopniami złazowymi z konusem i włazem żeliwnym Fi 600 klasy D400 | G48: szt | H48: 6 | J48: 1 | L48: =ROUND(I48*K48, 2) -> 0
A49: 37 | E49: KNR 401/209/3 | F49: Wykonanie otworu w istniejącej studni rewizjne dla włączenia projektowanego kanału do istniejących studzienek | G49: m2 | H49: 0.06 | J49: 1 | L49: =ROUND(I49*K49, 2) -> 0
A50: 38 | E50: KNR 220/113/3 | F50: Zamocowanie w wykonanych otworach przejścia szczelnego włączenia kanału DN 315 DN 200_x005F_x005F_x000A_R = 0,955 M = 1,000 S = 1,000 | G50: szt | H50: 4 | J50: 1 | L50: =ROUND(I50*K50, 2) -> 0
A51: 39 | E51: KNR 218/804/4 (1) | F51: Wykonanie próby szczelności kanałów rurowych na infiltrację i eksfiltrację , kanał Dn·315·mm | G51: m | H51: 315 | J51: 1 | L51: =ROUND(I51*K51, 2) -> 0
A52: 40 | E52: KNNR 1/318/2 | F52: Zasypanie wykopów po ułożeniu sieci kanalizacyjnej kruszywem naturalnym piaskiem z kosztami pozyskania kruszywa | G52: m3 | H52: 351.805 | J52: 1 | L52: =ROUND(I52*K52, 2) -> 0
A53: 1.5 | D53: D-02.00.00. | E53: Grupa | F53: ROBOTY ZIEMNE | L53: ='1 BUDOWA DROGI GMINNEJ PUBLICZN'!L54+'1 BUDOWA DROGI GMINNEJ PUBLICZN'!L56 -> 0
A54: 1.5.1 | D54: D-02.01.01. | E54: Element | F54: Wykonanie wykopów w gruntach I-V kat | L54: =SUM(L55:L55) -> 0
A55: 41 | E55: KNNR 1/202/7 (2) | F55: Wykonanie wykopów z transportem w miejsce wybrane przez wykonawcę spełniające wymagania przepisów o gospodarce odpadami | G55: m3 | H55: 2710.075 | J55: 1 | L55: =ROUND(I55*K55, 2) -> 0
A56: 1.5.2 | D56: D-02.03.01. | E56: Element | F56: Wykonanie nasypów | L56: =SUM(L57:L57) -> 0
A57: 42 | E57: KNNR 1/402/1 (1); KNNR 1/206/4 (3); Kalkulacja indywidualna | F57: Formowanie i zagęszczanie nasypów z gruntu dostarczonego środkami transportu, grunt kategorii I-II z kosztami pozyskania gruntu bezwględnie nadającego się na nasyp | G57: m3 | H57: 540.745 | J57: 1 | L57: =ROUND(I57*K57, 2) -> 0
A58: 2 | D58: D-03.00.00. | E58: Grupa | F58: ODWODNIENIE KORPUSU DROGOWEGO | L58: ='1 BUDOWA DROGI GMINNEJ PUBLICZN'!L59 -> 0
A59: 2.1 | D59: D-03.02.01. | E59: Element | F59: Kanalizacja deszczowa | L59: =SUM(L60:L69) -> 0
A60: 43 | E60: KNNR 1/111/2 | F60: Roboty pomiarowe przy budowie sieci kanalizacyjnej | G60: km | H60: 0.356 | J60: 1 | L60: =ROUND(I60*K60, 2) -> 0
A61: 44 | E61: KNNR 1/202/4; KNNR 1/208/2 (1) | F61: Mechaniczne wykonanie wykopów z załadunkiem i transportem urobku , w miejsce składowania na hałdę, grunt kat III-IV - przyjęto 80% ogólnych robót ziemnych | G61: m3 | H61: 19.332 | J61: 1 | L61: =ROUND(I61*K61, 2) -> 0
A62: 45 | E62: KNNR 1/301/2 (1); KNNR 1/208/2 (1) | F62: Ręczne wykonanie wykopów z załadunkiem i transportem urobku , w miejsce składowania/utylizacji kategoria gruntu IV, przyjęto 20% ogólnych robót ziemnych | G62: m3 | H62: 4.833 | J62: 1 | L62: =ROUND(I62*K62, 2) -> 0
A63: 46 | E63: KNNR 11/501/5 | F63: Wykonanie podłoży i obsypki z kruszyw naturalnych dowiezionych z ich przesianiem pod montaż rur kanalizacyjnych | G63: m3 | H63: 16.019 | J63: 1 | L63: =ROUND(I63*K63, 2) -> 0
A64: 47 | E64: KNR 920/102/3 | F64: Opuszczenie rur na dno wykopu, ułożenie i montaż przykanalików z rur PVC Dn 200 mm, sprawdzenie i wyregulowanie niwelety, | G64: m | H64: 48.33 | J64: 1 | L64: =ROUND(I64*K64, 2) -> 0
A65: 48 | E65: KNNR 4/1424/1 | F65: Montaż studzienek ściekowych ulicznych z rusztem żeliwnym o średnicy 500 mm na fundamencie betonowym, z wykonaniem izolacji | G65: szt | H65: 23 | J65: 1 | L65: =ROUND(I65*K65, 2) -> 0
A66: 49 | E66: KNR 218/501/3 | F66: Wykonanie podłoża pod studnie rewizyjne z kruszywa naturalnego | G66: m2 | H66: 2.355 | J66: 1 | L66: =ROUND(I66*K66, 2) -> 0
A67: 50 | E67: KNNR 4/1413/1 (1) | F67: Montaż studni rewizyjnych Fi 1000, z gotowych elementów, w gotowym wykopie, antykorozją powierzchni betonowych, z dnem monolitycznym, z stopniami złazowymi z konusem i włazem żeliwnym Fi 600 klasy D400 | G67: szt | H67: 3 | J67: 1 | L67: =ROUND(I67*K67, 2) -> 0
A68: 51 | E68: KNR 231/602/1 | F68: Wykonanie ubezpieczenia wylotów przykanalików do rowu | G68: szt | H68: 23 | J68: 1 | L68: =ROUND(I68*K68, 2) -> 0
A69: 52 | E69: Kalkulacja indywiualna | F69: Zasypanie wykopów po ułożeniu sieci kanalizacyjnej kruszywem naturalnym piaskiem z kosztami pozyskania kruszywa | G69: m3 | H69: 8.146 | J69: 1 | L69: =ROUND(I69*K69, 2) -> 0
A70: 3 | D70: D-04.00.00. | E70: Grupa | F70: PODBUDOWY | L70: ='1 BUDOWA DROGI GMINNEJ PUBLICZN'!L71+'1 BUDOWA DROGI GMINNEJ PUBLICZN'!L73+'1 BUDOWA DROGI GMINNEJ PUBLICZN'!L76+'1 BUDOWA DROGI GMINNEJ PUBLICZN'!L79+'1 BUDOWA DROGI GMINNEJ PUBLICZN'!L81+'1 BUDOWA DROGI GMINNEJ PUBLICZN'!L83 -> 0
A71: 3.1 | D71: D-04.00.00. | E71: Element | F71: Profilowanie i zagęszczenie podłoża | L71: =SUM(L72:L72) -> 0
A72: 53 | E72: KNR 231/103/4 | F72: Profilowanie i zagęszczanie podłoża pod warstwy konstrukcyjne nawierzchni, mechanicznie, grunt kategorii I-IV | G72: m2 | H72: 4417 | J72: 1 | L72: =ROUND(I72*K72, 2) -> 0
A73: 3.2 | D73: D-04.03.01. | E73: Element | F73: Oczyszczenie i skropienie warstw konstrukcyjnych | L73: =SUM(L74:L75) -> 0
A74: 54 | E74: AT 3/202/1 | F74: Mechaniczne oczyszczenie i skropienie emulsją kationową szybkorozpadową warstw konstrukcyjnych nieulepszonych | G74: m2 | H74: 4417 | J74: 1 | L74: =ROUND(I74*K74, 2) -> 0
A75: 55 | E75: AT 3/202/2 | F75: Mechaniczne oczyszczenie i skropienie warstw konstrukcyjnych ulepszonych emulsją kationową szykorozpadową | G75: m2 | H75: 8834 | J75: 1 | L75: =ROUND(I75*K75, 2) -> 0
A76: 3.3 | D76: D-04.05.01. | E76: Element | F76: Ulepszone podłoże i podbudowy z mieszanek związanych spoiwem hydraulicznym | L76: =SUM(L77:L78) -> 0
A77: 56 | E77: # Kalkulacja indywidualna | F77: Wykonanie warstwy ulepszonego podłoża z gruntu stabilizowanego cementem, gruntocement przygotowywany w wytwórni o wytrzymałości Rm C0,4/0,5 grubość warstwy po zagęszczeniu 25 cm | G77: m2 | H77: 4417 | J77: 1 | L77: =ROUND(I77*K77, 2) -> 0
A78: 57 | E78: # Kalkulacja indywidualna | F78: Wykonanie warstwy mrozoochronnej z gruntu stabilizowanego cementem, gruntocement przygotowywany w wytwórni o wytrzymałości Rm C1,5/2,0 E2≥160MPa, grubość warstwy po zagęszczeniu 22 cm | G78: m2 | H78: 4417 | J78: 1 | L78: =ROUND(I78*K78, 2) -> 0
A79: 3.4 | D79: D-04.04.02. | E79: Element | F79: Podbudowy z mieszanki kruszyw niezwiązanych | L79: =SUM(L80:L80) -> 0
A80: 58 | E80: KNR 231/114/7; KNR 231/114/8 | F80: Wykonanie podbudowy z mieszanki kruszyw niezwiązanych 0-31,6 mm C90/3 E2≥160 MPa stabilizowanego mechanicznie, grubości 20 cm | G80: m2 | H80: 4417 | J80: 1 | L80: =ROUND(I80*K80, 2) -> 0
A81: 3.5 | D81: D-04.07.01 | E81: Element | F81: Podbudowa z betonu asfaltowego | L81: =SUM(L82:L82) -> 0
A82: 59 | E82: KNR 231/110/1; KNR 231/110/2 | F82: Wykonanie podbudowy z betonu asfaltowego AC16P, 35/50 stabilizowanego mechanicznie grubości 7·cm | G82: m2 | H82: 4417 | J82: 1 | L82: =ROUND(I82*K82, 2) -> 0
A83: 3.6 | D83: D-05.00.00. | E83: Grupa | F83: NAWIERZCHNIE | L83: ='1 BUDOWA DROGI GMINNEJ PUBLICZN'!L84+'1 BUDOWA DROGI GMINNEJ PUBLICZN'!L86 -> 0
A84: 3.6.1 | D84: D-05.03.05a. | E84: Element | F84: Nawierzchnie z betonu asfaltowego. Warstwa wiążąca | L84: =SUM(L85:L85) -> 0
A85: 60 | E85: KNR 231/310/1; KNR 231/310/2 | F85: Wykonanie warstwy wiążącej z betonu asfaltowego AC 16W PMB25/55-60, stabilizowanej mechanicznie, grubości 5·cm | G85: m2 | H85: 4417 | J85: 1 | L85: =ROUND(I85*K85, 2) -> 0
A86: 3.6.2 | D86: D-05.03.05b. | E86: Element | F86: Nawierzchnie z betonu asfaltowego. Warstwa ścieralna | L86: =SUM(L87:L87) -> 0
A87: 61 | E87: KNR 231/310/5; KNR 231/310/6 | F87: Wykonanie warstwy ścieralnej z betonu asfaltowego AC 11S PMB45/80-65, stabilizowanej mechanicznie, grubości 4·cm | G87: m2 | H87: 4417 | J87: 1 | L87: =ROUND(I87*K87, 2) -> 0
A88: 4 | D88: D-06.00.00. | E88: Grupa | F88: ROBOTY WYKOŃCZENIOWE | L88: ='1 BUDOWA DROGI GMINNEJ PUBLICZN'!L89+'1 BUDOWA DROGI GMINNEJ PUBLICZN'!L91+'1 BUDOWA DROGI GMINNEJ PUBLICZN'!L93 -> 0
A89: 4.1 | D89: D-06.01.01. | E89: Element | F89: Umocnienie powierzchniowe skarp narzutem kamiennym | L89: =SUM(L90:L90) -> 0
A90: 62 | E90: # Kalkulacja indywidualna | F90: Wykonanie umocnienia skarp narzutem kamiennym frakcji 10-20 cm | G90: m2 | H90: 1594 | J90: 1 | L90: =ROUND(I90*K90, 2) -> 0
A91: 4.2 | D91: D-06.01.03 | E91: Element | F91: Umocnienie rowów elementami prefabrykowanymi | L91: =SUM(L92:L92) -> 0
A92: 63 | E92: KNR 201/517/2 | F92: Umocnienie rowów elementami prefabrykowanymi betonowymi 70/44x59x50 na ławie z kruszywa naturalnego | G92: m | H92: 715.9 | J92: 1 | L92: =ROUND(I92*K92, 2) -> 0
A93: 4.3 | D93: D-07.00.00. | E93: Grupa | F93: OZNAKOWANIE DRÓG I URZĄDZENIA BEZPIECZEŃSTWA RUCHU | L93: ='1 BUDOWA DROGI GMINNEJ PUBLICZN'!L94+'1 BUDOWA DROGI GMINNEJ PUBLICZN'!L97+'1 BUDOWA DROGI GMINNEJ PUBLICZN'!L102+'1 BUDOWA DROGI GMINNEJ PUBLICZN'!L107 -> 0
A94: 4.3.1 | D94: D-07.01.01. | E94: Element | F94: Oznakowanie poziome | L94: =SUM(L95:L96) -> 0
A95: 64 | E95: KNR 231/706/3 | F95: Oznakowanie poziome jezdni cienkowarstwowe, linie segregacyjne i krawędziowe przerywane | G95: m2 | H95: 41.34 | J95: 1 | L95: =ROUND(I95*K95, 2) -> 0
A96: 65 | E96: KNR 231/706/2 | F96: Oznakowanie poziome jezdni cienkowarstwowe, linie segregacyjne i krawędziowe ciągłe | G96: m2 | H96: 152.88 | J96: 1 | L96: =ROUND(I96*K96, 2) -> 0
A97: 4.3.2 | D97: D-07.02.01. | E97: Element | F97: Oznakowanie pionowe | L97: =SUM(L98:L101) -> 0
A98: 66 | E98: # KNR 223/308/1 przez analogię | F98: Wykonanie fundamentów betonowych z betonu żwirowego dla zamontowania słupków do oznakowania pionowego - przyjęto 0,0375 m3/szt betonu do wykonanie fundamentu_x005F_x005F_x000A_R = 0,955 M = 1,000 S = 1,000 | G98: m3 | H98: 0.075 | J98: 1 | L98: =ROUND(I98*K98, 2) -> 0
A99: 67 | E99: KNR 231/702/1 | F99: Montaż słupków do przymocowania tablic znaków drogowych | G99: szt | H99: 2 | J99: 1 | L99: =ROUND(I99*K99, 2) -> 0
A100: 68 | E100: KNR 231/703/2 | F100: Montaż tablic znaków drogowych typu A - znaki średnie folia II generacji | G100: szt | H100: 2 | J100: 1 | L100: =ROUND(I100*K100, 2) -> 0
A101: 69 | E101: KNR 231/703/1 | F101: Montaż tablic znaków drogowych typu T - znaki średnie folia II generacji | G101: szt | H101: 2 | J101: 1 | L101: =ROUND(I101*K101, 2) -> 0
A102: 4.3.3 | D102: D-07.02.03. | E102: Element | F102: Przestawienie oznakowania pionowego | L102: =SUM(L103:L106) -> 0
A103: 70 | E103: KNR 231/703/3 | F103: Demontaż istniejących tablic znaków drogowych | G103: szt | H103: 1 | J103: 1 | L103: =ROUND(I103*K103, 2) -> 0
A104: 71 | E104: KNR 231/818/8 | F104: Demontaż istniejących słupków z rur stalowych do montażu tablic znaków drogowych | G104: szt | H104: 1 | J104: 1 | L104: =ROUND(I104*K104, 2) -> 0
A105: 72 | E105: KNR 231/702/2 | F105: Montaż słupków do przymocowania tablic znaków drogowych pochodzących z demontażu | G105: szt | H105: 1 | J105: 1 | L105: =ROUND(I105*K105, 2) -> 0
A106: 73 | E106: KNR 231/703/2 | F106: Przymocowanie tablic znaków drogowych pochodzących z demontażu do słupków | G106: szt | H106: 1 | J106: 1 | L106: =ROUND(I106*K106, 2) -> 0
A107: 4.3.4 | D107: D-07.05.01 | E107: Element | F107: Bariery ochronne stalowe | L107: =SUM(L108:L108) -> 0
A108: 74 | E108: KNR 231/704/1 | F108: Montaż bariery stalowej ochronnej SP-04, montaż zakończenia barier stalowych ochronnych | G108: m | H108: 854 | J108: 1 | L108: =ROUND(I108*K108, 2) -> 0
A109: 5 | D109: D-08.00.00 | E109: Grupa | F109: ELEMENTY ULIC | L109: ='1 BUDOWA DROGI GMINNEJ PUBLICZN'!L110+'1 BUDOWA DROGI GMINNEJ PUBLICZN'!L113+'1 BUDOWA DROGI GMINNEJ PUBLICZN'!L115+'1 BUDOWA DROGI GMINNEJ PUBLICZN'!L119 -> 0
A110: 5.1 | D110: D-08.01.01. | E110: Element | F110: Krawężniki betonowe | L110: =SUM(L111:L112) -> 0
...
