Workbook
Name Print_Area: 'Formularz Oferty'!$A$1:$H$100
Name Print_Area: 'Zadanie nr 1'!$A$1:$K$24
Name Print_Area: 'Zadanie nr 10'!$A$1:$K$16
Name Print_Area: 'Zadanie nr 11'!$A$1:$K$19
Name Print_Area: 'Zadanie nr 12'!$A$1:$K$17
Name Print_Area: 'Zadanie nr 13'!$A$1:$K$26
Name Print_Area: 'Zadanie nr 14'!$A$1:$K$15
Name Print_Area: 'Zadanie nr 15'!$A$1:$K$17
Name Print_Area: 'Zadanie nr 16'!$A$1:$K$32
Name Print_Area: 'Zadanie nr 17'!$A$1:$K$22
Name Print_Area: 'Zadanie nr 18'!$A$1:$K$36
Name Print_Area: 'Zadanie nr 19'!$A$1:$K$27
Name Print_Area: 'Zadanie nr 2'!$A$1:$K$19
Name Print_Area: 'Zadanie nr 20'!$A$1:$K$18
Name Print_Area: 'Zadanie nr 21'!$A$1:$K$35
Name Print_Area: 'Zadanie nr 22'!$A$1:$K$20
Name Print_Area: 'Zadanie nr 23'!$A$1:$K$17
Name Print_Area: 'Zadanie nr 24'!$A$1:$K$20
Name Print_Area: 'Zadanie nr 25'!$A$1:$K$22
Name Print_Area: 'Zadanie nr 26'!$A$1:$K$20
Name Print_Area: 'Zadanie nr 27'!$A$1:$K$17
Name Print_Area: 'Zadanie nr 28'!$A$1:$K$17
Name Print_Area: 'Zadanie nr 29'!$A$1:$K$19
Name Print_Area: 'Zadanie nr 3'!$A$1:$K$19
Name Print_Area: 'Zadanie nr 30'!$A$1:$K$23
Name Print_Area: 'Zadanie nr 31'!$A$1:$K$15
Name Print_Area: 'Zadanie nr 32'!$A$1:$K$15
Name Print_Area: 'Zadanie nr 33'!$A$1:$K$19
Name Print_Area: 'Zadanie nr 34'!$A$1:$K$15
Name Print_Area: 'Zadanie nr 38'!$A$1:$K$16
Name Print_Area: 'Zadanie nr 4'!$A$1:$K$24
Name Print_Area: 'Zadanie nr 5'!$A$1:$K$33
Name Print_Area: 'Zadanie nr 6'!$A$1:$K$17
Name Print_Area: 'Zadanie nr 7'!$A$1:$K$18
Name Print_Area: 'Zadanie nr 8'!$A$1:$K$17
Name Print_Area: 'Zadanie nr 9'!$A$1:$K$17

Sheet Formularz Oferty
B3: Sygnatura postępowania: | C3: ZP-271-16/20
B5: Przedmiot: | C5: Okresowe przeglądy techniczne aparatury i sprzętu medycznego
B7: Nazwa Wykonawcy:
B9: ulica: | D9: tel | F9: fax
B10: kod: | D10: miejscowość:
B12: NIP: | D12: REGON:
B14: e-mail | D14: nazwa banku i nr rachunku:
B16: Składamy ofertę na następujące części:
B18: Numer części: | C18: Temat: | D18: Cena brutto: | E18: Kwota VAT:
B19: ='Zadanie nr 1'!$C$2 -> 1 | C19: ='Zadanie nr 1'!$C$4 -> Aparaty EKG
B20: ='Zadanie nr 2'!$C$2 -> 2 | C20: ='Zadanie nr 2'!$C$4 -> Aparatura do histopatologii I
B21: ='Zadanie nr 3'!$C$2 -> 3 | C21: ='Zadanie nr 3'!$C$4 -> Aparatura do histopatologii II
B22: ='Zadanie nr 4'!$C$2 -> 4 | C22: ='Zadanie nr 4'!$C$4 -> Urządzenia Maquet
B23: ='Zadanie nr 5'!$C$2 -> 5 | C23: ='Zadanie nr 5'!$C$4 -> Sprzęt endoskopowy Olympus
B24: ='Zadanie nr 6'!$C$2 -> 6 | C24: ='Zadanie nr 6'!$C$4 -> Urządzenia laboratoryjne Becton Dickinson
B25: ='Zadanie nr 7'!$C$2 -> 7 | C25: ='Zadanie nr 7'!$C$4 -> Wstrzykiwacze kontrastu
B26: ='Zadanie nr 8'!$C$2 -> 8 | C26: ='Zadanie nr 8'!$C$4 -> Aparaty do znieczulania Draeger
B27: ='Zadanie nr 9'!$C$2 -> 9 | C27: ='Zadanie nr 9'!$C$4 -> Aparaty do znieczulania Anmedic
B28: ='Zadanie nr 10'!$C$2 -> 10 | C28: ='Zadanie nr 10'!$C$4 -> Aparaty elektrochirurgiczne Emed
B29: ='Zadanie nr 11'!$C$2 -> 11 | C29: ='Zadanie nr 11'!$C$4 -> Aparaty elektrochirurgiczne Valleylab
B30: ='Zadanie nr 12'!$C$2 -> 12 | C30: ='Zadanie nr 12'!$C$4 -> Aparaty elektrochirurgiczne Erbe
B31: ='Zadanie nr 13'!$C$2 -> 13 | C31: ='Zadanie nr 13'!$C$4 -> Aparaty USG
B32: ='Zadanie nr 14'!$C$2 -> 14 | C32: ='Zadanie nr 14'!$C$4 -> Respirator Viasys
B33: ='Zadanie nr 15'!$C$2 -> 15 | C33: ='Zadanie nr 15'!$C$4 -> Detektory promieniowania gamma
B34: ='Zadanie nr 16'!$C$2 -> 16 | C34: ='Zadanie nr 16'!$C$4 -> Zestawy laparoskopowe Aesculap
B35: ='Zadanie nr 17'!$C$2 -> 17 | C35: ='Zadanie nr 17'!$C$4 -> Mikrotomy
B36: ='Zadanie nr 18'!$C$2 -> 18 | C36: ='Zadanie nr 18'!$C$4 -> Urządzenia Mindray
B37: ='Zadanie nr 19'!$C$2 -> 19 | C37: ='Zadanie nr 19'!$C$4 -> Sprzęt monitorowania parametrów życiowych
B38: ='Zadanie nr 20'!$C$2 -> 20 | C38: ='Zadanie nr 20'!$C$4 -> Defibrylatory
B39: ='Zadanie nr 21'!$C$2 -> 21 | C39: ='Zadanie nr 21'!$C$4 -> Pompy infuzyjne Braun
B40: ='Zadanie nr 22'!$C$2 -> 22 | C40: ='Zadanie nr 22'!$C$4 -> Myjnie endoskopowe, szafa do suszenia endoskopów
B41: ='Zadanie nr 23'!$C$2 -> 23 | C41: ='Zadanie nr 23'!$C$4 -> Sterylizator plazmowy
B42: ='Zadanie nr 24'!$C$2 -> 24 | C42: ='Zadanie nr 24'!$C$4 -> Urządzenia sterylizacji parowej
B43: ='Zadanie nr 25'!$C$2 -> 25 | C43: ='Zadanie nr 25'!$C$4 -> Urządzenia Centralnej Sterylizatorni
B44: ='Zadanie nr 26'!$C$2 -> 26 | C44: ='Zadanie nr 26'!$C$4 -> Komory laminarne
B45: ='Zadanie nr 27'!$C$2 -> 27 | C45: ='Zadanie nr 27'!$C$4 -> Aparaty rtg Siemens
B46: ='Zadanie nr 28'!$C$2 -> 28 | C46: ='Zadanie nr 28'!$C$4 -> Mammograf, kardiomonitor GE
B47: ='Zadanie nr 29'!$C$2 -> 29 | C47: ='Zadanie nr 29'!$C$4 -> Urządzenia ZdAJ
B48: ='Zadanie nr 30'!$C$2 -> 30 | C48: ='Zadanie nr 30'!$C$4 -> Inkubatory CO2, cieplarki Incucell
B49: ='Zadanie nr 31'!$C$2 -> 31 | C49: ='Zadanie nr 31'!$C$4 -> Cytometr przepływowy
...

Sheet Zadanie nr 1
B2: Część | C2: 1
A4: Temat: | C4: Aparaty EKG
B6: Szczegółowy podział zadania:
A8: Nr | B8: Nazwa/ Model | C8: Nr seryjny | D8: Rok produkcji | E8: Przegląd do | F8: Cena netto | G8: Stawka podatku VAT | H8: Cena brutto
A9: 1 | B9: AsCARD Mr BLUE | C9: 150/06 | D9: 2006 | E9: 44077
A10: 2 | B10: AsCARD Mr BLUE | C10: 228/07/A | D10: 2007 | E10: 44077
A11: 3 | B11: AsCARD Mr BLUE | C11: 64/06 | D11: 2006 | E11: 44077
A12: 4 | B12: AsCARD Mr BLUE | C12: 703/08 | D12: 2008 | E12: 44077
A13: 5 | B13: AsCARD Mr BLUE | C13: 227/07/A | D13: 2007 | E13: 44077
A14: 6 | B14: DELTA + | C14: MVis000377 | D14: 1998 | E14: 44077
A15: 7 | B15: M-Trace | C15: 0490 | D15: 2010 | E15: 44077
A16: 8 | B16: M-Trace | C16: 0633 | D16: 2010 | E16: 44077
A17: 9 | B17: M-Trace | C17: 0274 | D17: 2009 | E17: 44077
A18: 10 | B18: M-Trace | C18: 1386 | D18: 2012 | E18: 44077
B19: Przegląd zgodny z wymaganiami producenta obejmujący min. czyszczenie, kalibrację i testy kontrolne, sprawdzenie zgodności parametrów funkcjonalnych urządzeń z deklarowanymi przez producenta, sprawdzenie poprawności działania zgodnie z normami bezpieczeństwa zalecanymi przez producenta, konserwację zgodnie z zaleceniami producenta, testy bezpieczeństwa elektrycznego. Koszt przeglądu obejmuje koszty dojazdu. | G19: TAK
B20: Poszczególne przeglądy zostaną udokumentowane kartą pracy/raportem serwisowym, oraz wpisem do paszportu technicznego, a wyniki testu bezpieczeństwa elektrycznego na oddzielnym protokole. Aparaty zostaną oznakowane nalepką z terminem wykonania kolejnego przeglądu. | G20: TAK
B21: Wykonawca posiada uprawnienia serwisowe lub szkolenia serwisowe wystawione przez co najmniej 1-go (dowolnego) producenta aparatów EKG, uprawniające do wykonywania przeglądów i napraw. | G21: TAK
A23: Cena brutto razem: | C23: =SUM(H9:H18) -> 0 | F23: Kwota VAT:
A24: cena brutto słownie:

Sheet Zadanie nr 2
B2: Część | C2: 2
A4: Temat: | C4: Aparatura do histopatologii I
B6: Szczegółowy podział zadania:
A8: Nr | B8: Nazwa/ Model | C8: Nr seryjny | D8: Rok produkcji | E8: Przegląd do | F8: Cena netto | G8: Stawka podatku VAT | H8: Cena brutto
A9: 1 | B9: Kriostat LEICA CM1900 | C9: 1398 | D9: 2000 | E9: 44057
A10: 2 | B10: Mikrotom LEICA RM2135 | C10: 775 | D10: 1997 | E10: 44057
A11: 3 | B11: Mikrotom LEICA SM2000R | C11: 1291 | D11: 1998 | E11: 44057
B12: Przegląd zgodny z wymaganiami producenta obejmujący min. czyszczenie, sprawdzenie bezpieczeństwa mechanicznego i elektrycznego, kontrolę zużycia części i wyposażenia, sprawdzenie poprawności ogólnego funkcjonowania aparatu, kalibrację i testy kontrolne, sprawdzenie zgodności parametrów funkcjonalnych urządzeń z deklarowanymi przez producenta, sprawdzenie poprawności działania zgodnie z normami bezpieczeństwa zalecanymi przez producenta, konserwację zgodnie z zaleceniami producenta, testy bezpieczeństwa elektrycznego. Koszt przeglądu obejmuje koszty dojazdu. | G12: TAK
B13: Poszczególne przeglądy zostaną udokumentowane kartą pracy/raportem serwisowym, oraz wpisem do paszportu technicznego, a wyniki testu bezpieczeństwa elektrycznego na oddzielnym protokole. Aparaty zostaną oznakowane nalepką z terminem wykonania kolejnego przeglądu. | G13: TAK
B14: Wykonawca posiada uprawnienia serwisowe lub szkolenia serwisowe wystawione przez co najmniej 1-go (dowolnego) producenta urządzeń histopatologicznych, uprawniające do wykonywania przeglądów i napraw. | G14: TAK
A18: Cena brutto razem: | F18: Kwota VAT:
A19: cena brutto słownie:

Sheet Zadanie nr 3
B2: Część | C2: 3
A4: Temat: | C4: Aparatura do histopatologii II
B6: Szczegółowy podział zadania:
A8: Nr | B8: Nazwa/ Model | C8: Nr seryjny | D8: Rok produkcji | E8: Przegląd do | F8: Cena netto | G8: Stawka podatku VAT | H8: Cena brutto
A9: 1 | B9: Procesor tkankowy Excelsior | C9: EX24250707 | D9: 2007 | E9: 44086
A10: 2 | B10: Barwiarka Varistain Gemini | C10: PH1059E0706 | D10: 2007 | E10: 44086
A11: 3 | B11: Zaklejarka GCS 600 | C11: 2023132 | D11: 2007 | E11: 44086
A12: 4 | B12: Stacja do zatapiania tkanek Histostar | C12: HS3139A1511 | D12: 2015 | E12: 44086
B13: Przegląd zgodny z wymaganiami producenta obejmujący min. czyszczenie, sprawdzenie bezpieczeństwa mechanicznego i elektrycznego, kontrolę zużycia części i wyposażenia, sprawdzenie poprawności ogólnego funkcjonowania aparatu, kalibrację i testy kontrolne, sprawdzenie zgodności parametrów funkcjonalnych urządzeń z deklarowanymi przez producenta, sprawdzenie poprawności działania zgodnie z normami bezpieczeństwa zalecanymi przez producenta, konserwację zgodnie z zaleceniami producenta, testy bezpieczeństwa elektrycznego. Przegląd obejmuje min. wymianę elementów – filter formaldehyde – 2 szt., filter vapour, akumulator 12V/12Ah – 2 szt. do procesora Excelsior, filter vapour, akumulator 12V/12Ah do barwiarki Gemini. Koszt przeglądu obejmuje koszty dojazdu. | G13: TAK
B14: Poszczególne przeglądy zostaną udokumentowane kartą pracy/raportem serwisowym, oraz wpisem do paszportu technicznego, a wyniki testu bezpieczeństwa elektrycznego na oddzielnym protokole. Aparaty zostaną oznakowane nalepką z terminem wykonania kolejnego przeglądu. | G14: TAK
B15: Wykonawca posiada uprawnienia serwisowe lub szkolenia serwisowe wystawione przez co najmniej 1-go (dowolnego) producenta urządzeń histopatologicznych, uprawniające do wykonywania przeglądów i napraw. | G15: TAK
A18: Cena brutto razem: | F18: Kwota VAT:
A19: cena brutto słownie:

Sheet Zadanie nr 4
B2: Część | C2: 4
A4: Temat: | C4: Urządzenia Maquet
B6: Szczegółowy podział zadania:
A8: Nr | B8: Nazwa/ Model | C8: Nr seryjny | D8: Rok produkcji | E8: Przegląd do | F8: Cena netto | G8: Stawka podatku VAT | H8: Cena brutto
A9: 1 | B9: Aphastar Pro | C9: 00256 | D9: 2014 | E9: 44182
A10: 2 | B10: Aphastar Pro | C10: 00257 | D10: 2014 | E10: 44182
A11: 3 | B11: Aphastar Pro | C11: 00268 | D11: 2014 | E11: 44182
A12: 4 | B12: Alphamaquet 1150 | C12: 02710 | D12: 2013 | E12: 44104
A13: 5 | B13: Volista 600/400 | C13: AR029000/ AR028047 | D13: 2014 | E13: 44182
A14: 6 | B14: Volista 600/400 | C14: AR025074/ AR025065 | D14: 2014 | E14: 44182
A15: 7 | B15: Modutec MM 6-6 BP | C15: SUQ822810 | D15: 2014 | E15: 44182
A16: 8 | B16: Modutec MM 6-6 BP | C16: SUQ822809 | D16: 2014 | E16: 44182
A17: 9 | B17: Modutec HM 9-9 BP | C17: SUQ822811 | D17: 2014 | E17: 44182
A18: 10 | B18: Modutec HM 9-9 BP | C18: SUQ822812 | D18: 2014 | E18: 44182
B19: Przegląd zgodny z wymaganiami producenta obejmujący min. czyszczenie, sprawdzenie bezpieczeństwa mechanicznego i elektrycznego, smarowanie ruchomych części mechanicznych, kontrolę zużycia części i wyposażenia, sprawdzenie poprawności ogólnego funkcjonowania aparatu, kalibrację i testy kontrolne, sprawdzenie zgodności parametrów funkcjonalnych urządzeń z deklarowanymi przez producenta, sprawdzenie poprawności działania zgodnie z normami bezpieczeństwa zalecanymi przez producenta, konserwację zgodnie z zaleceniami producenta, testy bezpieczeństwa elektrycznego. Koszt przeglądu obejmuje koszty dojazdu. | G19: TAK
B20: Poszczególne przeglądy zostaną udokumentowane kartą pracy/raportem serwisowym, oraz wpisem do paszportu technicznego, a wyniki testu bezpieczeństwa elektrycznego na oddzielnym protokole. Aparaty zostaną oznakowane nalepką z terminem wykonania kolejnego przeglądu. | G20: TAK
B21: Wykonawca posiada uprawnienia serwisowe lub szkolenia serwisowe wystawione przez co najmniej 1-go (dowolnego) producenta stołów operacyjnych, potwierdzające uprawnienia do wykonywania czynności serwisowych. | G21: TAK
A23: Cena brutto razem: | C23: =SUM(H9:H18) -> 0 | F23: Kwota VAT:
A24: cena brutto słownie:

Sheet Zadanie nr 5
B2: Część | C2: 5
A4: Temat: | C4: Sprzęt endoskopowy Olympus
B6: Szczegółowy podział zadania:
A8: Nr | B8: Nazwa/ Model | C8: Nr seryjny | D8: Rok produkcji | E8: Przegląd do | F8: Cena netto | G8: Stawka podatku VAT | H8: Cena brutto
A9: 1 | B9: BF-XT160 | C9: 2500407 | D9: 2005 | E9: 44280
A10: 2 | B10: BF-1T160 | C10: 2512928 | D10: 2005 | E10: 44280
A11: 3 | B11: GIF-Q180 | C11: 2707212 | D11: 2007 | E11: 44341
A12: 4 | B12: URF-P5 | C12: W900431 | D12: 2009 | E12: 44280
A13: 5 | B13: CYF-VHA | C13: 2400846 | D13: 2014 | E13: 44135
A14: 6 | B14: GIF-H190 | C14: 2414276 | D14: 2014 | E14: 44280
A15: 7 | B15: CF-H185L | C15: 2731449 | D15: 2017 | E15: 44260
A16: 8 | B16: CF-H185L | C16: 2731452 | D16: 2017 | E16: 44216
A17: 9 | B17: ="OFP-2" -> OFP-2 | C17: ="21413143" -> 21413143 | D17: 2014 | E17: 44135
A18: 10 | B18: ="OFP-2" -> OFP-2 | C18: ="21411277" -> 21411277 | D18: 2014 | E18: 44135
A19: 11 | B19: ="CV-160" -> CV-160 | C19: ="7539116" -> 7539116 | D19: 2006 | E19: 44135
A20: 12 | B20: ="CV-190" -> CV-190 | C20: ="7455791" -> 7455791 | D20: 2014 | E20: 44135
A21: 13 | B21: ="CV-190" -> CV-190 | C21: ="7406699" -> 7406699 | D21: 2014 | E21: 44135
A22: 14 | B22: ="Wózek endoskopowy" -> Wózek endoskopowy | C22: ="802-59-1" -> 802-59-1 | D22: 2006 | E22: 44135
A23: 15 | B23: ="WM-NP2" -> WM-NP2 | C23: ="21415444" -> 21415444 | D23: 2014 | E23: 44135
A24: 16 | B24: ="WM-NP2" -> WM-NP2 | C24: ="21416379" -> 21416379 | D24: 2014 | E24: 44135
A25: 17 | B25: ="CLV-160" -> CLV-160 | C25: ="7546609" -> 7546609 | D25: 2006 | E25: 44135
A26: 18 | B26: ="CLV-190" -> CLV-190 | C26: ="7406764" -> 7406764 | D26: 2014 | E26: 44135
A27: 19 | B27: ="CLV-190" -> CLV-190 | C27: ="7455798" -> 7455798 | D27: 2014 | E27: 44135
B28: Przegląd zgodny z wymaganiami producenta obejmujący min. czyszczenie, sprawdzenie bezpieczeństwa mechanicznego i elektrycznego, kontrolę zużycia części i wyposażenia, sprawdzenie poprawności ogólnego funkcjonowania aparatu, kalibrację i testy kontrolne, sprawdzenie zgodności parametrów funkcjonalnych urządzeń z deklarowanymi przez producenta, sprawdzenie poprawności działania zgodnie z normami bezpieczeństwa zalecanymi przez producenta, konserwację zgodnie z zaleceniami producenta, testy bezpieczeństwa elektrycznego. Wykonawca w ramach przeglądu zobowiązuje się do przygotowania bieżących zaleceń eksploatacyjnych związanych ze stanem aparatów oraz ich dalszym użytkowaniem. Wykonawca zobowiązuje się do wykonania ekspertyz technicznych związanych z wykrytymi usterkami oraz kosztorysu naprawy. Wykonawca zobowiązuje się do zwrotu endoskopów w nie pogorszonym stanie technicznym, wszelkie działania mogące pogorszyć stan techniczny endoskopów muszą być wcześniej uzgadniane z Zamawiającym. | G28: TAK
B29: Poszczególne przeglądy zostaną udokumentowane kartą pracy/raportem serwisowym, oraz wpisem do paszportu technicznego, a wyniki testu bezpieczeństwa elektrycznego na oddzielnym protokole. Aparaty zostaną oznakowane nalepką z terminem wykonania kolejnego przeglądu. Koszt przeglądu obejmuje koszty dojazdu lub wysyłki. W przypadku wysyłki, fakt pobrania sprzętu do przeglądu i odbioru sprzętu po przeglądzie zostanie potwierdzony pokwitowaniem z zaznaczeniem nazwy, typu i numeru fabrycznego sprzętu. Wykonawca ponosi pełną odpowiedzialność za przewożony sprzęt. | G29: TAK
B30: Wykonawca posiada uprawnienia serwisowe lub szkolenia serwisowe wystawione przez co najmniej 1-go (dowolnego) producenta sprzętu endoskopowego, uprawniające do wykonywania przeglądów i napraw. | G30: TAK
A32: Cena brutto razem: | C32: =SUM(H9:H27) -> 0 | F32: Kwota VAT:
A33: cena brutto słownie:

Sheet Zadanie nr 6
B2: Część | C2: 6
A4: Temat: | C4: Urządzenia laboratoryjne Becton Dickinson
A6: Szczegółowy podział zadania:
A8: Nr | B8: Nazwa/ Model | C8: Nr seryjny | D8: Rok produkcji | E8: Przegląd do | F8: Cena netto | G8: Stawka podatku VAT | H8: Cena brutto
A9: 1 | B9: Phoenix M50 | C9: PF0440 | D9: 2017 | E9: 44175
A10: 2 | B10: Bactec FX40 | C10: FF2639 | D10: 2017 | E10: 44175
A11: 3 | B11: Bactec FX40 | C11: FF2640 | D11: 2017 | E11: 44175
B12: Przegląd zgodny z wymaganiami producenta obejmujący min. czyszczenie, sprawdzenie bezpieczeństwa mechanicznego i elektrycznego, kontrolę zużycia części i wyposażenia, sprawdzenie poprawności ogólnego funkcjonowania aparatu, kalibrację i testy kontrolne, sprawdzenie zgodności parametrów funkcjonalnych urządzenia z deklarowanymi przez producenta, sprawdzenie poprawności działania zgodnie z normami bezpieczeństwa zalecanymi przez producenta, konserwację zgodnie z zaleceniami producenta, testy bezpieczeństwa elektrycznego. Przegląd obejmuje min. wymianę części zamiennnych w aparacie Phoenix M50 (Phoenix Normalizer Panel - 2 szt.). Koszt przeglądu obejmuje koszty dojazdu. | G12: TAK
B13: Poszczególne przeglądy zostaną udokumentowane kartą pracy/raportem serwisowym, oraz wpisem do paszportu technicznego, a wyniki testu bezpieczeństwa elektrycznego na oddzielnym protokole. Aparaty zostaną oznakowane nalepką z terminem wykonania kolejnego przeglądu. | G13: TAK
B14: Wykonawca posiada uprawnienia serwisowe lub szkolenia serwisowe wystawione przez co najmniej 1-go (dowolnego) producenta aparatów do posiewu krwi, uprawniające do wykonywania przeglądów i napraw. | G14: TAK
A16: Cena brutto: | F16: Kwota VAT:
A17: cena brutto słownie:

Sheet Zadanie nr 7
B2: Część | C2: 7
A4: Temat: | C4: Wstrzykiwacze kontrastu
B6: Szczegółowy podział zadania:
A8: Nr | B8: Nazwa/ Model | C8: Nr seryjny | D8: Rok produkcji | E8: Przegląd do | F8: Cena netto | G8: Stawka podatku VAT | H8: Cena brutto
A9: 1 | B9: Optivantage DH | C9: CI0312B562 | D9: 2012 | E9: 44140
A10: 2 | B10: Optivantage DH | C10: CI0312B517 | D10: 2012 | E10: 44077
A11: 3 | B11: Optivantage DH | C11: CI0107B519 | D11: 2007 | E11: 44276
A12: 4 | B12: Optistar Elite | C12: CI0610D008 | D12: 2010 | E12: 44077
B13: Przegląd zgodny z wymaganiami producenta obejmujący min. czyszczenie, sprawdzenie bezpieczeństwa mechanicznego i elektrycznego, kontrolę zużycia części i wyposażenia, sprawdzenie poprawności ogólnego funkcjonowania aparatu, kalibrację i testy kontrolne, sprawdzenie zgodności parametrów funkcjonalnych urządzenia z deklarowanymi przez producenta, sprawdzenie poprawności działania zgodnie z normami bezpieczeństwa zalecanymi przez producenta, konserwację zgodnie z zaleceniami producenta, testy bezpieczeństwa elektrycznego. Koszt przeglądu obejmuje koszty dojazdu. | G13: TAK
B14: Poszczególne przeglądy zostaną udokumentowane kartą pracy/raportem serwisowym, oraz wpisem do paszportu technicznego, a wyniki testu bezpieczeństwa elektrycznego na oddzielnym protokole. Aparaty zostaną oznakowane nalepką z terminem wykonania kolejnego przeglądu. | G14: TAK
B15: Wykonawca posiada uprawnienia serwisowe lub szkolenia serwisowe wystawione przez co najmniej 1-go (dowolnego) producenta wstrzykiwaczy kontrastu, uprawniające do wykonywania przeglądów i napraw. | G15: TAK
A17: Cena brutto: | C17: =SUM(H9:H12) -> 0 | F17: Kwota VAT:
A18: cena brutto słownie:

Sheet Zadanie nr 8
B2: Część | C2: 8
A4: Temat: | C4: Aparaty do znieczulania Draeger
B6: Szczegółowy podział zadania:
A8: Nr | B8: Nazwa/ Model | C8: Nr seryjny | D8: Rok produkcji | E8: Przegląd do | F8: Cena netto | G8: Stawka podatku VAT | H8: Cena brutto
A9: 1 | B9: Primus + monitor Infinity Delta | C9: ASDJ-0110 | D9: 2012 | E9: 2020-07-30, drugi po 6 miesiącach
A10: 2 | B10: Primus + monitor Infinity Delta | C10: ASAK-0172 | D10: 2009 | E10: 2020-07-30, drugi po 6 miesiącach
A11: 3 | B11: Primus | C11: ASFJ-0047 | D11: 2014 | E11: 2020-07-30, drugi po 6 miesiącach
B12: Przeglądy zgodnie z wymaganiami producenta obejmujące min. czyszczenie, kalibrację i testy kontrolne, sprawdzenie zgodności parametrów funkcjonalnych urządzeń z deklarowanymi przez producenta, sprawdzenie poprawności działania zgodnie z normami bezpieczeństwa zalecanymi przez producenta, konserwację zgodnie z zaleceniami producenta, testy bezpieczeństwa elektrycznego. Przeglądy wykonywane przy użyciu zalecanych przez producenta urządzeń kontrolnopomiarowych posiadających aktualne świadectwa kalibracji/wzorcowania. Przeglądy obejmują min. wymianę elementów – zestaw 2-letni Primus (1 szt.), zestaw 1-roczny Primus (2 szt.), filtr 37 mm - 3 szt, uszczelki (3 szt.), Lithium-ion battery (2 szt.) do monitorów Infinity Delta, moduł przewodowy Multimed 5 2,5 m (1 szt.), przewód EKG, 3-odpr, 2-pinowy, IEC1 (2 szt.), przedłużacz SpO2 Drager/Nellcor do Multimed 5 (1 szt.), czujnik SpO2 Drager na palec (1 szt.), czujnik SpO2 Masimo LNCS na palec z przedłużaczem, dren łączący NIPC do monitora Infinity (1 szt.), mankiet NIPC, rozmiar 23-33 cm (3 szt.), pułapka wodna (36 szt.). Koszt przeglądów obejmuje koszty dojazdu. | G12: TAK
B13: Poszczególne przeglądy zostaną udokumentowane kartą pracy/raportem serwisowym, oraz wpisem do paszportu technicznego, a wyniki testu bezpieczeństwa elektrycznego na oddzielnym protokole. Aparaty zostaną oznakowane nalepką z terminem wykonania kolejnego przeglądu. | G13: TAK
B14: Wykonawca posiada uprawnienia serwisowe lub szkolenia serwisowe wystawione przez producenta ww. aparatów lub autoryzowanego przedstawiciela, uprawniające do wykonywania przeglądów i napraw. | G14: TAK
A16: Cena brutto razem: | F16: Kwota VAT:
A17: cena brutto słownie:

Sheet Zadanie nr 9
B2: Część | C2: 9
A4: Temat: | C4: Aparaty do znieczulania Anmedic
B6: Szczegółowy podział zadania:
A8: Nr | B8: Nazwa/ Model | C8: Nr seryjny | D8: Rok produkcji | E8: Przegląd do | F8: Cena netto | G8: Stawka podatku VAT | H8: Cena brutto
A9: 1 | B9: Falcon SE | C9: 511163 | D9: 2006 | E9: 44043
A10: 2 | B10: Falcon SE | C10: 511165 | D10: 2006 | E10: 44043
B11: Przegląd zgodny z wymaganiami producenta obejmujący min. czyszczenie, kalibrację i testy kontrolne, sprawdzenie zgodności parametrów funkcjonalnych urządzeń z deklarowanymi przez producenta, sprawdzenie poprawności działania zgodnie z normami bezpieczeństwa zalecanymi przez producenta, konserwację zgodnie z zaleceniami producenta, testy bezpieczeństwa elektrycznego. Koszt przeglądu obejmuje koszty dojazdu. | G11: TAK
B12: Poszczególne przeglądy zostaną udokumentowane kartą pracy/raportem serwisowym, oraz wpisem do paszportu technicznego, a wyniki testu bezpieczeństwa elektrycznego na oddzielnym protokole. Aparaty zostaną oznakowane nalepką z terminem wykonania kolejnego przeglądu. | G12: TAK
B13: Wykonawca posiada uprawnienia serwisowe lub szkolenia serwisowe wystawione przez producenta ww. aparatów lub autoryzowanego przedstawiciela, uprawniające do wykonywania przeglądów i napraw. | G13: TAK
A16: Cena brutto razem: | C16: =SUM(H9:H10) -> 0 | F16: Kwota VAT:
A17: cena brutto słownie:

Sheet Zadanie nr 10
B2: Część | C2: 10
A4: Temat: | C4: Aparaty elektrochirurgiczne Emed
B6: Szczegółowy podział zadania:
A8: Nr | B8: Nazwa/ Model | C8: Nr seryjny | D8: Rok produkcji | E8: Przegląd do | F8: Cena netto | G8: Stawka podatku VAT | H8: Cena brutto
A9: 1 | B9: ES 120 | C9: 12581 | D9: 2007 | E9: 44226
A10: 2 | B10: ES 300 | C10: 30828 | D10: 2009 | E10: 44209
B11: Przegląd zgodny z wymaganiami producenta obejmujący min. pomiary mocy wyjściowych dla poszczególnych gniazd i trybów pracy, czyszczenie wnętrza i ocena stanu elementów sterujących, kontrola aktywacji, konserwację zgodnie z zaleceniami producenta, testy bezpieczeństwa elektrycznego. | G11: TAK
B12: Poszczególne przeglądy zostaną udokumentowane kartą pracy/raportem serwisowym, oraz wpisem do paszportu technicznego, a wyniki testu bezpieczeństwa elektrycznego na oddzielnym protokole. Aparaty zostaną oznakowane nalepką z terminem wykonania kolejnego przeglądu. Koszt przeglądu obejmuje koszty dojazdu lub wysyłki. W przypadku wysyłki Wykonawca ponosi pełną odpowiedzialność za przewożony sprzęt. | G12: TAK
B13: Wykonawca posiada uprawnienia serwisowe lub szkolenia serwisowe wystawione przez producenta ww. aparatów lub autoryzowanego przedstawiciela, uprawniające do wykonywania przeglądów i napraw. | G13: TAK
A15: Cena brutto razem: | C15: =SUM(H9:H10) -> 0 | F15: Kwota VAT:
A16: cena brutto słownie:

Sheet Zadanie nr 11
B2: Część | C2: 11
A4: Temat: | C4: Aparaty elektrochirurgiczne Valleylab
B6: Szczegółowy podział zadania:
A8: Nr | B8: Nazwa/ Model | C8: Nr seryjny | D8: Rok produkcji | E8: Przegląd do | F8: Cena netto | G8: Stawka podatku VAT | H8: Cena brutto
A9: 1 | B9: FORCE EZ | C9: F0I4536B | D9: 2001 | E9: 44128
A10: 2 | B10: FORCE EZ-8C | C10: F7L10768B | D10: 2007 | E10: 44128
A11: 3 | B11: Force Triad | C11: T1K25934EX | D11: 2011 | E11: 44346
A12: 4 | B12: Force Triad | C12: T4C40440EX | D12: 2014 | E12: 44128
A13: 5 | B13: Force Argon II-8 | C13: G4D2949UX | D13: 2014 | E13: 2020-10-24, drugi po 6 miesiącach
B14: Przegląd zgodny z wymaganiami producenta obejmujący min. pomiary mocy wyjściowych dla poszczególnych gniazd i trybów pracy, czyszczenie wnętrza i ocena stanu elementów sterujących, kontrola aktywacji, konserwację zgodnie z zaleceniami producenta, testy bezpieczeństwa elektrycznego. | G14: TAK
B15: Poszczególne przeglądy zostaną udokumentowane kartą pracy/raportem serwisowym, oraz wpisem do paszportu technicznego, a wyniki testu bezpieczeństwa elektrycznego na oddzielnym protokole. Aparaty zostaną oznakowane nalepką z terminem wykonania kolejnego przeglądu. Koszt przeglądu obejmuje koszty dojazdu lub wysyłki. W przypadku wysyłki Wykonawca ponosi pełną odpowiedzialność za przewożony sprzęt. | G15: TAK
B16: Wykonawca posiada uprawnienia serwisowe lub szkolenia serwisowe wystawione przez producenta ww. aparatów lub autoryzowanego przedstawiciela, uprawniające do wykonywania przeglądów i napraw. | G16: TAK
A18: Cena brutto razem: | C18: =SUM(H9:H13) -> 0 | F18: Kwota VAT:
A19: cena brutto słownie:

Sheet Zadanie nr 12
B2: Część | C2: 12
A4: Temat: | C4: Aparaty elektrochirurgiczne Erbe
B6: Szczegółowy podział zadania:
A8: Nr | B8: Nazwa/ Model | C8: Nr seryjny | D8: Rok produkcji | E8: Przegląd do | F8: Cena netto | G8: Stawka podatku VAT | H8: Cena brutto
A9: 1 | B9: VIO 300D | C9: 11317371 | D9: 2010 | E9: 44108
A10: 2 | B10: VIO 300D | C10: 11383082 | D10: 2014 | E10: 44108
A11: 3 | B11: APC2 | C11: 11379886 | D11: 2014 | E11: 44108
B12: Przegląd zgodny z wymaganiami producenta obejmujący min. pomiary mocy wyjściowych dla poszczególnych gniazd i trybów pracy, czyszczenie wnętrza i ocena stanu elementów sterujących, kontrola aktywacji, konserwację zgodnie z zaleceniami producenta, testy bezpieczeństwa elektrycznego. | G12: TAK
B13: Poszczególne przeglądy zostaną udokumentowane kartą pracy/raportem serwisowym, oraz wpisem do paszportu technicznego, a wyniki testu bezpieczeństwa elektrycznego na oddzielnym protokole. Aparaty zostaną oznakowane nalepką z terminem wykonania kolejnego przeglądu. Koszt przeglądu obejmuje koszty dojazdu. | G13: TAK
B14: Wykonawca posiada uprawnienia serwisowe lub szkolenia serwisowe wystawione przez producenta ww. aparatów lub autoryzowanego przedstawiciela, uprawniające do wykonywania przeglądów i napraw. | G14: TAK
A16: Cena brutto razem: | C16: =SUM(H9:H11) -> 0 | F16: Kwota VAT:
A17: cena brutto słownie:

Sheet Zadanie nr 13
B2: Część | C2: 13
A4: Temat: | C4: Aparaty USG
B6: Szczegółowy podział zadania:
A8: Nr | B8: Nazwa/ Model | C8: Nr seryjny | D8: Rok produkcji | E8: Przegląd do | F8: Cena netto | G8: Stawka podatku VAT | H8: Cena brutto
A9: 1 | B9: Logiq 7 R75X | C9: 36207YU9 | D9: 2008 | E9: 44049
A10: 2 | B10: Logiq 7 R75X | C10: 39043YU5 | D10: 2008 | E10: 44049
A11: 3 | B11: Logiq Book XP | C11: 49446WX8 | D11: 2007 | E11: 44049
A12: 4 | B12: Falcon 2101 EXL | C12: 1852268 | D12: 2004 | E12: 44079
A13: 5 | B13: Hawk 2102 | C13: 1851759 | D13: 2005 | E13: 44079
A14: 6 | B14: Preirus | C14: KE13039107 | D14: 2011 | E14: 44079
A15: 7 | B15: Sparq | C15: US61310230 | D15: 2013 | E15: 43978
A16: 8 | B16: Flex Focus 800 | C16: 5005181 | D16: 2014 | E16: 44168
A17: 9 | B17: Flex Focus 800 | C17: 5005189 | D17: 2014 | E17: 44168
A18: 10 | B18: ="Arietta V70" -> Arietta V70 | C18: ="205T4957" -> 205T4957 | D18: 2017 | E18: 44171
A19: 11 | B19: ="Arietta V70a" -> Arietta V70a | C19: ="205Q9960" -> 205Q9960 | D19: 2017 | E19: 44171
A20: 12 | B20: ="Flex Focus 300" -> Flex Focus 300 | C20: ="5009775" -> 5009775 | D20: 2017 | E20: 43990
B21: Przegląd serwisowy zgodny z wymaganiami producenta aparatu zawierający min. czyszczenie wnętrza aparatu, wentylatorów, filtrów i trackball’a, sprawdzenie i poprawę styków elektrycznych, sprawdzenie urządzeń peryferyjnych, testy głowic, konserwację zgodnie z zaleceniami producenta, testy bezpieczeństwa elektrycznego. Koszt przeglądu obejmuje koszty dojazdu. | G21: TAK
B22: Poszczególne przeglądy zostaną udokumentowane kartą pracy/raportem serwisowym, oraz wpisem do paszportu technicznego, a wyniki testu bezpieczeństwa elektrycznego na oddzielnym protokole. Aparaty zostaną oznakowane nalepką z terminem wykonania kolejnego przeglądu. | G22: TAK
B23: Wykonawca posiada uprawnienia serwisowe lub szkolenia serwisowe wystawione przez co najmniej 1-go producenta z wymienionych wyżej aparatów USG, uprawniające do wykonywania przeglądów i napraw. | G23: TAK
A25: Cena brutto: | C25: =SUM(H9:H20) -> 0 | F25: Kwota VAT:
A26: cena brutto słownie:

Sheet Zadanie nr 14
B2: Część | C2: 14
A4: Temat: | C4: Respirator Viasys
B6: Szczegółowy podział zadania:
A8: Nr | B8: Nazwa/ Model | C8: Nr seryjny | D8: Rok produkcji | E8: Przegląd do | F8: Cena netto | G8: Stawka podatku VAT | H8: Cena brutto
A9: 1 | B9: Vela | C9: AGT01324 | D9: 2007 | E9: 44147
B10: Przegląd zgodny z wymaganiami producenta obejmujący min. czyszczenie, kalibrację i testy kontrolne, sprawdzenie zgodności parametrów funkcjonalnych urządzeń z deklarowanymi przez producenta, sprawdzenie poprawności działania zgodnie z normami bezpieczeństwa zalecanymi przez producenta, konserwację zgodnie z zaleceniami producenta, testy bezpieczeństwa elektrycznego. Przegląd obejmuje min. wymianę elementów: filtr wewnętrzny z tłumikiem (10365), uszczelka (30020) – 2 szt., filtr wentylatora (34058), filtr wejściowy tlenu (06804), filtr wejściowy powietrza (20819), membrana zastawki wydechowej (10384), czujnik tlenu (0110043). Koszt przeglądu obejmuje koszty dojazdu. | G10: TAK
B11: Przegląd zostanie udokumentowany kartą pracy/raportem serwisowym, oraz wpisem do paszportu technicznego, a wyniki testu bezpieczeństwa elektrycznego na oddzielnym protokole. Aparat zostanie oznakowany nalepką z terminem wykonania kolejnego przeglądu. | G11: TAK
B12: Wykonawca posiada uprawnienia serwisowe lub szkolenia serwisowe wystawione przez producenta ww. aparatu lub autoryzowanego przedstawiciela, uprawniające do wykonywania przeglądów i napraw. | G12: TAK
A14: Cena brutto razem: | C14: =SUM(H9:H9) -> 0 | F14: Kwota VAT:
A15: cena brutto słownie:

Sheet Zadanie nr 15
B2: Część | C2: 15
A4: Temat: | C4: Detektory promieniowania gamma
B6: Szczegółowy podział zadania:
A8: Nr | B8: Nazwa/ Model | C8: Nr seryjny | D8: Rok produkcji | E8: Przegląd do | F8: Cena netto | G8: Stawka podatku VAT | H8: Cena brutto
A9: 1 | B9: GammaFinder II | C9: 040106 | D9: 2010 | E9: 44209
A10: 2 | B10: GammaFinder II | C10: 020758 | D10: 2008 | E10: 44257
A11: 3 | B11: GammaFinder II | C11: 040413 | D11: 2014 | E11: 44106
B12: Przegląd zgodny z wymaganiami producenta obejmujący min. czyszczenie, kalibrację i testy kontrolne, sprawdzenie zgodności parametrów funkcjonalnych urządzeń z deklarowanymi przez producenta, sprawdzenie poprawności działania zgodnie z normami bezpieczeństwa zalecanymi przez producenta, konserwację zgodnie z zaleceniami producenta, wymianę baterii. | G12: TAK
B13: Poszczególne przeglądy zostaną udokumentowane kartą pracy/raportem serwisowym, oraz wpisem do paszportu technicznego. Aparaty zostaną oznakowane nalepką z terminem wykonania kolejnego przeglądu. Koszt przeglądu obejmuje koszty dojazdu lub wysyłki. W przypadku wysyłki Wykonawca ponosi pełną odpowiedzialność za przewożony sprzęt. | G13: TAK
B14: Wykonawca posiada uprawnienia serwisowe lub szkolenia serwisowe wystawione przez co najmniej 1-go (dowolnego) producenta detektorów promieniowania gamma, uprawniające do wykonywania przeglądów i napraw. | G14: TAK
A16: Cena brutto: | C16: =SUM(H9:H11) -> 0 | F16: Kwota VAT:
A17: cena brutto słownie:

Sheet Zadanie nr 16
B2: Część | C2: 16
A4: Temat: | C4: Zestawy laparoskopowe Aesculap
B6: Szczegółowy podział zadania:
A8: Nr | B8: Nazwa/ Model | C8: Nr seryjny | D8: Rok produkcji | E8: Przegląd do | F8: Cena netto | G8: Stawka podatku VAT | H8: Cena brutto
A9: 1 | B9: ="PV890" -> PV890 | C9: ="1282" -> 1282 | D9: 2014 | E9: 44135
A10: 2 | B10: ="PV890" -> PV890 | C10: ="1284" -> 1284 | D10: 2014 | E10: 44135
A11: 3 | B11: ="PV959" -> PV959 | C11: ="14-236612" -> 14-236612 | D11: 2014 | E11: 44135
A12: 4 | B12: ="PV959" -> PV959 | C12: ="14-236610" -> 14-236610 | D12: 2014 | E12: 44135
A13: 5 | B13: ="PV959" -> PV959 | C13: ="14-236898" -> 14-236898 | D13: 2014 | E13: 44135
A14: 6 | B14: ="PV959" -> PV959 | C14: ="14-236902" -> 14-236902 | D14: 2014 | E14: 44135
A15: 7 | B15: ="PG080" -> PG080 | C15: ="1405CE294" -> 1405CE294 | D15: 2014 | E15: 44135
A16: 8 | B16: ="PG080" -> PG080 | C16: ="1406CE501" -> 1406CE501 | D16: 2014 | E16: 44135
A17: 9 | B17: ="OP940" -> OP940 | C17: ="469937" -> 469937 | D17: 2014 | E17: 44135
A18: 10 | B18: ="OP940" -> OP940 | C18: ="473754" -> 473754 | D18: 2014 | E18: 44135
A19: 11 | B19: ="PV462" -> PV462 | C19: ="3713014" -> 3713014 | D19: 2014 | E19: 44135
A20: 12 | B20: ="PV472" -> PV472 | C20: ="475455" -> 475455 | D20: 2014 | E20: 44135
A21: 13 | B21: ="PV460" -> PV460 | C21: ="4008706" -> 4008706 | D21: 2014 | E21: 44135
A22: 14 | B22: ="PV470" -> PV470 | C22: ="475868" -> 475868 | D22: 2014 | E22: 44135
A23: 15 | B23: ="PG145" -> PG145 | C23: ="1403CE688" -> 1403CE688 | D23: 2014 | E23: 44135
A24: 16 | B24: ="PG145" -> PG145 | C24: ="1408CE357" -> 1408CE357 | D24: 2014 | E24: 44135
A25: 17 | B25: GN640 | C25: 3337 | D25: 2014 | E25: 44135
A26: 18 | B26: ="PV840" -> PV840 | C26: ="1136" -> 1136 | D26: 2014 | E26: 44135
B27: Przegląd zgodny z wymaganiami producenta obejmujący min. czyszczenie, sprawdzenie bezpieczeństwa mechanicznego i elektrycznego, kontrolę zużycia części i wyposażenia, sprawdzenie poprawności ogólnego funkcjonowania aparatu, kalibrację i testy kontrolne, sprawdzenie zgodności parametrów funkcjonalnych urządzeń z deklarowanymi przez producenta, sprawdzenie poprawności działania zgodnie z normami bezpieczeństwa zalecanymi przez producenta, konserwację zgodnie z zaleceniami producenta, testy bezpieczeństwa elektrycznego. Koszt przeglądu obejmuje koszty dojazdu. | G27: TAK
B28: Poszczególne przeglądy zostaną udokumentowane kartą pracy/raportem serwisowym, oraz wpisem do paszportu technicznego, a wyniki testu bezpieczeństwa elektrycznego na oddzielnym protokole. Aparaty zostaną oznakowane nalepką z terminem wykonania kolejnego przeglądu. | G28: TAK
B29: Wykonawca posiada uprawnienia serwisowe lub szkolenia serwisowe wystawione przez producenta ww. aparatów lub autoryzowanego przedstawiciela, uprawniające do wykonywania przeglądów i napraw. | G29: TAK
A31: Cena brutto razem: | F31: Kwota VAT:
A32: cena brutto słownie:

Sheet Zadanie nr 17
B2: Część | C2: 17
A4: Temat: | C4: Mikrotomy
B6: Szczegółowy podział zadania:
A8: Nr | B8: Nazwa/ Model | C8: Nr seryjny | D8: Rok produkcji | E8: Przegląd do | F8: Cena netto | G8: Stawka podatku VAT | H8: Cena brutto
A9: 1 | B9: Mikrotom HM 340E + STS | C9: 38905 | D9: 2007 | E9: 44082
A10: 2 | B10: Mikrotom HM450 | C10: 37098 | D10: 2006 | E10: 44082
A11: 3 | B11: Mikrotom HM 340E + STS | C11: 28961 | D11: 2004 | E11: 44082
A12: 4 | B12: Mikrotom HM 340E | C12: 40451 | D12: 2008 | E12: 44082
A13: 5 | B13: Mikrotom HM 340E | C13: 39450 | D13: 2007 | E13: 44082
A14: 6 | B14: Mikrotom HM 340E | C14: 58439 | D14: 2013 | E14: 44082
B15: Przegląd zgodny z wymaganiami producenta obejmujący min. czyszczenie, sprawdzenie bezpieczeństwa mechanicznego i elektrycznego, kontrolę zużycia części i wyposażenia, sprawdzenie poprawności ogólnego funkcjonowania aparatu, kalibrację i testy kontrolne, sprawdzenie zgodności parametrów funkcjonalnych urządzeń z deklarowanymi przez producenta, sprawdzenie poprawności działania zgodnie z normami bezpieczeństwa zalecanymi przez producenta, konserwację zgodnie z zaleceniami producenta, testy bezpieczeństwa elektrycznego. Koszt przeglądu obejmuje koszty dojazdu. | G15: TAK
B16: Poszczególne przeglądy zostaną udokumentowane kartą pracy/raportem serwisowym, oraz wpisem do paszportu technicznego, a wyniki testu bezpieczeństwa elektrycznego na oddzielnym protokole. Aparaty zostaną oznakowane nalepką z terminem wykonania kolejnego przeglądu. | G16: TAK
B17: Wykonawca posiada uprawnienia serwisowe lub szkolenia serwisowe wystawione przez co najmniej 1-go (dowolnego) producenta urządzeń histopatologicznych, uprawniające do wykonywania przeglądów i napraw. | G17: TAK
A21: Cena brutto razem: | C21: =SUM(H9:H14) -> 0 | F21: Kwota VAT:
A22: cena brutto słownie:

Sheet Zadanie nr 18
B2: Część | C2: 18
A4: Temat: | C4: Urządzenia Mindray
B6: Szczegółowy podział zadania:
A8: Nr | B8: Nazwa/ Model | C8: Nr seryjny | D8: Rok produkcji | E8: Przegląd do | F8: Cena netto | G8: Stawka podatku VAT | H8: Cena brutto
A9: 1 | B9: Monitor PM9000 | C9: BX5C-0315AIOQ | D9: 2006 | E9: 44104
A10: 2 | B10: Monitor PM9000 | C10: BX5C-0316FIQQ | D10: 2006 | E10: 44104
A11: 3 | B11: Monitor PM9000 | C11: BX5C-0317FIOQ | D11: 2006 | E11: 44104
A12: 4 | B12: Monitor BeneView T8 z modułem BeneView T1 | C12: CF-3C120727 | D12: 2013 | E12: 44165
A13: 5 | B13: Monitor BeneView T8 | C13: CF-3C120728 | D13: 2013 | E13: 44165
A14: 6 | B14: Monitor BeneView T8 | C14: CF-3C120729 | D14: 2013 | E14: 44165
A15: 7 | B15: Monitor BeneView T8 | C15: CF-3C120732 | D15: 2013 | E15: 44165
A16: 8 | B16: Monitor BeneView T8 | C16: CF-3C120734 | D16: 2013 | E16: 44165
A17: 9 | B17: Monitor BeneView T8 | C17: CF-3C120736 | D17: 2013 | E17: 44165
A18: 10 | B18: Monitor BeneView T8 | C18: CF-3C120737 | D18: 2013 | E18: 44165
A19: 11 | B19: Monitor BeneView T8 | C19: CF-3C120738 | D19: 2013 | E19: 44165
A20: 12 | B20: Monitor BeneView T8 | C20: CF-3C120739 | D20: 2013 | E20: 44165
... A28: 20 | B28: Defibrylator BeneHeart D3 | C28: EL-46014684 | D28: 2014 | E28: 44165
B29: Przegląd zgodny z wymaganiami producenta obejmujący min. czyszczenie, sprawdzenie bezpieczeństwa mechanicznego i elektrycznego, kontrolę zużycia części i wyposażenia, sprawdzenie poprawności ogólnego funkcjonowania aparatu, kalibrację i testy kontrolne, sprawdzenie zgodności parametrów funkcjonalnych urządzeń z deklarowanymi przez producenta, sprawdzenie poprawności działania zgodnie z normami bezpieczeństwa zalecanymi przez producenta, konserwację zgodnie z zaleceniami producenta, testy bezpieczeństwa elektrycznego. Koszt przeglądu obejmuje koszty dojazdu. | G29: TAK
B30: Poszczególne przeglądy zostaną udokumentowane kartą pracy/raportem serwisowym, oraz wpisem do paszportu technicznego, a wyniki testu bezpieczeństwa elektrycznego na oddzielnym protokole. Aparaty zostaną oznakowane nalepką z terminem wykonania kolejnego przeglądu. | G30: TAK
B31: Wykonawca posiada uprawnienia serwisowe lub szkolenia serwisowe wystawione przez co najmniej 1-go (dowolnego) producenta kardiomonitorów, uprawniające do wykonywania przeglądów i napraw. | G31: TAK
A35: Cena brutto razem: | C35: =SUM(H8:H28) -> 0 | F35: Kwota VAT:
A36: cena brutto słownie:

Sheet Zadanie nr 19
B2: Część | C2: 19
A4: Temat: | C4: Sprzęt monitorowania parametrów życiowych
B6: Szczegółowy podział zadania:
A8: Nr | B8: Nazwa/ Model | C8: Nr seryjny | D8: Rok produkcji | E8: Przegląd do | F8: Cena netto | G8: Stawka podatku VAT | H8: Cena brutto
A9: 1 | B9: Pulsoksymetr Spectro2 | C9: 4009598 | D9: 2010 | E9: 44062
A10: 2 | B10: Pulsoksymetr Spectro2 | C10: 4056940 | D10: 2014 | E10: 44062
A11: 3 | B11: Pulsoksymetr Spectro2 | C11: 4052013 | D11: 2014 | E11: 44062
A12: 4 | B12: Pulsoksymetr Spectro2 | C12: 4046701 | D12: 2013 | E12: 44062
A13: 5 | B13: Kapnograf Capnocheck II | C13: 704109039 | D13: 2004 | E13: 44062
A14: 6 | B14: Kardiomonitor Precess 3160 | C14: US10500233 | D14: 2012 | E14: 44062
A15: 7 | B15: Kardiomonitor Enmove 1200 | C15: W-77100622 | D15: 2007 | E15: 44062
A16: 8 | B16: Kardiomonitor FX 2000P | C16: 2590 | D16: 2008 | E16: 44062
A17: 9 | B17: Kardiomonitor FX 2000P | C17: 2591 | D17: 2008 | E17: 44062
A18: 10 | B18: Kardiomonitor FX 2000P | C18: 2592 | D18: 2008 | E18: 44062
A19: 11 | B19: Kardiomonitor FX 2000P | C19: 2593 | D19: 2008 | E19: 44062
B20: Przegląd zgodny z wymaganiami producenta obejmujący min. czyszczenie, sprawdzenie bezpieczeństwa mechanicznego i elektrycznego, kontrolę zużycia części i wyposażenia, sprawdzenie poprawności ogólnego funkcjonowania aparatu, kalibrację i testy kontrolne, sprawdzenie zgodności parametrów funkcjonalnych urządzeń z deklarowanymi przez producenta, sprawdzenie poprawności działania zgodnie z normami bezpieczeństwa zalecanymi przez producenta, konserwację zgodnie z zaleceniami producenta, testy bezpieczeństwa elektrycznego. Koszt przeglądu obejmuje koszty dojazdu. | G20: TAK
B21: Poszczególne przeglądy zostaną udokumentowane kartą pracy/raportem serwisowym, oraz wpisem do paszportu technicznego, a wyniki testu bezpieczeństwa elektrycznego na oddzielnym protokole. Aparaty zostaną oznakowane nalepką z terminem wykonania kolejnego przeglądu. | G21: TAK
B22: Wykonawca posiada uprawnienia serwisowe lub szkolenia serwisowe wystawione przez co najmniej 1-go (dowolnego) producenta kardiomonitorów, uprawniające do wykonywania przeglądów i napraw. | G22: TAK
A26: Cena brutto razem: | F26: Kwota VAT:
A27: cena brutto słownie:

Sheet Zadanie nr 20
B2: Część | C2: 20
A4: Temat: | C4: Defibrylatory
B6: Szczegółowy podział zadania:
A8: Nr | B8: Nazwa/ Model | C8: Nr seryjny | D8: Rok produkcji | E8: Przegląd do | F8: Cena netto | G8: Stawka podatku VAT | H8: Cena brutto
A9: 1 | B9: M Series | C9: T07B87735 | D9: 2007 | E9: 44062
A10: 2 | B10: Cardio-Aid 200-B | C10: 5126193 | D10: 2006 | E10: 44062
B11: Przegląd zgodny z wymaganiami producenta obejmujący min. czyszczenie, sprawdzenie bezpieczeństwa mechanicznego i elektrycznego, kontrolę zużycia części i wyposażenia, sprawdzenie poprawności ogólnego funkcjonowania aparatu, kalibrację i testy kontrolne, sprawdzenie zgodności parametrów funkcjonalnych urządzeń z deklarowanymi przez producenta, sprawdzenie poprawności działania zgodnie z normami bezpieczeństwa zalecanymi przez producenta, konserwację zgodnie z zaleceniami producenta, testy bezpieczeństwa elektrycznego. Koszt przeglądu obejmuje koszty dojazdu. | G11: TAK
B12: Poszczególne przeglądy zostaną udokumentowane kartą pracy/raportem serwisowym, oraz wpisem do paszportu technicznego, a wyniki testu bezpieczeństwa elektrycznego na oddzielnym protokole. Aparaty zostaną oznakowane nalepką z terminem wykonania kolejnego przeglądu. | G12: TAK
B13: Wykonawca posiada uprawnienia serwisowe lub szkolenia serwisowe wystawione przez co najmniej 1-go (dowolnego) producenta defibrylatorów, uprawniające do wykonywania przeglądów i napraw. | G13: TAK
A17: Cena brutto razem: | C17: =SUM(H9:H10) -> 0 | F17: Kwota VAT:
A18: cena brutto słownie:

Sheet Zadanie nr 21
B2: Część | C2: 21
A4: Temat: | C4: Pompy infuzyjne Braun
B6: Szczegółowy podział zadania:
A8: Nr | B8: Nazwa/ Model | C8: Nr seryjny | D8: Rok produkcji | E8: Przegląd do | F8: Cena netto | G8: Stawka podatku VAT | H8: Cena brutto
A9: 1 | B9: ="Infusomat Space" -> Infusomat Space | C9: ="29725" -> 29725 | D9: 2008 | E9: ="2020-08-02" -> 2020-08-02
A10: 2 | B10: ="Infusomat Space" -> Infusomat Space | C10: ="51128" -> 51128 | D10: 2008 | E10: ="2020-06-13" -> 2020-06-13
A11: 3 | B11: ="Infusomat Space" -> Infusomat Space | C11: ="137158" -> 137158 | D11: 2011 | E11: ="2020-06-13" -> 2020-06-13
A12: 4 | B12: ="Infusomat Space" -> Infusomat Space | C12: ="300117" -> 300117 | D12: 2014 | E12: ="2020-08-02" -> 2020-08-02
A13: 5 | B13: ="Infusomat Space" -> Infusomat Space | C13: ="386818" -> 386818 | D13: 2016 | E13: ="2020-08-02" -> 2020-08-02
A14: 6 | B14: ="Infusomat Space" -> Infusomat Space | C14: ="386836" -> 386836 | D14: 2016 | E14: ="2020-08-02" -> 2020-08-02
A15: 7 | B15: ="Infusomat Space" -> Infusomat Space | C15: ="386853" -> 386853 | D15: 2016 | E15: ="2020-08-02" -> 2020-08-02
A16: 8 | B16: ="Infusomat Space" -> Infusomat Space | C16: ="386936" -> 386936 | D16: 2016 | E16: ="2020-08-02" -> 2020-08-02
A17: 9 | B17: ="Infusomat Space" -> Infusomat Space | C17: ="387003" -> 387003 | D17: 2016 | E17: ="2020-08-02" -> 2020-08-02
A18: 10 | B18: ="Infusomat Space" -> Infusomat Space | C18: ="387025" -> 387025 | D18: 2016 | E18: ="2020-08-02" -> 2020-08-02
A19: 11 | B19: ="Infusomat Space" -> Infusomat Space | C19: ="387027" -> 387027 | D19: 2016 | E19: ="2020-08-02" -> 2020-08-02
A20: 12 | B20: ="Infusomat Space" -> Infusomat Space | C20: ="387035" -> 387035 | D20: 2016 | E20: ="2020-08-02" -> 2020-08-02
A21: 13 | B21: ="Perfusor Space" -> Perfusor Space | C21: ="155545" -> 155545 | D21: 2011 | E21: ="2020-08-02" -> 2020-08-02
A22: 14 | B22: ="Perfusor Space" -> Perfusor Space | C22: ="246667" -> 246667 | D22: 2014 | E22: ="2020-06-07" -> 2020-06-07
A23: 15 | B23: ="Perfusor Space" -> Perfusor Space | C23: ="246693" -> 246693 | D23: 2014 | E23: ="2020-08-02" -> 2020-08-02
A24: 16 | B24: ="Perfusor Space" -> Perfusor Space | C24: ="246705" -> 246705 | D24: 2014 | E24: ="2020-08-02" -> 2020-08-02
A25: 17 | B25: ="Perfusor Space" -> Perfusor Space | C25: ="246757" -> 246757 | D25: 2014 | E25: ="2020-08-02" -> 2020-08-02
A26: 18 | B26: ="Perfusor Space" -> Perfusor Space | C26: ="246763" -> 246763 | D26: 2014 | E26: ="2020-08-02" -> 2020-08-02
A27: 19 | B27: ="SpaceStation MRI" -> SpaceStation MRI | C27: ="MIMSPA110207" -> MIMSPA110207 | D27: 2011 | E27: ="2020-08-12" -> 2020-08-12
B28: Przegląd zgodny z wymaganiami producenta obejmujący min. czyszczenie, sprawdzenie bezpieczeństwa mechanicznego i elektrycznego, kontrolę zużycia części i wyposażenia, sprawdzenie poprawności ogólnego funkcjonowania aparatu, kalibrację i testy kontrolne, sprawdzenie zgodności parametrów funkcjonalnych urządzeń z deklarowanymi przez producenta, sprawdzenie poprawności działania zgodnie z normami bezpieczeństwa zalecanymi przez producenta, konserwację zgodnie z zaleceniami producenta, testy bezpieczeństwa elektrycznego. Przegląd obejmuje wymianę zasilaczy w 5 pompach Space (nr ser.: 29725, 51128, 137158, 155545, 246667) . Koszt przeglądu obejmuje koszty dojazdu. | G28: TAK
B29: Poszczególne przeglądy zostaną udokumentowane kartą pracy/raportem serwisowym, oraz wpisem do paszportu technicznego, a wyniki testu bezpieczeństwa elektrycznego na oddzielnym protokole. Aparaty zostaną oznakowane nalepką z terminem wykonania kolejnego przeglądu. | G29: TAK
B30: Wykonawca posiada uprawnienia serwisowe lub szkolenia serwisowe wystawione przez producenta ww. aparatów lub autoryzowanego przedstawiciela, uprawniające do wykonywania przeglądów i napraw. | G30: TAK
A34: Cena brutto razem: | C34: =SUM(H9:H27) -> 0 | F34: Kwota VAT:
A35: cena brutto słownie:

Sheet Zadanie nr 22
B2: Część | C2: 22
A4: Temat: | C4: Myjnie endoskopowe, szafa do suszenia endoskopów
B6: Szczegółowy podział zadania:
A8: Nr | B8: Nazwa/ Model | C8: Nr seryjny | D8: Rok produkcji | E8: Przegląd do | F8: Cena netto | G8: Stawka podatku VAT | H8: Cena brutto
A9: 1 | B9: Mini ETD-2 GA | C9: 6421821 | D9: 2007 | E9: 44045
A10: 2 | B10: Mini ETD | C10: 431303 | D10: 2005 | E10: 44050
A11: 3 | B11: Mini ETD-2 PlusGA | C11: 17926626 | D11: 2017 | E11: 44226
A12: 4 | B12: EDC Plus | C12: NG817130 | D12: 2017 | E12: 44238
B13: Przegląd zgodny z wymaganiami producenta obejmujący min. czyszczenie, sprawdzenie bezpieczeństwa mechanicznego i elektrycznego, kontrolę zużycia części i wyposażenia, sprawdzenie poprawności ogólnego funkcjonowania aparatu, kalibrację i testy kontrolne, sprawdzenie zgodności parametrów funkcjonalnych urządzeń z deklarowanymi przez producenta, sprawdzenie poprawności działania zgodnie z normami bezpieczeństwa zalecanymi przez producenta, konserwację zgodnie z zaleceniami producenta, testy bezpieczeństwa elektrycznego. Przegląd obejmuje wymianę zestawów serwisowych (Maintenance Kit) w myjniach oraz filtrów w szafie. Wykonawca w ramach przeglądu zobowiązuje się do przygotowania bieżących zaleceń eksploatacyjnych związanych ze stanem aparatów oraz ich dalszym użytkowaniem. Wykonawca zobowiązuje się do wykonania ekspertyz technicznych związanych z wykrytymi usterkami oraz kosztorysu naprawy. Koszt przeglądu obejmuje koszty dojazdu. | G13: TAK
B14: Poszczególne przeglądy zostaną udokumentowane kartą pracy/raportem serwisowym, oraz wpisem do paszportu technicznego, a wyniki testu bezpieczeństwa elektrycznego na oddzielnym protokole. Aparaty zostaną oznakowane nalepką z terminem wykonania kolejnego przeglądu. | G14: TAK
B15: Wykonawca posiada uprawnienia serwisowe lub szkolenia serwisowe wystawione przez co najmniej 1-go (dowolnego) producenta sprzętu endoskopowego, uprawniające do wykonywania przeglądów i napraw. | G15: TAK
A19: Cena brutto razem: | C19: =SUM(H9:H12) -> 0 | F19: Kwota VAT:
A20: cena brutto słownie:

Sheet Zadanie nr 23
B2: Część | C2: 23
A4: Temat: | C4: Sterylizator plazmowy
B6: Szczegółowy podział zadania:
A8: Nr | B8: Nazwa/ Model | C8: Nr seryjny | D8: Rok produkcji | E8: Przegląd do | F8: Cena netto | G8: Stawka podatku VAT | H8: Cena brutto
A9: 1 | B9: Sterrad 100NX | C9: 1042110034 | D9: 2012 | E9: 2020.07.27, drugi po 6 miesiącach
B10: Przegląd zgodny z wymaganiami producenta obejmujący min. czyszczenie, sprawdzenie bezpieczeństwa mechanicznego i elektrycznego, kontrolę zużycia części i wyposażenia, sprawdzenie poprawności ogólnego funkcjonowania aparatu, kalibrację i testy kontrolne, sprawdzenie zgodności parametrów funkcjonalnych urządzeń z deklarowanymi przez producenta, sprawdzenie poprawności działania zgodnie z normami bezpieczeństwa zalecanymi przez producenta, konserwację zgodnie z zaleceniami producenta, testy bezpieczeństwa elektrycznego. Przegląd obejmuje wymianę części (zestawy serwisowe PM) przewidzianych przez producenta do wymiany podczas przeglądu okresowego. Koszt przeglądu obejmuje koszty dojazdu. | G10: TAK
B11: Poszczególne przeglądy zostaną udokumentowane kartą pracy/raportem serwisowym, oraz wpisem do paszportu technicznego, a wyniki testu bezpieczeństwa elektrycznego na oddzielnym protokole. Aparaty zostaną oznakowane nalepką z terminem wykonania kolejnego przeglądu. | G11: TAK
B12: Wykonawca posiada uprawnienia serwisowe lub szkolenia serwisowe wystawione przez producenta ww. aparatów lub autoryzowanego przedstawiciela, uprawniające do wykonywania przeglądów i napraw. | G12: TAK
A16: Cena brutto razem: | C16: =SUM(H9) -> 0 | F16: Kwota VAT:
A17: cena brutto słownie:

Sheet Zadanie nr 24
B2: Część | C2: 24
A4: Temat: | C4: Urządzenia sterylizacji parowej
B6: Szczegółowy podział zadania:
A8: Nr | B8: Nazwa/ Model | C8: Nr seryjny | D8: Rok produkcji | E8: Przegląd do | F8: Cena netto | G8: Stawka podatku VAT | H8: Cena brutto
A9: 1 | B9: Selectomat PL 966-2H | C9: B110824 | D9: 2012 | E9: 2020-08-13, drugi po 6 miesiącach
A10: 2 | B10: Selectomat PL 966-2H | C10: B110825 | D10: 2012 | E10: 2020-08-13, drugi po 6 miesiącach
A11: 3 | B11: Myjnia ultradźwiękowa | C11: Ultramatic 550 | D11: 2012 | E11: 44059
A12: 4 | B12: System EcoSoft | C12: -- | D12: 2012 | E12: 44193
B13: Przegląd zgodny z wymaganiami producenta obejmujący min. czyszczenie, sprawdzenie bezpieczeństwa mechanicznego i elektrycznego, kontrolę zużycia części i wyposażenia, sprawdzenie poprawności ogólnego funkcjonowania aparatu, kalibrację i testy kontrolne, sprawdzenie zgodności parametrów funkcjonalnych urządzeń z deklarowanymi przez producenta, sprawdzenie poprawności działania zgodnie z normami bezpieczeństwa zalecanymi przez producenta, konserwację zgodnie z zaleceniami producenta, testy bezpieczeństwa elektrycznego. Przegląd obejmuje wymianę części przewidzianych przez producenta do wymiany podczas przeglądu okresowego. Koszt przeglądu obejmuje koszty dojazdu. | G13: TAK
B14: Poszczególne przeglądy zostaną udokumentowane kartą pracy/raportem serwisowym, oraz wpisem do paszportu technicznego, a wyniki testu bezpieczeństwa elektrycznego na oddzielnym protokole. Aparaty zostaną oznakowane nalepką z terminem wykonania kolejnego przeglądu. | G14: TAK
B15: Wykonawca posiada uprawnienia serwisowe lub szkolenia serwisowe wystawione przez producenta ww. aparatów lub autoryzowanego przedstawiciela, uprawniające do wykonywania przeglądów i napraw. | G15: TAK
A19: Cena brutto razem: | C19: =SUM(H9:H12) -> 0 | F19: Kwota VAT:
A20: cena brutto słownie:

Sheet Zadanie nr 25
B2: Część | C2: 25
A4: Temat: | C4: Urządzenia Centralnej Sterylizatorni
B6: Szczegółowy podział zadania:
A8: Nr | B8: Nazwa/ Model | C8: Nr seryjny | D8: Rok produkcji | E8: Przegląd do | F8: Cena netto | G8: Stawka podatku VAT | H8: Cena brutto
A9: 1 | B9: Myjnia G7824 | C9: 74358056 | D9: 2011 | E9: 44038
A10: 2 | B10: Myjnia G7824 | C10: 74358057 | D10: 2011 | E10: 44038
A11: 3 | B11: Myjnia G7836 | C11: 74329616 | D11: 2007 | E11: 44038
A12: 4 | B12: Suszarka KSU-66150 | C12: 40 | D12: 2012 | E12: 44038
A13: 5 | B13: Zgrzewarka Steripack 301 | C13: 453525 | D13: 2012 | E13: 44038
A14: 6 | B14: Urządzenie Elmasteam ES5000 | C14: 000221029 | D14: 2013 | E14: 44038
B15: Przegląd zgodny z wymaganiami producenta obejmujący min. czyszczenie, sprawdzenie bezpieczeństwa mechanicznego i elektrycznego, kontrolę zużycia części i wyposażenia, sprawdzenie poprawności ogólnego funkcjonowania urządzeń, kalibrację i testy kontrolne, sprawdzenie zgodności parametrów funkcjonalnych urządzeń z deklarowanymi przez producenta, sprawdzenie poprawności działania zgodnie z normami bezpieczeństwa zalecanymi przez producenta, konserwację zgodnie z zaleceniami producenta, testy bezpieczeństwa elektrycznego. Przegląd obejmuje min. wymianę elementów – filtry HEPA do G7824 - 4 szt., obudowa pompy DOS (60/30) do myjni G7824 - 2 szt., obudowa pompy DOS (30/10) do myjni G7824 - 2 szt., filtr zgrubny i HEPA do KSU-66150, rolka dociskowa, taśma barwiąca, taśma teflonowa grzałek i prowadnic, paski zębate do Steripack 301, uszczelki pod korek wlewu wody do Elmasteam - 3 szt., wentylator suszarki Mrg 027 230V, uszczelka drzwi, filtr HEPA do myjni G7836. Koszt przeglądu obejmuje koszty dojazdu. | G15: TAK
B16: Poszczególne przeglądy zostaną udokumentowane kartą pracy/raportem serwisowym, oraz wpisem do paszportu technicznego, a wyniki testu bezpieczeństwa elektrycznego na oddzielnym protokole. Aparaty zostaną oznakowane nalepką z terminem wykonania kolejnego przeglądu. | G16: TAK
B17: Wykonawca posiada uprawnienia serwisowe lub szkolenia serwisowe wystawione przez co najmniej 1-go (dowolnego) producenta myjni-dezynfektorów, uprawniające do wykonywania przeglądów i napraw. | G17: TAK
A21: Cena brutto razem: | F21: Kwota VAT:
A22: cena brutto słownie:

Sheet Zadanie nr 26
B2: Część | C2: 26
A4: Temat: | C4: Komory laminarne
B6: Szczegółowy podział zadania:
A8: Nr | B8: Nazwa/ Model | C8: Nr seryjny | D8: Rok produkcji | E8: Przegląd do | F8: Cena netto | G8: Stawka podatku VAT | H8: Cena brutto
A9: 1 | B9: C-[MaxPro]3-130 | C9: 1013080210 | D9: 2008 | E9: 44157
A10: 2 | B10: C-[MaxPro]3-130 | C10: 1013100367 | D10: 2010 | E10: 44157
A11: 3 | B11: C-[MaxPro]3-130 | C11: 1013100368 | D11: 2010 | E11: 44157
A12: 4 | B12: Minifil | C12: 29081/06 | D12: 2006 | E12: 44157
A13: 5 | B13: Lamil Plus 10 | C13: 3153/06 | D13: 2006 | E13: 44157
A14: 6 | B14: Claire PRO B-2-130 | C14: 2013000249 | D14: 2017 | E14: 44157
B15: Przegląd zgodny z wymaganiami producenta obejmujący min. czyszczenie, sprawdzenie bezpieczeństwa mechanicznego i elektrycznego, kontrolę zużycia części i wyposażenia, sprawdzenie poprawności ogólnego funkcjonowania aparatu, kalibrację i testy kontrolne, sprawdzenie zgodności parametrów funkcjonalnych urządzeń z deklarowanymi przez producenta, sprawdzenie poprawności działania zgodnie z normami bezpieczeństwa zalecanymi przez producenta, konserwację zgodnie z zaleceniami producenta, testy bezpieczeństwa elektrycznego. Pomiary kontrolne prędkości i laminarności przepływu oraz klas czystości powietrza w przestrzni roboczej komory/nawiewu i w pomieszczeniu, sprawdzenie klasy czystości powietrza w pomieszczeniu, w którym pracuje komora. Przegląd obejmuje wymianę filtra głównego (komplet 6-ciu filtrów kapsułkowych pod blatem roboczym) w komorach o nr ser. 1013100367, 1013100368 oraz wykonanie niezbędnych pomiarów i kalibracji ustawień komory. Koszt przeglądu obejmuje koszty dojazdu. | G15: TAK
B16: Poszczególne przeglądy zostaną udokumentowane kartą pracy/raportem serwisowym, oraz wpisem do paszportu technicznego, a wyniki testu bezpieczeństwa elektrycznego na oddzielnym protokole. Aparaty zostaną oznakowane nalepką z terminem wykonania kolejnego przeglądu. | G16: TAK
B17: Wykonawca posiada uprawnienia serwisowe lub szkolenia serwisowe wystawione przez producenta ww. aparatów lub autoryzowanego przedstawiciela, uprawniające do wykonywania przeglądów i napraw. | G17: TAK
A19: Cena brutto razem: | C19: =SUM(H9:H14) -> 0 | F19: Kwota VAT:
A20: cena brutto słownie:

Sheet Zadanie nr 27
B2: Część | C2: 27
A4: Temat: | C4: Aparaty rtg Siemens
B6: Szczegółowy podział zadania:
A8: Nr | B8: Nazwa/ Model | C8: Nr seryjny | D8: Rok produkcji | E8: Przegląd do | F8: Cena netto | G8: Stawka podatku VAT | H8: Cena brutto
A9: 1 | B9: Multix Fusion Digital | C9: 30070 | D9: 2015 | E9: 44170
A10: 2 | B10: Luminos dRF Max | C10: 5264 | D10: 2015 | E10: 44171
A11: 3 | B11: Mobilett XP Hybrid | C11: 1248 | D11: 2005 | E11: 44006
B12: Przeglądy zgodne z wymaganiami producenta obejmujące min. czyszczenie, sprawdzenie bezpieczeństwa mechanicznego i elektrycznego, kontrolę zużycia części i wyposażenia, sprawdzenie poprawności ogólnego funkcjonowania aparatu, kalibrację i testy kontrolne, sprawdzenie zgodności parametrów funkcjonalnych urządzeń z deklarowanymi przez producenta, sprawdzenie poprawności działania zgodnie z normami bezpieczeństwa zalecanymi przez producenta, konserwację zgodnie z zaleceniami producenta, wymianę żarówki w aparacie Mobilett XP, testy bezpieczeństwa elektrycznego. Koszt przeglądów obejmuje koszty dojazdu. | G12: TAK
B13: Poszczególne przeglądy zostaną udokumentowane kartą pracy/raportem serwisowym, oraz wpisem do paszportu technicznego, a wyniki testu bezpieczeństwa elektrycznego na oddzielnym protokole. Aparaty zostaną oznakowane nalepką z terminem wykonania kolejnego przeglądu. | G13: TAK
B14: Wykonawca posiada uprawnienia serwisowe lub szkolenia serwisowe wystawione przez producenta ww. aparatów lub autoryzowanego przedstawiciela, uprawniające do wykonywania przeglądów i napraw. | G14: TAK
A16: Cena brutto razem: | C16: =SUM(H9:H11) -> 0 | F16: Kwota VAT:
A17: cena brutto słownie:

Sheet Zadanie nr 28
B2: Część | C2: 28
A4: Temat: | C4: Mammograf, kardiomonitor GE
B6: Szczegółowy podział zadania:
A8: Nr | B8: Nazwa/ Model | C8: Nr seryjny | D8: Rok produkcji | E8: Przegląd do | F8: Cena netto | G8: Stawka podatku VAT | H8: Cena brutto
A9: 1 | B9: Senographe Essential | C9: 668486BU4 | D9: 2015 | E9: 2020-09-30, drugi po 6 miesiącach
A10: 2 | B10: Senographe Essential | C10: 583153BU2 | D10: 2009 | E10: 2020-06-23, drugi po 6 miesiącach
A11: 3 | B11: B650 | C11: SEW14127236HA | D11: 2014 | E11: 44143
