Workbook
Name Print_Area: 'Formularz Oferty'!$A$1:$H$100
Name Print_Area: 'Zadanie nr 1'!$A$1:$K$24
Name Print_Area: 'Zadanie nr 10'!$A$1:$K$16
Name Print_Area: 'Zadanie nr 11'!$A$1:$K$19
Name Print_Area: 'Zadanie nr 12'!$A$1:$K$17
Name Print_Area: 'Zadanie nr 13'!$A$1:$K$26
Name Print_Area: 'Zadanie nr 14'!$A$1:$K$15
Name Print_Area: 'Zadanie nr 15'!$A$1:$K$17
Name Print_Area: 'Zadanie nr 16'!$A$1:$K$32
Name Print_Area: 'Zadanie nr 17'!$A$1:$K$22
Name Print_Area: 'Zadanie nr 18'!$A$1:$K$36
Name Print_Area: 'Zadanie nr 19'!$A$1:$K$27
Name Print_Area: 'Zadanie nr 2'!$A$1:$K$19
Name Print_Area: 'Zadanie nr 20'!$A$1:$K$18
Name Print_Area: 'Zadanie nr 21'!$A$1:$K$35
Name Print_Area: 'Zadanie nr 22'!$A$1:$K$20
Name Print_Area: 'Zadanie nr 23'!$A$1:$K$17
Name Print_Area: 'Zadanie nr 24'!$A$1:$K$20
Name Print_Area: 'Zadanie nr 25'!$A$1:$K$22
Name Print_Area: 'Zadanie nr 26'!$A$1:$K$20
Name Print_Area: 'Zadanie nr 27'!$A$1:$K$17
Name Print_Area: 'Zadanie nr 28'!$A$1:$K$17
Name Print_Area: 'Zadanie nr 29'!$A$1:$K$19
Name Print_Area: 'Zadanie nr 3'!$A$1:$K$19
Name Print_Area: 'Zadanie nr 30'!$A$1:$K$23
Name Print_Area: 'Zadanie nr 31'!$A$1:$K$15
Name Print_Area: 'Zadanie nr 32'!$A$1:$K$15
Name Print_Area: 'Zadanie nr 33'!$A$1:$K$19
Name Print_Area: 'Zadanie nr 34'!$A$1:$K$15
Name Print_Area: 'Zadanie nr 38'!$A$1:$K$16
Name Print_Area: 'Zadanie nr 4'!$A$1:$K$24
Name Print_Area: 'Zadanie nr 5'!$A$1:$K$33
Name Print_Area: 'Zadanie nr 6'!$A$1:$K$17
Name Print_Area: 'Zadanie nr 7'!$A$1:$K$18
Name Print_Area: 'Zadanie nr 8'!$A$1:$K$17
Name Print_Area: 'Zadanie nr 9'!$A$1:$K$17

Sheet Formularz Oferty
B3: Sygnatura postępowania: | C3: ZP-271-16/20
B5: Przedmiot: | C5: Okresowe przeglądy techniczne aparatury i sprzętu medycznego
B7: Nazwa Wykonawcy:
B9: ulica: | D9: tel | F9: fax
B10: kod: | D10: miejscowość:
B12: NIP: | D12: REGON:
B14: e-mail | D14: nazwa banku i nr rachunku:
B16: Składamy ofertę na następujące części:
B18: Numer części: | C18: Temat: | D18: Cena brutto: | E18: Kwota VAT:
B19: ='Zadanie nr 1'!$C$2 -> 1 | C19: ='Zadanie nr 1'!$C$4 -> Aparaty EKG
B20: ='Zadanie nr 2'!$C$2 -> 2 | C20: ='Zadanie nr 2'!$C$4 -> Aparatura do histopatologii I
B21: ='Zadanie nr 3'!$C$2 -> 3 | C21: ='Zadanie nr 3'!$C$4 -> Aparatura do histopatologii II
B22: ='Zadanie nr 4'!$C$2 -> 4 | C22: ='Zadanie nr 4'!$C$4 -> Urządzenia Maquet
B23: ='Zadanie nr 5'!$C$2 -> 5 | C23: ='Zadanie nr 5'!$C$4 -> Sprzęt endoskopowy Olympus
B24: ='Zadanie nr 6'!$C$2 -> 6 | C24: ='Zadanie nr 6'!$C$4 -> Urządzenia laboratoryjne Becton Dickinson
B25: ='Zadanie nr 7'!$C$2 -> 7 | C25: ='Zadanie nr 7'!$C$4 -> Wstrzykiwacze kontrastu
B26: ='Zadanie nr 8'!$C$2 -> 8 | C26: ='Zadanie nr 8'!$C$4 -> Aparaty do znieczulania Draeger
B27: ='Zadanie nr 9'!$C$2 -> 9 | C27: ='Zadanie nr 9'!$C$4 -> Aparaty do znieczulania Anmedic
B28: ='Zadanie nr 10'!$C$2 -> 10 | C28: ='Zadanie nr 10'!$C$4 -> Aparaty elektrochirurgiczne Emed
B29: ='Zadanie nr 11'!$C$2 -> 11 | C29: ='Zadanie nr 11'!$C$4 -> Aparaty elektrochirurgiczne Valleylab
B30: ='Zadanie nr 12'!$C$2 -> 12 | C30: ='Zadanie nr 12'!$C$4 -> Aparaty elektrochirurgiczne Erbe
B31: ='Zadanie nr 13'!$C$2 -> 13 | C31: ='Zadanie nr 13'!$C$4 -> Aparaty USG
B32: ='Zadanie nr 14'!$C$2 -> 14 | C32: ='Zadanie nr 14'!$C$4 -> Respirator Viasys
B33: ='Zadanie nr 15'!$C$2 -> 15 | C33: ='Zadanie nr 15'!$C$4 -> Detektory promieniowania gamma
B34: ='Zadanie nr 16'!$C$2 -> 16 | C34: ='Zadanie nr 16'!$C$4 -> Zestawy laparoskopowe Aesculap
B35: ='Zadanie nr 17'!$C$2 -> 17 | C35: ='Zadanie nr 17'!$C$4 -> Mikrotomy
B36: ='Zadanie nr 18'!$C$2 -> 18 | C36: ='Zadanie nr 18'!$C$4 -> Urządzenia Mindray
B37: ='Zadanie nr 19'!$C$2 -> 19 | C37: ='Zadanie nr 19'!$C$4 -> Sprzęt monitorowania parametrów życiowych
B38: ='Zadanie nr 20'!$C$2 -> 20 | C38: ='Zadanie nr 20'!$C$4 -> Defibrylatory
B39: ='Zadanie nr 21'!$C$2 -> 21 | C39: ='Zadanie nr 21'!$C$4 -> Pompy infuzyjne Braun
B40: ='Zadanie nr 22'!$C$2 -> 22 | C40: ='Zadanie nr 22'!$C$4 -> Myjnie endoskopowe, szafa do suszenia endoskopów
B41: ='Zadanie nr 23'!$C$2 -> 23 | C41: ='Zadanie nr 23'!$C$4 -> Sterylizator plazmowy
B42: ='Zadanie nr 24'!$C$2 -> 24 | C42: ='Zadanie nr 24'!$C$4 -> Urządzenia sterylizacji parowej
B43: ='Zadanie nr 25'!$C$2 -> 25 | C43: ='Zadanie nr 25'!$C$4 -> Urządzenia Centralnej Sterylizatorni
B44: ='Zadanie nr 26'!$C$2 -> 26 | C44: ='Zadanie nr 26'!$C$4 -> Komory laminarne
B45: ='Zadanie nr 27'!$C$2 -> 27 | C45: ='Zadanie nr 27'!$C$4 -> Aparaty rtg Siemens
B46: ='Zadanie nr 28'!$C$2 -> 28 | C46: ='Zadanie nr 28'!$C$4 -> Mammograf, kardiomonitor GE
B47: ='Zadanie nr 29'!$C$2 -> 29 | C47: ='Zadanie nr 29'!$C$4 -> Urządzenia ZdAJ
B48: ='Zadanie nr 30'!$C$2 -> 30 | C48: ='Zadanie nr 30'!$C$4 -> Inkubatory CO2, cieplarki Incucell
B49: ='Zadanie nr 31'!$C$2 -> 31 | C49: ='Zadanie nr 31'!$C$4 -> Cytometr przepływowy
B50: ='Zadanie nr 32'!$C$2 -> 32 | C50: ='Zadanie nr 32'!$C$4 -> Aparat do suchego rozmrażania osocza
B51: ='Zadanie nr 33'!$C$2 -> 33 | C51: ='Zadanie nr 33'!$C$4 -> Myjnie-dezynfektory do kaczek i basenów Steelco
B52: ='Zadanie nr 34'!$C$2 -> 34 | C52: ='Zadanie nr 34'!$C$4 -> Aparat do hipertermii
B53: ='Zadanie nr 35'!$C$2 -> 35 | C53: ='Zadanie nr 35'!$C$4 -> Komory manipulacyjne
B54: ='Zadanie nr 36'!$C$2 -> 36 | C54: ='Zadanie nr 36'!$C$4 -> Systemy do planowania leczenia
B55: ='Zadanie nr 37'!$C$2 -> 37 | C55: ='Zadanie nr 37'!$C$4 -> Drukarki do klisz
B56: ='Zadanie nr 38'!$C$2 -> 38 | C56: ='Zadanie nr 38'!$C$4 -> Urządzenia do biopsji mammotomicznej
B57: ='Zadanie nr 39'!$C$2 -> 39 | C57: ='Zadanie nr 39'!$C$4 -> Aparat rtg Ziehm
B58: ='Zadanie nr 40'!$C$2 -> 40 | C58: ='Zadanie nr 40'!$C$4 -> Myjnie-dezynfektory do kaczek i basenów Getinge
B59: ='Zadanie nr 41'!$C$2 -> 41 | C59: ='Zadanie nr 41'!$C$4 -> Aparat do znieczulania Taema
B60: ='Zadanie nr 42'!$C$2 -> 42 | C60: ='Zadanie nr 42'!$C$4 -> Respiratory Covidien
B61: ='Zadanie nr 43'!$C$2 -> 43 | C61: ='Zadanie nr 43'!$C$4 -> Zestawy endoskopowe Karl Storz
B62: ='Zadanie nr 44'!$C$2 -> 44 | C62: ='Zadanie nr 44'!$C$4 -> Myjnia dezynfektor do kaczek i basenów Franke
B63: ='Zadanie nr 45'!$C$2 -> 45 | C63: ='Zadanie nr 45'!$C$4 -> Morcelator Richard Wolf
B64: ='Zadanie nr 46'!$C$2 -> 46 | C64: ='Zadanie nr 46'!$C$4 -> Nóż harmoniczny
B65: ='Zadanie nr 47'!$C$2 -> 47 | C65: ='Zadanie nr 47'!$C$4 -> Aspirator ultradźwiękowy
B66: ='Zadanie nr 48'!$C$2 -> 48 | C66: ='Zadanie nr 48'!$C$4 -> Kardiomonitor do pomiarów hemodynamicznych serca
B67: ='Zadanie nr 49'!$C$2 -> 49 | C67: ='Zadanie nr 49'!$C$4 -> Łóżka szpitalne elektryczne
B68: ='Zadanie nr 50'!$C$2 -> 50 | C68: ='Zadanie nr 50'!$C$4 -> Łóżka intensywnej opieki medycznej
B69: ='Zadanie nr 51'!$C$2 -> 51 | C69: ='Zadanie nr 51'!$C$4 -> Sprzęt endoskopowy Pentax
B70: ='Zadanie nr 52'!$C$2 -> 52 | C70: ='Zadanie nr 52'!$C$4 -> Laser do udrażniania światła oskrzeli
B71: ='Zadanie nr 53'!$C$2 -> 53 | C71: ='Zadanie nr 53'!$C$4 -> Ciśnieniomierze
B72: ='Zadanie nr 54'!$C$2 -> 54 | C72: ='Zadanie nr 54'!$C$4 -> Aparat do znieczulania Mindray
B73: ='Zadanie nr 55'!$C$2 -> 55 | C73: ='Zadanie nr 55'!$C$4 -> System transportu pacjenta
B74: ='Zadanie nr 56'!$C$2 -> 56 | C74: ='Zadanie nr 56'!$C$4 -> Mikroskopy
B75: ='Zadanie nr 57'!$C$2 -> 57 | C75: ='Zadanie nr 57'!$C$4 -> Pipety
B76: ='Zadanie nr 58'!$C$2 -> 58 | C76: ='Zadanie nr 58'!$C$4 -> Detektor promieniowania gamma
B77: ='Zadanie nr 59'!$C$2 -> 59 | C77: ='Zadanie nr 59'!$C$4 -> Generator do termoablacji
B78: ='Zadanie nr 60'!$C$2 -> 60 | C78: ='Zadanie nr 60'!$C$4 -> Performer hipertermii
B79: ='Zadanie nr 61'!$C$2 -> 61 | C79: ='Zadanie nr 61'!$C$4 -> System obrazowania VS3 Iridium
B80: ='Zadanie nr 62'!$C$2 -> 62 | C80: ='Zadanie nr 62'!$C$4 -> Robotyczny pozycjoner optyki
B81: ='Zadanie nr 63'!$C$2 -> 63 | C81: ='Zadanie nr 63'!$C$4 -> Kardiostymulator zewnętrzny
B82: ='Zadanie nr 64'!$C$2 -> 64 | C82: ='Zadanie nr 64'!$C$4 -> Respiratory transportowe
B83: ='Zadanie nr 65'!$C$2 -> 65 | C83: ='Zadanie nr 65'!$C$4 -> Stół operacyjny Saturn Select
B84: ='Zadanie nr 66'!$C$2 -> 66 | C84: ='Zadanie nr 66'!$C$4 -> Lampy operacyjne
B85: ='Zadanie nr 67'!$C$2 -> 67 | C85: ='Zadanie nr 67'!$C$4 -> Sekwenator Ion S5 z wyposażeniem
B86: ='Zadanie nr 68'!$C$2 -> 68 | C86: ='Zadanie nr 68'!$C$4 -> Sekwenator kapilarny
B87: ='Zadanie nr 69'!$C$2 -> 69 | C87: ='Zadanie nr 69'!$C$4 -> Zamrażarki niskotemperaturowe
B88: ='Zadanie nr 70'!$C$2 -> 70 | C88: ='Zadanie nr 70'!$C$4 -> Wirówki laboratoryjne Heraeus
B89: ='Zadanie nr 71'!$C$2 -> 71 | C89: ='Zadanie nr 71'!$C$4 -> Termomiksery
B90: ='Zadanie nr 72'!$C$2 -> 72 | C90: ='Zadanie nr 72'!$C$4 -> Inkubator, wirówka Bio-Rad
B91: ='Zadanie nr 73'!$C$2 -> 73 | C91: ='Zadanie nr 73'!$C$4 -> Termocyklery PCR firmy Termo Scientific
B92: ='Zadanie nr 74'!$C$2 -> 74 | C92: ='Zadanie nr 74'!$C$4 -> Urządzenie ViiA 7
B93: ='Zadanie nr 75'!$C$2 -> 75 | C93: ='Zadanie nr 75'!$C$4 -> Komory laminarne BioBan
B94: ='Zadanie nr 76'!$C$2 -> 76 | C94: ='Zadanie nr 76'!$C$4 -> Barwiarka, zaklejarka Sakura
B98: Okres gwarancji wynosi: ……………………miesięcy na wymienione w ramach każdego przeglądu części aparatu.
B103: \

Sheet Zadanie nr 1
B2: Część | C2: 1
A4: Temat: | C4: Aparaty EKG
B6: Szczegółowy podział zadania:
A8: Nr | B8: Nazwa/ Model | C8: Nr seryjny | D8: Rok produkcji | E8: Przegląd do | F8: Cena netto | G8: Stawka podatku VAT | H8: Cena brutto
A9: 1 | B9: AsCARD Mr BLUE | C9: 150/06 | D9: 2006 | E9: 44077
A10: 2 | B10: AsCARD Mr BLUE | C10: 228/07/A | D10: 2007 | E10: 44077
A11: 3 | B11: AsCARD Mr BLUE | C11: 64/06 | D11: 2006 | E11: 44077
A12: 4 | B12: AsCARD Mr BLUE | C12: 703/08 | D12: 2008 | E12: 44077
A13: 5 | B13: AsCARD Mr BLUE | C13: 227/07/A | D13: 2007 | E13: 44077
A14: 6 | B14: DELTA + | C14: MVis000377 | D14: 1998 | E14: 44077
A15: 7 | B15: M-Trace | C15: 0490 | D15: 2010 | E15: 44077
A16: 8 | B16: M-Trace | C16: 0633 | D16: 2010 | E16: 44077
A17: 9 | B17: M-Trace | C17: 0274 | D17: 2009 | E17: 44077
A18: 10 | B18: M-Trace | C18: 1386 | D18: 2012 | E18: 44077
B19: Przegląd zgodny z wymaganiami producenta obejmujący min. czyszczenie, kalibrację i testy kontrolne, sprawdzenie zgodności parametrów funkcjonalnych urządzeń z deklarowanymi przez producenta, sprawdzenie poprawności działania zgodnie z normami bezpieczeństwa zalecanymi przez producenta, konserwację zgodnie z zaleceniami producenta, testy bezpieczeństwa elektrycznego. Koszt przeglądu obejmuje koszty dojazdu. | G19: TAK
B20: Poszczególne przeglądy zostaną udokumentowane kartą pracy/raportem serwisowym, oraz wpisem do paszportu technicznego, a wyniki testu bezpieczeństwa elektrycznego na oddzielnym protokole. Aparaty zostaną oznakowane nalepką z terminem wykonania kolejnego przeglądu. | G20: TAK
B21: Wykonawca posiada uprawnienia serwisowe lub szkolenia serwisowe wystawione przez co najmniej 1-go (dowolnego) producenta aparatów EKG, uprawniające do wykonywania przeglądów i napraw. | G21: TAK
A23: Cena brutto razem: | C23: =SUM(H9:H18) -> 0 | F23: Kwota VAT:
A24: cena brutto słownie:

Sheet Zadanie nr 2
B2: Część | C2: 2
A4: Temat: | C4: Aparatura do histopatologii I
B6: Szczegółowy podział zadania:
A8: Nr | B8: Nazwa/ Model | C8: Nr seryjny | D8: Rok produkcji | E8: Przegląd do | F8: Cena netto | G8: Stawka podatku VAT | H8: Cena brutto
A9: 1 | B9: Kriostat LEICA CM1900 | C9: 1398 | D9: 2000 | E9: 44057
A10: 2 | B10: Mikrotom LEICA RM2135 | C10: 775 | D10: 1997 | E10: 44057
A11: 3 | B11: Mikrotom LEICA SM2000R | C11: 1291 | D11: 1998 | E11: 44057
B12: Przegląd zgodny z wymaganiami producenta obejmujący min. czyszczenie, sprawdzenie bezpieczeństwa mechanicznego i elektrycznego, kontrolę zużycia części i wyposażenia, sprawdzenie poprawności ogólnego funkcjonowania aparatu, kalibrację i testy kontrolne, sprawdzenie zgodności parametrów funkcjonalnych urządzeń z deklarowanymi przez producenta, sprawdzenie poprawności działania zgodnie z normami bezpieczeństwa zalecanymi przez producenta, konserwację zgodnie z zaleceniami producenta, testy bezpieczeństwa elektrycznego. Koszt przeglądu obejmuje koszty dojazdu. | G12: TAK
B13: Poszczególne przeglądy zostaną udokumentowane kartą pracy/raportem serwisowym, oraz wpisem do paszportu technicznego, a wyniki testu bezpieczeństwa elektrycznego na oddzielnym protokole. Aparaty zostaną oznakowane nalepką z terminem wykonania kolejnego przeglądu. | G13: TAK
B14: Wykonawca posiada uprawnienia serwisowe lub szkolenia serwisowe wystawione przez co najmniej 1-go (dowolnego) producenta urządzeń histopatologicznych, uprawniające do wykonywania przeglądów i napraw. | G14: TAK
A18: Cena brutto razem: | F18: Kwota VAT:
A19: cena brutto słownie:

Sheet Zadanie nr 3
B2: Część | C2: 3
A4: Temat: | C4: Aparatura do histopatologii II
B6: Szczegółowy podział zadania:
A8: Nr | B8: Nazwa/ Model | C8: Nr seryjny | D8: Rok produkcji | E8: Przegląd do | F8: Cena netto | G8: Stawka podatku VAT | H8: Cena brutto
A9: 1 | B9: Procesor tkankowy Excelsior | C9: EX24250707 | D9: 2007 | E9: 44086
A10: 2 | B10: Barwiarka Varistain Gemini | C10: PH1059E0706 | D10: 2007 | E10: 44086
A11: 3 | B11: Zaklejarka GCS 600 | C11: 2023132 | D11: 2007 | E11: 44086
A12: 4 | B12: Stacja do zatapiania tkanek Histostar | C12: HS3139A1511 | D12: 2015 | E12: 44086
B13: Przegląd zgodny z wymaganiami producenta obejmujący min. czyszczenie, sprawdzenie bezpieczeństwa mechanicznego i elektrycznego, kontrolę zużycia części i wyposażenia, sprawdzenie poprawności ogólnego funkcjonowania aparatu, kalibrację i testy kontrolne, sprawdzenie zgodności parametrów funkcjonalnych urządzeń z deklarowanymi przez producenta, sprawdzenie poprawności działania zgodnie z normami bezpieczeństwa zalecanymi przez producenta, konserwację zgodnie z zaleceniami producenta, testy bezpieczeństwa elektrycznego. Przegląd obejmuje min. wymianę elementów – filter formaldehyde – 2 szt., filter vapour, akumulator 12V/12Ah – 2 szt. do procesora Excelsior, filter vapour, akumulator 12V/12Ah do barwiarki Gemini. Koszt przeglądu obejmuje koszty dojazdu. | G13: TAK
B14: Poszczególne przeglądy zostaną udokumentowane kartą pracy/raportem serwisowym, oraz wpisem do paszportu technicznego, a wyniki testu bezpieczeństwa elektrycznego na oddzielnym protokole. Aparaty zostaną oznakowane nalepką z terminem wykonania kolejnego przeglądu. | G14: TAK
B15: Wykonawca posiada uprawnienia serwisowe lub szkolenia serwisowe wystawione przez co najmniej 1-go (dowolnego) producenta urządzeń histopatologicznych, uprawniające do wykonywania przeglądów i napraw. | G15: TAK
A18: Cena brutto razem: | F18: Kwota VAT:
A19: cena brutto słownie:

Sheet Zadanie nr 4
B2: Część | C2: 4
A4: Temat: | C4: Urządzenia Maquet
B6: Szczegółowy podział zadania:
A8: Nr | B8: Nazwa/ Model | C8: Nr seryjny | D8: Rok produkcji | E8: Przegląd do | F8: Cena netto | G8: Stawka podatku VAT | H8: Cena brutto
A9: 1 | B9: Aphastar Pro | C9: 00256 | D9: 2014 | E9: 44182
A10: 2 | B10: Aphastar Pro | C10: 00257 | D10: 2014 | E10: 44182
A11: 3 | B11: Aphastar Pro | C11: 00268 | D11: 2014 | E11: 44182
A12: 4 | B12: Alphamaquet 1150 | C12: 02710 | D12: 2013 | E12: 44104
A13: 5 | B13: Volista 600/400 | C13: AR029000/ AR028047 | D13: 2014 | E13: 44182
A14: 6 | B14: Volista 600/400 | C14: AR025074/ AR025065 | D14: 2014 | E14: 44182
A15: 7 | B15: Modutec MM 6-6 BP | C15: SUQ822810 | D15: 2014 | E15: 44182
A16: 8 | B16: Modutec MM 6-6 BP | C16: SUQ822809 | D16: 2014 | E16: 44182
A17: 9 | B17: Modutec HM 9-9 BP | C17: SUQ822811 | D17: 2014 | E17: 44182
A18: 10 | B18: Modutec HM 9-9 BP | C18: SUQ822812 | D18: 2014 | E18: 44182
B19: Przegląd zgodny z wymaganiami producenta obejmujący min. czyszczenie, sprawdzenie bezpieczeństwa mechanicznego i elektrycznego, smarowanie ruchomych części mechanicznych, kontrolę zużycia części i wyposażenia, sprawdzenie poprawności ogólnego funkcjonowania aparatu, kalibrację i testy kontrolne, sprawdzenie zgodności parametrów funkcjonalnych urządzeń z deklarowanymi przez producenta, sprawdzenie poprawności działania zgodnie z normami bezpieczeństwa zalecanymi przez producenta, konserwację zgodnie z zaleceniami producenta, testy bezpieczeństwa elektrycznego. Koszt przeglądu obejmuje koszty dojazdu. | G19: TAK
B20: Poszczególne przeglądy zostaną udokumentowane kartą pracy/raportem serwisowym, oraz wpisem do paszportu technicznego, a wyniki testu bezpieczeństwa elektrycznego na oddzielnym protokole. Aparaty zostaną oznakowane nalepką z terminem wykonania kolejnego przeglądu. | G20: TAK
B21: Wykonawca posiada uprawnienia serwisowe lub szkolenia serwisowe wystawione przez co najmniej 1-go (dowolnego) producenta stołów operacyjnych, potwierdzające uprawnienia do wykonywania czynności serwisowych. | G21: TAK
A23: Cena brutto razem: | C23: =SUM(H9:H18) -> 0 | F23: Kwota VAT:
A24: cena brutto słownie:

Sheet Zadanie nr 5
B2: Część | C2: 5
A4: Temat: | C4: Sprzęt endoskopowy Olympus
B6: Szczegółowy podział zadania:
A8: Nr | B8: Nazwa/ Model | C8: Nr seryjny | D8: Rok produkcji | E8: Przegląd do | F8: Cena netto | G8: Stawka podatku VAT | H8: Cena brutto
A9: 1 | B9: BF-XT160 | C9: 2500407 | D9: 2005 | E9: 44280
A10: 2 | B10: BF-1T160 | C10: 2512928 | D10: 2005 | E10: 44280
A11: 3 | B11: GIF-Q180 | C11: 2707212 | D11: 2007 | E11: 44341
A12: 4 | B12: URF-P5 | C12: W900431 | D12: 2009 | E12: 44280
A13: 5 | B13: CYF-VHA | C13: 2400846 | D13: 2014 | E13: 44135
A14: 6 | B14: GIF-H190 | C14: 2414276 | D14: 2014 | E14: 44280
A15: 7 | B15: CF-H185L | C15: 2731449 | D15: 2017 | E15: 44260
A16: 8 | B16: CF-H185L | C16: 2731452 | D16: 2017 | E16: 44216
A17: 9 | B17: ="OFP-2" -> OFP-2 | C17: ="21413143" -> 21413143 | D17: 2014 | E17: 44135
A18: 10 | B18: ="OFP-2" -> OFP-2 | C18: ="21411277" -> 21411277 | D18: 2014 | E18: 44135
A19: 11 | B19: ="CV-160" -> CV-160 | C19: ="7539116" -> 7539116 | D19: 2006 | E19: 44135
A20: 12 | B20: ="CV-190" -> CV-190 | C20: ="7455791" -> 7455791 | D20: 2014 | E20: 44135
A21: 13 | B21: ="CV-190" -> CV-190 | C21: ="7406699" -> 7406699 | D21: 2014 | E21: 44135
A22: 14 | B22: ="Wózek endoskopowy" -> Wózek endoskopowy | C22: ="802-59-1" -> 802-59-1 | D22: 2006 | E22: 44135
A23: 15 | B23: ="WM-NP2" -> WM-NP2 | C23: ="21415444" -> 21415444 | D23: 2014 | E23: 44135
A24: 16 | B24: ="WM-NP2" -> WM-NP2 | C24: ="21416379" -> 21416379 | D24: 2014 | E24: 44135
A25: 17 | B25: ="CLV-160" -> CLV-160 | C25: ="7546609" -> 7546609 | D25: 2006 | E25: 44135
A26: 18 | B26: ="CLV-190" -> CLV-190 | C26: ="7406764" -> 7406764 | D26: 2014 | E26: 44135
A27: 19 | B27: ="CLV-190" -> CLV-190 | C27: ="7455798" -> 7455798 | D27: 2014 | E27: 44135
B28: Przegląd zgodny z wymaganiami producenta obejmujący min. czyszczenie, sprawdzenie bezpieczeństwa mechanicznego i elektrycznego, kontrolę zużycia części i wyposażenia, sprawdzenie poprawności ogólnego funkcjonowania aparatu, kalibrację i testy kontrolne, sprawdzenie zgodności parametrów funkcjonalnych urządzeń z deklarowanymi przez producenta, sprawdzenie poprawności działania zgodnie z normami bezpieczeństwa zalecanymi przez producenta, konserwację zgodnie z zaleceniami producenta, testy bezpieczeństwa elektrycznego. Wykonawca w ramach przeglądu zobowiązuje się do przygotowania bieżących zaleceń eksploatacyjnych związanych ze stanem aparatów oraz ich dalszym użytkowaniem. Wykonawca zobowiązuje się do wykonania ekspertyz technicznych związanych z wykrytymi usterkami oraz kosztorysu naprawy. Wykonawca zobowiązuje się do zwrotu endoskopów w nie pogorszonym stanie technicznym, wszelkie działania mogące pogorszyć stan techniczny endoskopów muszą być wcześniej uzgadniane z Zamawiającym. | G28: TAK
B29: Poszczególne przeglądy zostaną udokumentowane kartą pracy/raportem serwisowym, oraz wpisem do paszportu technicznego, a wyniki testu bezpieczeństwa elektrycznego na oddzielnym protokole. Aparaty zostaną oznakowane nalepką z terminem wykonania kolejnego przeglądu. Koszt przeglądu obejmuje koszty dojazdu lub wysyłki. W przypadku wysyłki, fakt pobrania sprzętu do przeglądu i odbioru sprzętu po przeglądzie zostanie potwierdzony pokwitowaniem z zaznaczeniem nazwy, typu i numeru fabrycznego sprzętu. Wykonawca ponosi pełną odpowiedzialność za przewożony sprzęt. | G29: TAK
B30: Wykonawca posiada uprawnienia serwisowe lub szkolenia serwisowe wystawione przez co najmniej 1-go (dowolnego) producenta sprzętu endoskopowego, uprawniające do wykonywania przeglądów i napraw. | G30: TAK
A32: Cena brutto razem: | C32: =SUM(H9:H27) -> 0 | F32: Kwota VAT:
A33: cena brutto słownie:

Sheet Zadanie nr 6
B2: Część | C2: 6
A4: Temat: | C4: Urządzenia laboratoryjne Becton Dickinson
A6: Szczegółowy podział zadania:
A8: Nr | B8: Nazwa/ Model | C8: Nr seryjny | D8: Rok produkcji | E8: Przegląd do | F8: Cena netto | G8: Stawka podatku VAT | H8: Cena brutto
A9: 1 | B9: Phoenix M50 | C9: PF0440 | D9: 2017 | E9: 44175
A10: 2 | B10: Bactec FX40 | C10: FF2639 | D10: 2017 | E10: 44175
A11: 3 | B11: Bactec FX40 | C11: FF2640 | D11: 2017 | E11: 44175
B12: Przegląd zgodny z wymaganiami producenta obejmujący min. czyszczenie, sprawdzenie bezpieczeństwa mechanicznego i elektrycznego, kontrolę zużycia części i wyposażenia, sprawdzenie poprawności ogólnego funkcjonowania aparatu, kalibrację i testy kontrolne, sprawdzenie zgodności parametrów funkcjonalnych urządzenia z deklarowanymi przez producenta, sprawdzenie poprawności działania zgodnie z normami bezpieczeństwa zalecanymi przez producenta, konserwację zgodnie z zaleceniami producenta, testy bezpieczeństwa elektrycznego. Przegląd obejmuje min. wymianę części zamiennnych w aparacie Phoenix M50 (Phoenix Normalizer Panel - 2 szt.). Koszt przeglądu obejmuje koszty dojazdu. | G12: TAK
B13: Poszczególne przeglądy zostaną udokumentowane kartą pracy/raportem serwisowym, oraz wpisem do paszportu technicznego, a wyniki testu bezpieczeństwa elektrycznego na oddzielnym protokole. Aparaty zostaną oznakowane nalepką z terminem wykonania kolejnego przeglądu. | G13: TAK
B14: Wykonawca posiada uprawnienia serwisowe lub szkolenia serwisowe wystawione przez co najmniej 1-go (dowolnego) producenta aparatów do posiewu krwi, uprawniające do wykonywania przeglądów i napraw. | G14: TAK
A16: Cena brutto: | F16: Kwota VAT:
A17: cena brutto słownie:

Sheet Zadanie nr 7
B2: Część | C2: 7
A4: Temat: | C4: Wstrzykiwacze kontrastu
B6: Szczegółowy podział zadania:
A8: Nr | B8: Nazwa/ Model | C8: Nr seryjny | D8: Rok produkcji | E8: Przegląd do | F8: Cena netto | G8: Stawka podatku VAT | H8: Cena brutto
A9: 1 | B9: Optivantage DH | C9: CI0312B562 | D9: 2012 | E9: 44140
A10: 2 | B10: Optivantage DH | C10: CI0312B517 | D10: 2012 | E10: 44077
A11: 3 | B11: Optivantage DH | C11: CI0107B519 | D11: 2007 | E11: 44276
A12: 4 | B12: Optistar Elite | C12: CI0610D008 | D12: 2010 | E12: 44077
B13: Przegląd zgodny z wymaganiami producenta obejmujący min. czyszczenie, sprawdzenie bezpieczeństwa mechanicznego i elektrycznego, kontrolę zużycia części i wyposażenia, sprawdzenie poprawności ogólnego funkcjonowania aparatu, kalibrację i testy kontrolne, sprawdzenie zgodności parametrów funkcjonalnych urządzenia z deklarowanymi przez producenta, sprawdzenie poprawności działania zgodnie z normami bezpieczeństwa zalecanymi przez producenta, konserwację zgodnie z zaleceniami producenta, testy bezpieczeństwa elektrycznego. Koszt przeglądu obejmuje koszty dojazdu. | G13: TAK
B14: Poszczególne przeglądy zostaną udokumentowane kartą pracy/raportem serwisowym, oraz wpisem do paszportu technicznego, a wyniki testu bezpieczeństwa elektrycznego na oddzielnym protokole. Aparaty zostaną oznakowane nalepką z terminem wykonania kolejnego przeglądu. | G14: TAK
B15: Wykonawca posiada uprawnienia serwisowe lub szkolenia serwisowe wystawione przez co najmniej 1-go (dowolnego) producenta wstrzykiwaczy kontrastu, uprawniające do wykonywania przeglądów i napraw. | G15: TAK
A17: Cena brutto: | C17: =SUM(H9:H12) -> 0 | F17: Kwota VAT:
A18: cena brutto słownie:

Sheet Zadanie nr 8
B2: Część | C2: 8
A4: Temat: | C4: Aparaty do znieczulania Draeger
B6: Szczegółowy podział zadania:
A8: Nr | B8: Nazwa/ Model | C8: Nr seryjny | D8: Rok produkcji | E8: Przegląd do | F8: Cena netto | G8: Stawka podatku VAT | H8: Cena brutto
A9: 1 | B9: Primus + monitor Infinity Delta | C9: ASDJ-0110 | D9: 2012 | E9: 2020-07-30, drugi po 6 miesiącach
A10: 2 | B10: Primus + monitor Infinity Delta | C10: ASAK-0172 | D10: 2009 | E10: 2020-07-30, drugi po 6 miesiącach
A11: 3 | B11: Primus | C11: ASFJ-0047 | D11: 2014 | E11: 2020-07-30, drugi po 6 miesiącach
B12: Przeglądy zgodnie z wymaganiami producenta obejmujące min. czyszczenie, kalibrację i testy kontrolne, sprawdzenie zgodności parametrów funkcjonalnych urządzeń z deklarowanymi przez producenta, sprawdzenie poprawności działania zgodnie z normami bezpieczeństwa zalecanymi przez producenta, konserwację zgodnie z zaleceniami producenta, testy bezpieczeństwa elektrycznego. Przeglądy wykonywane przy użyciu zalecanych przez producenta urządzeń kontrolnopomiarowych posiadających aktualne świadectwa kalibracji/wzorcowania. Przeglądy obejmują min. wymianę elementów – zestaw 2-letni Primus (1 szt.), zestaw 1-roczny Primus (2 szt.), filtr 37 mm - 3 szt, uszczelki (3 szt.), Lithium-ion battery (2 szt.) do monitorów Infinity Delta, moduł przewodowy Multimed 5 2,5 m (1 szt.), przewód EKG, 3-odpr, 2-pinowy, IEC1 (2 szt.), przedłużacz SpO2 Drager/Nellcor do Multimed 5 (1 szt.), czujnik SpO2 Drager na palec (1 szt.), czujnik SpO2 Masimo LNCS na palec z przedłużaczem, dren łączący NIPC do monitora Infinity (1 szt.), mankiet NIPC, rozmiar 23-33 cm (3 szt.), pułapka wodna (36 szt.). Koszt przeglądów obejmuje koszty dojazdu. | G12: TAK
B13: Poszczególne przeglądy zostaną udokumentowane kartą pracy/raportem serwisowym, oraz wpisem do paszportu technicznego, a wyniki testu bezpieczeństwa elektrycznego na oddzielnym protokole. Aparaty zostaną oznakowane nalepką z terminem wykonania kolejnego przeglądu. | G13: TAK
B14: Wykonawca posiada uprawnienia serwisowe lub szkolenia serwisowe wystawione przez producenta ww. aparatów lub autoryzowanego przedstawiciela, uprawniające do wykonywania przeglądów i napraw. | G14: TAK
A16: Cena brutto razem: | F16: Kwota VAT:
A17: cena brutto słownie:

Sheet Zadanie nr 9
B2: Część | C2: 9
A4: Temat: | C4: Aparaty do znieczulania Anmedic
B6: Szczegółowy podział zadania:
A8: Nr | B8: Nazwa/ Model | C8: Nr seryjny | D8: Rok produkcji | E8: Przegląd do | F8: Cena netto | G8: Stawka podatku VAT | H8: Cena brutto
A9: 1 | B9: Falcon SE | C9: 511163 | D9: 2006 | E9: 44043
A10: 2 | B10: Falcon SE | C10: 511165 | D10: 2006 | E10: 44043
B11: Przegląd zgodny z wymaganiami producenta obejmujący min. czyszczenie, kalibrację i testy kontrolne, sprawdzenie zgodności parametrów funkcjonalnych urządzeń z deklarowanymi przez producenta, sprawdzenie poprawności działania zgodnie z normami bezpieczeństwa zalecanymi przez producenta, konserwację zgodnie z zaleceniami producenta, testy bezpieczeństwa elektrycznego. Koszt przeglądu obejmuje koszty dojazdu. | G11: TAK
B12: Poszczególne przeglądy zostaną udokumentowane kartą pracy/raportem serwisowym, oraz wpisem do paszportu technicznego, a wyniki testu bezpieczeństwa elektrycznego na oddzielnym protokole. Aparaty zostaną oznakowane nalepką z terminem wykonania kolejnego przeglądu. | G12: TAK
B13: Wykonawca posiada uprawnienia serwisowe lub szkolenia serwisowe wystawione przez producenta ww. aparatów lub autoryzowanego przedstawiciela, uprawniające do wykonywania przeglądów i napraw. | G13: TAK
A16: Cena brutto razem: | C16: =SUM(H9:H10) -> 0 | F16: Kwota VAT:
A17: cena brutto słownie:

Sheet Zadanie nr 10
B2: Część | C2: 10
A4: Temat: | C4: Aparaty elektrochirurgiczne Emed
B6: Szczegółowy podział zadania:
A8: Nr | B8: Nazwa/ Model | C8: Nr seryjny | D8: Rok produkcji | E8: Przegląd do | F8: Cena netto | G8: Stawka podatku VAT | H8: Cena brutto
A9: 1 | B9: ES 120 | C9: 12581 | D9: 2007 | E9: 44226
A10: 2 | B10: ES 300 | C10: 30828 | D10: 2009 | E10: 44209
B11: Przegląd zgodny z wymaganiami producenta obejmujący min. pomiary mocy wyjściowych dla poszczególnych gniazd i trybów pracy, czyszczenie wnętrza i ocena stanu elementów sterujących, kontrola aktywacji, konserwację zgodnie z zaleceniami producenta, testy bezpieczeństwa elektrycznego. | G11: TAK
B12: Poszczególne przeglądy zostaną udokumentowane kartą pracy/raportem serwisowym, oraz wpisem do paszportu technicznego, a wyniki testu bezpieczeństwa elektrycznego na oddzielnym protokole. Aparaty zostaną oznakowane nalepką z terminem wykonania kolejnego przeglądu. Koszt przeglądu obejmuje koszty dojazdu lub wysyłki. W przypadku wysyłki Wykonawca ponosi pełną odpowiedzialność za przewożony sprzęt. | G12: TAK
B13: Wykonawca posiada uprawnienia serwisowe lub szkolenia serwisowe wystawione przez producenta ww. aparatów lub autoryzowanego przedstawiciela, uprawniające do wykonywania przeglądów i napraw. | G13: TAK
A15: Cena brutto razem: | C15: =SUM(H9:H10) -> 0 | F15: Kwota VAT:
A16: cena brutto słownie:

Sheet Zadanie nr 11
B2: Część | C2: 11
A4: Temat: | C4: Aparaty elektrochirurgiczne Valleylab
B6: Szczegółowy podział zadania:
A8: Nr | B8: Nazwa/ Model | C8: Nr seryjny | D8: Rok produkcji | E8: Przegląd do | F8: Cena netto | G8: Stawka podatku VAT | H8: Cena brutto
A9: 1 | B9: FORCE EZ | C9: F0I4536B | D9: 2001 | E9: 44128
A10: 2 | B10: FORCE EZ-8C | C10: F7L10768B | D10: 2007 | E10: 44128
A11: 3 | B11: Force Triad | C11: T1K25934EX | D11: 2011 | E11: 44346
A12: 4 | B12: Force Triad | C12: T4C40440EX | D12: 2014 | E12: 44128
A13: 5 | B13: Force Argon II-8 | C13: G4D2949UX | D13: 2014 | E13: 2020-10-24, drugi po 6 miesiącach
B14: Przegląd zgodny z wymaganiami producenta obejmujący min. pomiary mocy wyjściowych dla poszczególnych gniazd i trybów pracy, czyszczenie wnętrza i ocena stanu elementów sterujących, kontrola aktywacji, konserwację zgodnie z zaleceniami producenta, testy bezpieczeństwa elektrycznego. | G14: TAK
B15: Poszczególne przeglądy zostaną udokumentowane kartą pracy/raportem serwisowym, oraz wpisem do paszportu technicznego, a wyniki testu bezpieczeństwa elektrycznego na oddzielnym protokole. Aparaty zostaną oznakowane nalepką z terminem wykonania kolejnego przeglądu. Koszt przeglądu obejmuje koszty dojazdu lub wysyłki. W przypadku wysyłki Wykonawca ponosi pełną odpowiedzialność za przewożony sprzęt. | G15: TAK
B16: Wykonawca posiada uprawnienia serwisowe lub szkolenia serwisowe wystawione przez producenta ww. aparatów lub autoryzowanego przedstawiciela, uprawniające do wykonywania przeglądów i napraw. | G16: TAK
A18: Cena brutto razem: | C18: =SUM(H9:H13) -> 0 | F18: Kwota VAT:
A19: cena brutto słownie:

Sheet Zadanie nr 12
B2: Część | C2: 12
A4: Temat: | C4: Aparaty elektrochirurgiczne Erbe
B6: Szczegółowy podział zadania:
A8: Nr | B8: Nazwa/ Model | C8: Nr seryjny | D8: Rok produkcji | E8: Przegląd do | F8: Cena netto | G8: Stawka podatku VAT | H8: Cena brutto
A9: 1 | B9: VIO 300D | C9: 11317371 | D9: 2010 | E9: 44108
A10: 2 | B10: VIO 300D | C10: 11383082 | D10: 2014 | E10: 44108
A11: 3 | B11: APC2 | C11: 11379886 | D11: 2014 | E11: 44108
B12: Przegląd zgodny z wymaganiami producenta obejmujący min. pomiary mocy wyjściowych dla poszczególnych gniazd i trybów pracy, czyszczenie wnętrza i ocena stanu elementów sterujących, kontrola aktywacji, konserwację zgodnie z zaleceniami producenta, testy bezpieczeństwa elektrycznego. | G12: TAK
B13: Poszczególne przeglądy zostaną udokumentowane kartą pracy/raportem serwisowym, oraz wpisem do paszportu technicznego, a wyniki testu bezpieczeństwa elektrycznego na oddzielnym protokole. Aparaty zostaną oznakowane nalepką z terminem wykonania kolejnego przeglądu. Koszt przeglądu obejmuje koszty dojazdu. | G13: TAK
B14: Wykonawca posiada uprawnienia serwisowe lub szkolenia serwisowe wystawione przez producenta ww. aparatów lub autoryzowanego przedstawiciela, uprawniające do wykonywania przeglądów i napraw. | G14: TAK
A16: Cena brutto razem: | C16: =SUM(H9:H11) -> 0 | F16: Kwota VAT:
A17: cena brutto słownie:

Sheet Zadanie nr 13
B2: Część | C2: 13
A4: Temat: | C4: Aparaty USG
B6: Szczegółowy podział zadania:
A8: Nr | B8: Nazwa/ Model | C8: Nr seryjny | D8: Rok produkcji | E8: Przegląd do | F8: Cena netto | G8: Stawka podatku VAT | H8: Cena brutto
A9: 1 | B9: Logiq 7 R75X | C9: 36207YU9 | D9: 2008 | E9: 44049
A10: 2 | B10: Logiq 7 R75X | C10: 39043YU5 | D10: 2008 | E10: 44049
A11: 3 | B11: Logiq Book XP | C11: 49446WX8 | D11: 2007 | E11: 44049
A12: 4 | B12: Falcon 2101 EXL | C12: 1852268 | D12: 2004 | E12: 44079
A13: 5 | B13: Hawk 2102 | C13: 1851759 | D13: 2005 | E13: 44079
A14: 6 | B14: Preirus | C14: KE13039107 | D14: 2011 | E14: 44079
A15: 7 | B15: Sparq | C15: US61310230 | D15: 2013 | E15: 43978
A16: 8 | B16: Flex Focus 800 | C16: 5005181 | D16: 2014 | E16: 44168
A17: 9 | B17: Flex Focus 800 | C17: 5005189 | D17: 2014 | E17: 44168
A18: 10 | B18: ="Arietta V70" -> Arietta V70 | C18: ="205T4957" -> 205T4957 | D18: 2017 | E18: 44171
A19: 11 | B19: ="Arietta V70a" -> Arietta V70a | C19: ="205Q9960" -> 205Q9960 | D19: 2017 | E19: 44171
A20: 12 | B20: ="Flex Focus 300" -> Flex Focus 300 | C20: ="5009775" -> 5009775 | D20: 2017 | E20: 43990
B21: Przegląd serwisowy zgodny z wymaganiami producenta aparatu zawierający min. czyszczenie wnętrza aparatu, wentylatorów, filtrów i trackball’a, sprawdzenie i poprawę styków elektrycznych, sprawdzenie urządzeń peryferyjnych, testy głowic, konserwację zgodnie z zaleceniami producenta, testy bezpieczeństwa elektrycznego. Koszt przeglądu obejmuje koszty dojazdu. | G21: TAK
B22: Poszczególne przeglądy zostaną udokumentowane kartą pracy/raportem serwisowym, oraz wpisem do paszportu technicznego, a wyniki testu bezpieczeństwa elektrycznego na oddzielnym protokole. Aparaty zostaną oznakowane nalepką z terminem wykonania kolejnego przeglądu. | G22: TAK
B23: Wykonawca posiada uprawnienia serwisowe lub szkolenia serwisowe wystawione przez co najmniej 1-go producenta z wymienionych wyżej aparatów USG, uprawniające do wykonywania przeglądów i napraw. | G23: TAK
A25: Cena brutto: | C25: =SUM(H9:H20) -> 0 | F25: Kwota VAT:
A26: cena brutto słownie:

Sheet Zadanie nr 14
B2: Część | C2: 14
A4: Temat: | C4: Respirator Viasys
B6: Szczegółowy podział zadania:
A8: Nr | B8: Nazwa/ Model | C8: Nr seryjny | D8: Rok produkcji | E8: Przegląd do | F8: Cena netto | G8: Stawka podatku VAT | H8: Cena brutto
A9: 1 | B9: Vela | C9: AGT01324 | D9: 2007 | E9: 44147
B10: Przegląd zgodny z wymaganiami producenta obejmujący min. czyszczenie, kalibrację i testy kontrolne, sprawdzenie zgodności parametrów funkcjonalnych urządzeń z deklarowanymi przez producenta, sprawdzenie poprawności działania zgodnie z normami bezpieczeństwa zalecanymi przez producenta, konserwację zgodnie z zaleceniami producenta, testy bezpieczeństwa elektrycznego. Przegląd obejmuje min. wymianę elementów: filtr wewnętrzny z tłumikiem (10365), uszczelka (30020) – 2 szt., filtr wentylatora (34058), filtr wejściowy tlenu (06804), filtr wejściowy powietrza (20819), membrana zastawki wydechowej (10384), czujnik tlenu (0110043). Koszt przeglądu obejmuje koszty dojazdu. | G10: TAK
B11: Przegląd zostanie udokumentowany kartą pracy/raportem serwisowym, oraz wpisem do paszportu technicznego, a wyniki testu bezpieczeństwa elektrycznego na oddzielnym protokole. Aparat zostanie oznakowany nalepką z terminem wykonania kolejnego przeglądu. | G11: TAK
B12: Wykonawca posiada uprawnienia serwisowe lub szkolenia serwisowe wystawione przez producenta ww. aparatu lub autoryzowanego przedstawiciela, uprawniające do wykonywania przeglądów i napraw. | G12: TAK
A14: Cena brutto razem: | C14: =SUM(H9:H9) -> 0 | F14: Kwota VAT:
A15: cena brutto słownie:

Sheet Zadanie nr 15
B2: Część | C2: 15
A4: Temat: | C4: Detektory promieniowania gamma
B6: Szczegółowy podział zadania:
A8: Nr | B8: Nazwa/ Model | C8: Nr seryjny | D8: Rok produkcji | E8: Przegląd do | F8: Cena netto | G8: Stawka podatku VAT | H8: Cena brutto
A9: 1 | B9: GammaFinder II | C9: 040106 | D9: 2010 | E9: 44209
A10: 2 | B10: GammaFinder II | C10: 020758 | D10: 2008 | E10: 44257
A11: 3 | B11: GammaFinder II | C11: 040413 | D11: 2014 | E11: 44106
B12: Przegląd zgodny z wymaganiami producenta obejmujący min. czyszczenie, kalibrację i testy kontrolne, sprawdzenie zgodności parametrów funkcjonalnych urządzeń z deklarowanymi przez producenta, sprawdzenie poprawności działania zgodnie z normami bezpieczeństwa zalecanymi przez producenta, konserwację zgodnie z zaleceniami producenta, wymianę baterii. | G12: TAK
B13: Poszczególne przeglądy zostaną udokumentowane kartą pracy/raportem serwisowym, oraz wpisem do paszportu technicznego. Aparaty zostaną oznakowane nalepką z terminem wykonania kolejnego przeglądu. Koszt przeglądu obejmuje koszty dojazdu lub wysyłki. W przypadku wysyłki Wykonawca ponosi pełną odpowiedzialność za przewożony sprzęt. | G13: TAK
B14: Wykonawca posiada uprawnienia serwisowe lub szkolenia serwisowe wystawione przez co najmniej 1-go (dowolnego) producenta detektorów promieniowania gamma, uprawniające do wykonywania przeglądów i napraw. | G14: TAK
A16: Cena brutto: | C16: =SUM(H9:H11) -> 0 | F16: Kwota VAT:
A17: cena brutto słownie:

Sheet Zadanie nr 16
B2: Część | C2: 16
A4: Temat: | C4: Zestawy laparoskopowe Aesculap
B6: Szczegółowy podział zadania:
A8: Nr | B8: Nazwa/ Model | C8: Nr seryjny | D8: Rok produkcji | E8: Przegląd do | F8: Cena netto | G8: Stawka podatku VAT | H8: Cena brutto
A9: 1 | B9: ="PV890" -> PV890 | C9: ="1282" -> 1282 | D9: 2014 | E9: 44135
A10: 2 | B10: ="PV890" -> PV890 | C10: ="1284" -> 1284 | D10: 2014 | E10: 44135
A11: 3 | B11: ="PV959" -> PV959 | C11: ="14-236612" -> 14-236612 | D11: 2014 | E11: 44135
A12: 4 | B12: ="PV959" -> PV959 | C12: ="14-236610" -> 14-236610 | D12: 2014 | E12: 44135
A13: 5 | B13: ="PV959" -> PV959 | C13: ="14-236898" -> 14-236898 | D13: 2014 | E13: 44135
A14: 6 | B14: ="PV959" -> PV959 | C14: ="14-236902" -> 14-236902 | D14: 2014 | E14: 44135
A15: 7 | B15: ="PG080" -> PG080 | C15: ="1405CE294" -> 1405CE294 | D15: 2014 | E15: 44135
A16: 8 | B16: ="PG080" -> PG080 | C16: ="1406CE501" -> 1406CE501 | D16: 2014 | E16: 44135
A17: 9 | B17: ="OP940" -> OP940 | C17: ="469937" -> 469937 | D17: 2014 | E17: 44135
A18: 10 | B18: ="OP940" -> OP940 | C18: ="473754" -> 473754 | D18: 2014 | E18: 44135
A19: 11 | B19: ="PV462" -> PV462 | C19: ="3713014" -> 3713014 | D19: 2014 | E19: 44135
A20: 12 | B20: ="PV472" -> PV472 | C20: ="475455" -> 475455 | D20: 2014 | E20: 44135
A21: 13 | B21: ="PV460" -> PV460 | C21: ="4008706" -> 4008706 | D21: 2014 | E21: 44135
A22: 14 | B22: ="PV470" -> PV470 | C22: ="475868" -> 475868 | D22: 2014 | E22: 44135
A23: 15 | B23: ="PG145" -> PG145 | C23: ="1403CE688" -> 1403CE688 | D23: 2014 | E23: 44135
A24: 16 | B24: ="PG145" -> PG145 | C24: ="1408CE357" -> 1408CE357 | D24: 2014 | E24: 44135
A25: 17 | B25: GN640 | C25: 3337 | D25: 2014 | E25: 44135
A26: 18 | B26: ="PV840" -> PV840 | C26: ="1136" -> 1136 | D26: 2014 | E26: 44135
B27: Przegląd zgodny z wymaganiami producenta obejmujący min. czyszczenie, sprawdzenie bezpieczeństwa mechanicznego i elektrycznego, kontrolę zużycia części i wyposażenia, sprawdzenie poprawności ogólnego funkcjonowania aparatu, kalibrację i testy kontrolne, sprawdzenie zgodności parametrów funkcjonalnych urządzeń z deklarowanymi przez producenta, sprawdzenie poprawności działania zgodnie z normami bezpieczeństwa zalecanymi przez producenta, konserwację zgodnie z zaleceniami producenta, testy bezpieczeństwa elektrycznego. Koszt przeglądu obejmuje koszty dojazdu. | G27: TAK
B28: Poszczególne przeglądy zostaną udokumentowane kartą pracy/raportem serwisowym, oraz wpisem do paszportu technicznego, a wyniki testu bezpieczeństwa elektrycznego na oddzielnym protokole. Aparaty zostaną oznakowane nalepką z terminem wykonania kolejnego przeglądu. | G28: TAK
B29: Wykonawca posiada uprawnienia serwisowe lub szkolenia serwisowe wystawione przez producenta ww. aparatów lub autoryzowanego przedstawiciela, uprawniające do wykonywania przeglądów i napraw. | G29: TAK
A31: Cena brutto razem: | F31: Kwota VAT:
A32: cena brutto słownie:

Sheet Zadanie nr 17
B2: Część | C2: 17
A4: Temat: | C4: Mikrotomy
B6: Szczegółowy podział zadania:
A8: Nr | B8: Nazwa/ Model | C8: Nr seryjny | D8: Rok produkcji | E8: Przegląd do | F8: Cena netto | G8: Stawka podatku VAT | H8: Cena brutto
A9: 1 | B9: Mikrotom HM 340E + STS | C9: 38905 | D9: 2007 | E9: 44082
A10: 2 | B10: Mikrotom HM450 | C10: 37098 | D10: 2006 | E10: 44082
A11: 3 | B11: Mikrotom HM 340E + STS | C11: 28961 | D11: 2004 | E11: 44082
A12: 4 | B12: Mikrotom HM 340E | C12: 40451 | D12: 2008 | E12: 44082
A13: 5 | B13: Mikrotom HM 340E | C13: 39450 | D13: 2007 | E13: 44082
A14: 6 | B14: Mikrotom HM 340E | C14: 58439 | D14: 2013 | E14: 44082
B15: Przegląd zgodny z wymaganiami producenta obejmujący min. czyszczenie, sprawdzenie bezpieczeństwa mechanicznego i elektrycznego, kontrolę zużycia części i wyposażenia, sprawdzenie poprawności ogólnego funkcjonowania aparatu, kalibrację i testy kontrolne, sprawdzenie zgodności parametrów funkcjonalnych urządzeń z deklarowanymi przez producenta, sprawdzenie poprawności działania zgodnie z normami bezpieczeństwa zalecanymi przez producenta, konserwację zgodnie z zaleceniami producenta, testy bezpieczeństwa elektrycznego. Koszt przeglądu obejmuje koszty dojazdu. | G15: TAK
B16: Poszczególne przeglądy zostaną udokumentowane kartą pracy/raportem serwisowym, oraz wpisem do paszportu technicznego, a wyniki testu bezpieczeństwa elektrycznego na oddzielnym protokole. Aparaty zostaną oznakowane nalepką z terminem wykonania kolejnego przeglądu. | G16: TAK
B17: Wykonawca posiada uprawnienia serwisowe lub szkolenia serwisowe wystawione przez co najmniej 1-go (dowolnego) producenta urządzeń histopatologicznych, uprawniające do wykonywania przeglądów i napraw. | G17: TAK
A21: Cena brutto razem: | C21: =SUM(H9:H14) -> 0 | F21: Kwota VAT:
A22: cena brutto słownie:

Sheet Zadanie nr 18
B2: Część | C2: 18
A4: Temat: | C4: Urządzenia Mindray
B6: Szczegółowy podział zadania:
A8: Nr | B8: Nazwa/ Model | C8: Nr seryjny | D8: Rok produkcji | E8: Przegląd do | F8: Cena netto | G8: Stawka podatku VAT | H8: Cena brutto
A9: 1 | B9: Monitor PM9000 | C9: BX5C-0315AIOQ | D9: 2006 | E9: 44104
A10: 2 | B10: Monitor PM9000 | C10: BX5C-0316FIQQ | D10: 2006 | E10: 44104
A11: 3 | B11: Monitor PM9000 | C11: BX5C-0317FIOQ | D11: 2006 | E11: 44104
A12: 4 | B12: Monitor BeneView T8 z modułem BeneView T1 | C12: CF-3C120727 | D12: 2013 | E12: 44165
A13: 5 | B13: Monitor BeneView T8 | C13: CF-3C120728 | D13: 2013 | E13: 44165
A14: 6 | B14: Monitor BeneView T8 | C14: CF-3C120729 | D14: 2013 | E14: 44165
A15: 7 | B15: Monitor BeneView T8 | C15: CF-3C120732 | D15: 2013 | E15: 44165
A16: 8 | B16: Monitor BeneView T8 | C16: CF-3C120734 | D16: 2013 | E16: 44165
A17: 9 | B17: Monitor BeneView T8 | C17: CF-3C120736 | D17: 2013 | E17: 44165
A18: 10 | B18: Monitor BeneView T8 | C18: CF-3C120737 | D18: 2013 | E18: 44165
A19: 11 | B19: Monitor BeneView T8 | C19: CF-3C120738 | D19: 2013 | E19: 44165
A20: 12 | B20: Monitor BeneView T8 | C20: CF-3C120739 | D20: 2013 | E20: 44165
... A28: 20 | B28: Defibrylator BeneHeart D3 | C28: EL-46014684 | D28: 2014 | E28: 44165
B29: Przegląd zgodny z wymaganiami producenta obejmujący min. czyszczenie, sprawdzenie bezpieczeństwa mechanicznego i elektrycznego, kontrolę zużycia części i wyposażenia, sprawdzenie poprawności ogólnego funkcjonowania aparatu, kalibrację i testy kontrolne, sprawdzenie zgodności parametrów funkcjonalnych urządzeń z deklarowanymi przez producenta, sprawdzenie poprawności działania zgodnie z normami bezpieczeństwa zalecanymi przez producenta, konserwację zgodnie z zaleceniami producenta, testy bezpieczeństwa elektrycznego. Koszt przeglądu obejmuje koszty dojazdu. | G29: TAK
B30: Poszczególne przeglądy zostaną udokumentowane kartą pracy/raportem serwisowym, oraz wpisem do paszportu technicznego, a wyniki testu bezpieczeństwa elektrycznego na oddzielnym protokole. Aparaty zostaną oznakowane nalepką z terminem wykonania kolejnego przeglądu. | G30: TAK
B31: Wykonawca posiada uprawnienia serwisowe lub szkolenia serwisowe wystawione przez co najmniej 1-go (dowolnego) producenta kardiomonitorów, uprawniające do wykonywania przeglądów i napraw. | G31: TAK
A35: Cena brutto razem: | C35: =SUM(H8:H28) -> 0 | F35: Kwota VAT:
A36: cena brutto słownie:

Sheet Zadanie nr 19
B2: Część | C2: 19
A4: Temat: | C4: Sprzęt monitorowania parametrów życiowych
B6: Szczegółowy podział zadania:
A8: Nr | B8: Nazwa/ Model | C8: Nr seryjny | D8: Rok produkcji | E8: Przegląd do | F8: Cena netto | G8: Stawka podatku VAT | H8: Cena brutto
A9: 1 | B9: Pulsoksymetr Spectro2 | C9: 4009598 | D9: 2010 | E9: 44062
A10: 2 | B10: Pulsoksymetr Spectro2 | C10: 4056940 | D10: 2014 | E10: 44062
A11: 3 | B11: Pulsoksymetr Spectro2 | C11: 4052013 | D11: 2014 | E11: 44062
A12: 4 | B12: Pulsoksymetr Spectro2 | C12: 4046701 | D12: 2013 | E12: 44062
A13: 5 | B13: Kapnograf Capnocheck II | C13: 704109039 | D13: 2004 | E13: 44062
A14: 6 | B14: Kardiomonitor Precess 3160 | C14: US10500233 | D14: 2012 | E14: 44062
A15: 7 | B15: Kardiomonitor Enmove 1200 | C15: W-77100622 | D15: 2007 | E15: 44062
A16: 8 | B16: Kardiomonitor FX 2000P | C16: 2590 | D16: 2008 | E16: 44062
A17: 9 | B17: Kardiomonitor FX 2000P | C17: 2591 | D17: 2008 | E17: 44062
A18: 10 | B18: Kardiomonitor FX 2000P | C18: 2592 | D18: 2008 | E18: 44062
A19: 11 | B19: Kardiomonitor FX 2000P | C19: 2593 | D19: 2008 | E19: 44062
B20: Przegląd zgodny z wymaganiami producenta obejmujący min. czyszczenie, sprawdzenie bezpieczeństwa mechanicznego i elektrycznego, kontrolę zużycia części i wyposażenia, sprawdzenie poprawności ogólnego funkcjonowania aparatu, kalibrację i testy kontrolne, sprawdzenie zgodności parametrów funkcjonalnych urządzeń z deklarowanymi przez producenta, sprawdzenie poprawności działania zgodnie z normami bezpieczeństwa zalecanymi przez producenta, konserwację zgodnie z zaleceniami producenta, testy bezpieczeństwa elektrycznego. Koszt przeglądu obejmuje koszty dojazdu. | G20: TAK
B21: Poszczególne przeglądy zostaną udokumentowane kartą pracy/raportem serwisowym, oraz wpisem do paszportu technicznego, a wyniki testu bezpieczeństwa elektrycznego na oddzielnym protokole. Aparaty zostaną oznakowane nalepką z terminem wykonania kolejnego przeglądu. | G21: TAK
B22: Wykonawca posiada uprawnienia serwisowe lub szkolenia serwisowe wystawione przez co najmniej 1-go (dowolnego) producenta kardiomonitorów, uprawniające do wykonywania przeglądów i napraw. | G22: TAK
A26: Cena brutto razem: | F26: Kwota VAT:
A27: cena brutto słownie:

Sheet Zadanie nr 20
B2: Część | C2: 20
A4: Temat: | C4: Defibrylatory
B6: Szczegółowy podział zadania:
A8: Nr | B8: Nazwa/ Model | C8: Nr seryjny | D8: Rok produkcji | E8: Przegląd do | F8: Cena netto | G8: Stawka podatku VAT | H8: Cena brutto
A9: 1 | B9: M Series | C9: T07B87735 | D9: 2007 | E9: 44062
A10: 2 | B10: Cardio-Aid 200-B | C10: 5126193 | D10: 2006 | E10: 44062
B11: Przegląd zgodny z wymaganiami producenta obejmujący min. czyszczenie, sprawdzenie bezpieczeństwa mechanicznego i elektrycznego, kontrolę zużycia części i wyposażenia, sprawdzenie poprawności ogólnego funkcjonowania aparatu, kalibrację i testy kontrolne, sprawdzenie zgodności parametrów funkcjonalnych urządzeń z deklarowanymi przez producenta, sprawdzenie poprawności działania zgodnie z normami bezpieczeństwa zalecanymi przez producenta, konserwację zgodnie z zaleceniami producenta, testy bezpieczeństwa elektrycznego. Koszt przeglądu obejmuje koszty dojazdu. | G11: TAK
B12: Poszczególne przeglądy zostaną udokumentowane kartą pracy/raportem serwisowym, oraz wpisem do paszportu technicznego, a wyniki testu bezpieczeństwa elektrycznego na oddzielnym protokole. Aparaty zostaną oznakowane nalepką z terminem wykonania kolejnego przeglądu. | G12: TAK
B13: Wykonawca posiada uprawnienia serwisowe lub szkolenia serwisowe wystawione przez co najmniej 1-go (dowolnego) producenta defibrylatorów, uprawniające do wykonywania przeglądów i napraw. | G13: TAK
A17: Cena brutto razem: | C17: =SUM(H9:H10) -> 0 | F17: Kwota VAT:
A18: cena brutto słownie:

Sheet Zadanie nr 21
B2: Część | C2: 21
A4: Temat: | C4: Pompy infuzyjne Braun
B6: Szczegółowy podział zadania:
A8: Nr | B8: Nazwa/ Model | C8: Nr seryjny | D8: Rok produkcji | E8: Przegląd do | F8: Cena netto | G8: Stawka podatku VAT | H8: Cena brutto
A9: 1 | B9: ="Infusomat Space" -> Infusomat Space | C9: ="29725" -> 29725 | D9: 2008 | E9: ="2020-08-02" -> 2020-08-02
A10: 2 | B10: ="Infusomat Space" -> Infusomat Space | C10: ="51128" -> 51128 | D10: 2008 | E10: ="2020-06-13" -> 2020-06-13
A11: 3 | B11: ="Infusomat Space" -> Infusomat Space | C11: ="137158" -> 137158 | D11: 2011 | E11: ="2020-06-13" -> 2020-06-13
A12: 4 | B12: ="Infusomat Space" -> Infusomat Space | C12: ="300117" -> 300117 | D12: 2014 | E12: ="2020-08-02" -> 2020-08-02
A13: 5 | B13: ="Infusomat Space" -> Infusomat Space | C13: ="386818" -> 386818 | D13: 2016 | E13: ="2020-08-02" -> 2020-08-02
A14: 6 | B14: ="Infusomat Space" -> Infusomat Space | C14: ="386836" -> 386836 | D14: 2016 | E14: ="2020-08-02" -> 2020-08-02
A15: 7 | B15: ="Infusomat Space" -> Infusomat Space | C15: ="386853" -> 386853 | D15: 2016 | E15: ="2020-08-02" -> 2020-08-02
A16: 8 | B16: ="Infusomat Space" -> Infusomat Space | C16: ="386936" -> 386936 | D16: 2016 | E16: ="2020-08-02" -> 2020-08-02
A17: 9 | B17: ="Infusomat Space" -> Infusomat Space | C17: ="387003" -> 387003 | D17: 2016 | E17: ="2020-08-02" -> 2020-08-02
A18: 10 | B18: ="Infusomat Space" -> Infusomat Space | C18: ="387025" -> 387025 | D18: 2016 | E18: ="2020-08-02" -> 2020-08-02
A19: 11 | B19: ="Infusomat Space" -> Infusomat Space | C19: ="387027" -> 387027 | D19: 2016 | E19: ="2020-08-02" -> 2020-08-02
A20: 12 | B20: ="Infusomat Space" -> Infusomat Space | C20: ="387035" -> 387035 | D20: 2016 | E20: ="2020-08-02" -> 2020-08-02
A21: 13 | B21: ="Perfusor Space" -> Perfusor Space | C21: ="155545" -> 155545 | D21: 2011 | E21: ="2020-08-02" -> 2020-08-02
A22: 14 | B22: ="Perfusor Space" -> Perfusor Space | C22: ="246667" -> 246667 | D22: 2014 | E22: ="2020-06-07" -> 2020-06-07
A23: 15 | B23: ="Perfusor Space" -> Perfusor Space | C23: ="246693" -> 246693 | D23: 2014 | E23: ="2020-08-02" -> 2020-08-02
A24: 16 | B24: ="Perfusor Space" -> Perfusor Space | C24: ="246705" -> 246705 | D24: 2014 | E24: ="2020-08-02" -> 2020-08-02
A25: 17 | B25: ="Perfusor Space" -> Perfusor Space | C25: ="246757" -> 246757 | D25: 2014 | E25: ="2020-08-02" -> 2020-08-02
A26: 18 | B26: ="Perfusor Space" -> Perfusor Space | C26: ="246763" -> 246763 | D26: 2014 | E26: ="2020-08-02" -> 2020-08-02
A27: 19 | B27: ="SpaceStation MRI" -> SpaceStation MRI | C27: ="MIMSPA110207" -> MIMSPA110207 | D27: 2011 | E27: ="2020-08-12" -> 2020-08-12
B28: Przegląd zgodny z wymaganiami producenta obejmujący min. czyszczenie, sprawdzenie bezpieczeństwa mechanicznego i elektrycznego, kontrolę zużycia części i wyposażenia, sprawdzenie poprawności ogólnego funkcjonowania aparatu, kalibrację i testy kontrolne, sprawdzenie zgodności parametrów funkcjonalnych urządzeń z deklarowanymi przez producenta, sprawdzenie poprawności działania zgodnie z normami bezpieczeństwa zalecanymi przez producenta, konserwację zgodnie z zaleceniami producenta, testy bezpieczeństwa elektrycznego. Przegląd obejmuje wymianę zasilaczy w 5 pompach Space (nr ser.: 29725, 51128, 137158, 155545, 246667) . Koszt przeglądu obejmuje koszty dojazdu. | G28: TAK
B29: Poszczególne przeglądy zostaną udokumentowane kartą pracy/raportem serwisowym, oraz wpisem do paszportu technicznego, a wyniki testu bezpieczeństwa elektrycznego na oddzielnym protokole. Aparaty zostaną oznakowane nalepką z terminem wykonania kolejnego przeglądu. | G29: TAK
B30: Wykonawca posiada uprawnienia serwisowe lub szkolenia serwisowe wystawione przez producenta ww. aparatów lub autoryzowanego przedstawiciela, uprawniające do wykonywania przeglądów i napraw. | G30: TAK
A34: Cena brutto razem: | C34: =SUM(H9:H27) -> 0 | F34: Kwota VAT:
A35: cena brutto słownie:

Sheet Zadanie nr 22
B2: Część | C2: 22
A4: Temat: | C4: Myjnie endoskopowe, szafa do suszenia endoskopów
B6: Szczegółowy podział zadania:
A8: Nr | B8: Nazwa/ Model | C8: Nr seryjny | D8: Rok produkcji | E8: Przegląd do | F8: Cena netto | G8: Stawka podatku VAT | H8: Cena brutto
A9: 1 | B9: Mini ETD-2 GA | C9: 6421821 | D9: 2007 | E9: 44045
A10: 2 | B10: Mini ETD | C10: 431303 | D10: 2005 | E10: 44050
A11: 3 | B11: Mini ETD-2 PlusGA | C11: 17926626 | D11: 2017 | E11: 44226
A12: 4 | B12: EDC Plus | C12: NG817130 | D12: 2017 | E12: 44238
B13: Przegląd zgodny z wymaganiami producenta obejmujący min. czyszczenie, sprawdzenie bezpieczeństwa mechanicznego i elektrycznego, kontrolę zużycia części i wyposażenia, sprawdzenie poprawności ogólnego funkcjonowania aparatu, kalibrację i testy kontrolne, sprawdzenie zgodności parametrów funkcjonalnych urządzeń z deklarowanymi przez producenta, sprawdzenie poprawności działania zgodnie z normami bezpieczeństwa zalecanymi przez producenta, konserwację zgodnie z zaleceniami producenta, testy bezpieczeństwa elektrycznego. Przegląd obejmuje wymianę zestawów serwisowych (Maintenance Kit) w myjniach oraz filtrów w szafie. Wykonawca w ramach przeglądu zobowiązuje się do przygotowania bieżących zaleceń eksploatacyjnych związanych ze stanem aparatów oraz ich dalszym użytkowaniem. Wykonawca zobowiązuje się do wykonania ekspertyz technicznych związanych z wykrytymi usterkami oraz kosztorysu naprawy. Koszt przeglądu obejmuje koszty dojazdu. | G13: TAK
B14: Poszczególne przeglądy zostaną udokumentowane kartą pracy/raportem serwisowym, oraz wpisem do paszportu technicznego, a wyniki testu bezpieczeństwa elektrycznego na oddzielnym protokole. Aparaty zostaną oznakowane nalepką z terminem wykonania kolejnego przeglądu. | G14: TAK
B15: Wykonawca posiada uprawnienia serwisowe lub szkolenia serwisowe wystawione przez co najmniej 1-go (dowolnego) producenta sprzętu endoskopowego, uprawniające do wykonywania przeglądów i napraw. | G15: TAK
A19: Cena brutto razem: | C19: =SUM(H9:H12) -> 0 | F19: Kwota VAT:
A20: cena brutto słownie:

Sheet Zadanie nr 23
B2: Część | C2: 23
A4: Temat: | C4: Sterylizator plazmowy
B6: Szczegółowy podział zadania:
A8: Nr | B8: Nazwa/ Model | C8: Nr seryjny | D8: Rok produkcji | E8: Przegląd do | F8: Cena netto | G8: Stawka podatku VAT | H8: Cena brutto
A9: 1 | B9: Sterrad 100NX | C9: 1042110034 | D9: 2012 | E9: 2020.07.27, drugi po 6 miesiącach
B10: Przegląd zgodny z wymaganiami producenta obejmujący min. czyszczenie, sprawdzenie bezpieczeństwa mechanicznego i elektrycznego, kontrolę zużycia części i wyposażenia, sprawdzenie poprawności ogólnego funkcjonowania aparatu, kalibrację i testy kontrolne, sprawdzenie zgodności parametrów funkcjonalnych urządzeń z deklarowanymi przez producenta, sprawdzenie poprawności działania zgodnie z normami bezpieczeństwa zalecanymi przez producenta, konserwację zgodnie z zaleceniami producenta, testy bezpieczeństwa elektrycznego. Przegląd obejmuje wymianę części (zestawy serwisowe PM) przewidzianych przez producenta do wymiany podczas przeglądu okresowego. Koszt przeglądu obejmuje koszty dojazdu. | G10: TAK
B11: Poszczególne przeglądy zostaną udokumentowane kartą pracy/raportem serwisowym, oraz wpisem do paszportu technicznego, a wyniki testu bezpieczeństwa elektrycznego na oddzielnym protokole. Aparaty zostaną oznakowane nalepką z terminem wykonania kolejnego przeglądu. | G11: TAK
B12: Wykonawca posiada uprawnienia serwisowe lub szkolenia serwisowe wystawione przez producenta ww. aparatów lub autoryzowanego przedstawiciela, uprawniające do wykonywania przeglądów i napraw. | G12: TAK
A16: Cena brutto razem: | C16: =SUM(H9) -> 0 | F16: Kwota VAT:
A17: cena brutto słownie:

Sheet Zadanie nr 24
B2: Część | C2: 24
A4: Temat: | C4: Urządzenia sterylizacji parowej
B6: Szczegółowy podział zadania:
A8: Nr | B8: Nazwa/ Model | C8: Nr seryjny | D8: Rok produkcji | E8: Przegląd do | F8: Cena netto | G8: Stawka podatku VAT | H8: Cena brutto
A9: 1 | B9: Selectomat PL 966-2H | C9: B110824 | D9: 2012 | E9: 2020-08-13, drugi po 6 miesiącach
A10: 2 | B10: Selectomat PL 966-2H | C10: B110825 | D10: 2012 | E10: 2020-08-13, drugi po 6 miesiącach
A11: 3 | B11: Myjnia ultradźwiękowa | C11: Ultramatic 550 | D11: 2012 | E11: 44059
A12: 4 | B12: System EcoSoft | C12: -- | D12: 2012 | E12: 44193
B13: Przegląd zgodny z wymaganiami producenta obejmujący min. czyszczenie, sprawdzenie bezpieczeństwa mechanicznego i elektrycznego, kontrolę zużycia części i wyposażenia, sprawdzenie poprawności ogólnego funkcjonowania aparatu, kalibrację i testy kontrolne, sprawdzenie zgodności parametrów funkcjonalnych urządzeń z deklarowanymi przez producenta, sprawdzenie poprawności działania zgodnie z normami bezpieczeństwa zalecanymi przez producenta, konserwację zgodnie z zaleceniami producenta, testy bezpieczeństwa elektrycznego. Przegląd obejmuje wymianę części przewidzianych przez producenta do wymiany podczas przeglądu okresowego. Koszt przeglądu obejmuje koszty dojazdu. | G13: TAK
B14: Poszczególne przeglądy zostaną udokumentowane kartą pracy/raportem serwisowym, oraz wpisem do paszportu technicznego, a wyniki testu bezpieczeństwa elektrycznego na oddzielnym protokole. Aparaty zostaną oznakowane nalepką z terminem wykonania kolejnego przeglądu. | G14: TAK
B15: Wykonawca posiada uprawnienia serwisowe lub szkolenia serwisowe wystawione przez producenta ww. aparatów lub autoryzowanego przedstawiciela, uprawniające do wykonywania przeglądów i napraw. | G15: TAK
A19: Cena brutto razem: | C19: =SUM(H9:H12) -> 0 | F19: Kwota VAT:
A20: cena brutto słownie:

Sheet Zadanie nr 25
B2: Część | C2: 25
A4: Temat: | C4: Urządzenia Centralnej Sterylizatorni
B6: Szczegółowy podział zadania:
A8: Nr | B8: Nazwa/ Model | C8: Nr seryjny | D8: Rok produkcji | E8: Przegląd do | F8: Cena netto | G8: Stawka podatku VAT | H8: Cena brutto
A9: 1 | B9: Myjnia G7824 | C9: 74358056 | D9: 2011 | E9: 44038
A10: 2 | B10: Myjnia G7824 | C10: 74358057 | D10: 2011 | E10: 44038
A11: 3 | B11: Myjnia G7836 | C11: 74329616 | D11: 2007 | E11: 44038
A12: 4 | B12: Suszarka KSU-66150 | C12: 40 | D12: 2012 | E12: 44038
A13: 5 | B13: Zgrzewarka Steripack 301 | C13: 453525 | D13: 2012 | E13: 44038
A14: 6 | B14: Urządzenie Elmasteam ES5000 | C14: 000221029 | D14: 2013 | E14: 44038
B15: Przegląd zgodny z wymaganiami producenta obejmujący min. czyszczenie, sprawdzenie bezpieczeństwa mechanicznego i elektrycznego, kontrolę zużycia części i wyposażenia, sprawdzenie poprawności ogólnego funkcjonowania urządzeń, kalibrację i testy kontrolne, sprawdzenie zgodności parametrów funkcjonalnych urządzeń z deklarowanymi przez producenta, sprawdzenie poprawności działania zgodnie z normami bezpieczeństwa zalecanymi przez producenta, konserwację zgodnie z zaleceniami producenta, testy bezpieczeństwa elektrycznego. Przegląd obejmuje min. wymianę elementów – filtry HEPA do G7824 - 4 szt., obudowa pompy DOS (60/30) do myjni G7824 - 2 szt., obudowa pompy DOS (30/10) do myjni G7824 - 2 szt., filtr zgrubny i HEPA do KSU-66150, rolka dociskowa, taśma barwiąca, taśma teflonowa grzałek i prowadnic, paski zębate do Steripack 301, uszczelki pod korek wlewu wody do Elmasteam - 3 szt., wentylator suszarki Mrg 027 230V, uszczelka drzwi, filtr HEPA do myjni G7836. Koszt przeglądu obejmuje koszty dojazdu. | G15: TAK
B16: Poszczególne przeglądy zostaną udokumentowane kartą pracy/raportem serwisowym, oraz wpisem do paszportu technicznego, a wyniki testu bezpieczeństwa elektrycznego na oddzielnym protokole. Aparaty zostaną oznakowane nalepką z terminem wykonania kolejnego przeglądu. | G16: TAK
B17: Wykonawca posiada uprawnienia serwisowe lub szkolenia serwisowe wystawione przez co najmniej 1-go (dowolnego) producenta myjni-dezynfektorów, uprawniające do wykonywania przeglądów i napraw. | G17: TAK
A21: Cena brutto razem: | F21: Kwota VAT:
A22: cena brutto słownie:

Sheet Zadanie nr 26
B2: Część | C2: 26
A4: Temat: | C4: Komory laminarne
B6: Szczegółowy podział zadania:
A8: Nr | B8: Nazwa/ Model | C8: Nr seryjny | D8: Rok produkcji | E8: Przegląd do | F8: Cena netto | G8: Stawka podatku VAT | H8: Cena brutto
A9: 1 | B9: C-[MaxPro]3-130 | C9: 1013080210 | D9: 2008 | E9: 44157
A10: 2 | B10: C-[MaxPro]3-130 | C10: 1013100367 | D10: 2010 | E10: 44157
A11: 3 | B11: C-[MaxPro]3-130 | C11: 1013100368 | D11: 2010 | E11: 44157
A12: 4 | B12: Minifil | C12: 29081/06 | D12: 2006 | E12: 44157
A13: 5 | B13: Lamil Plus 10 | C13: 3153/06 | D13: 2006 | E13: 44157
A14: 6 | B14: Claire PRO B-2-130 | C14: 2013000249 | D14: 2017 | E14: 44157
B15: Przegląd zgodny z wymaganiami producenta obejmujący min. czyszczenie, sprawdzenie bezpieczeństwa mechanicznego i elektrycznego, kontrolę zużycia części i wyposażenia, sprawdzenie poprawności ogólnego funkcjonowania aparatu, kalibrację i testy kontrolne, sprawdzenie zgodności parametrów funkcjonalnych urządzeń z deklarowanymi przez producenta, sprawdzenie poprawności działania zgodnie z normami bezpieczeństwa zalecanymi przez producenta, konserwację zgodnie z zaleceniami producenta, testy bezpieczeństwa elektrycznego. Pomiary kontrolne prędkości i laminarności przepływu oraz klas czystości powietrza w przestrzni roboczej komory/nawiewu i w pomieszczeniu, sprawdzenie klasy czystości powietrza w pomieszczeniu, w którym pracuje komora. Przegląd obejmuje wymianę filtra głównego (komplet 6-ciu filtrów kapsułkowych pod blatem roboczym) w komorach o nr ser. 1013100367, 1013100368 oraz wykonanie niezbędnych pomiarów i kalibracji ustawień komory. Koszt przeglądu obejmuje koszty dojazdu. | G15: TAK
B16: Poszczególne przeglądy zostaną udokumentowane kartą pracy/raportem serwisowym, oraz wpisem do paszportu technicznego, a wyniki testu bezpieczeństwa elektrycznego na oddzielnym protokole. Aparaty zostaną oznakowane nalepką z terminem wykonania kolejnego przeglądu. | G16: TAK
B17: Wykonawca posiada uprawnienia serwisowe lub szkolenia serwisowe wystawione przez producenta ww. aparatów lub autoryzowanego przedstawiciela, uprawniające do wykonywania przeglądów i napraw. | G17: TAK
A19: Cena brutto razem: | C19: =SUM(H9:H14) -> 0 | F19: Kwota VAT:
A20: cena brutto słownie:

Sheet Zadanie nr 27
B2: Część | C2: 27
A4: Temat: | C4: Aparaty rtg Siemens
B6: Szczegółowy podział zadania:
A8: Nr | B8: Nazwa/ Model | C8: Nr seryjny | D8: Rok produkcji | E8: Przegląd do | F8: Cena netto | G8: Stawka podatku VAT | H8: Cena brutto
A9: 1 | B9: Multix Fusion Digital | C9: 30070 | D9: 2015 | E9: 44170
A10: 2 | B10: Luminos dRF Max | C10: 5264 | D10: 2015 | E10: 44171
A11: 3 | B11: Mobilett XP Hybrid | C11: 1248 | D11: 2005 | E11: 44006
B12: Przeglądy zgodne z wymaganiami producenta obejmujące min. czyszczenie, sprawdzenie bezpieczeństwa mechanicznego i elektrycznego, kontrolę zużycia części i wyposażenia, sprawdzenie poprawności ogólnego funkcjonowania aparatu, kalibrację i testy kontrolne, sprawdzenie zgodności parametrów funkcjonalnych urządzeń z deklarowanymi przez producenta, sprawdzenie poprawności działania zgodnie z normami bezpieczeństwa zalecanymi przez producenta, konserwację zgodnie z zaleceniami producenta, wymianę żarówki w aparacie Mobilett XP, testy bezpieczeństwa elektrycznego. Koszt przeglądów obejmuje koszty dojazdu. | G12: TAK
B13: Poszczególne przeglądy zostaną udokumentowane kartą pracy/raportem serwisowym, oraz wpisem do paszportu technicznego, a wyniki testu bezpieczeństwa elektrycznego na oddzielnym protokole. Aparaty zostaną oznakowane nalepką z terminem wykonania kolejnego przeglądu. | G13: TAK
B14: Wykonawca posiada uprawnienia serwisowe lub szkolenia serwisowe wystawione przez producenta ww. aparatów lub autoryzowanego przedstawiciela, uprawniające do wykonywania przeglądów i napraw. | G14: TAK
A16: Cena brutto razem: | C16: =SUM(H9:H11) -> 0 | F16: Kwota VAT:
A17: cena brutto słownie:

Sheet Zadanie nr 28
B2: Część | C2: 28
A4: Temat: | C4: Mammograf, kardiomonitor GE
B6: Szczegółowy podział zadania:
A8: Nr | B8: Nazwa/ Model | C8: Nr seryjny | D8: Rok produkcji | E8: Przegląd do | F8: Cena netto | G8: Stawka podatku VAT | H8: Cena brutto
A9: 1 | B9: Senographe Essential | C9: 668486BU4 | D9: 2015 | E9: 2020-09-30, drugi po 6 miesiącach
A10: 2 | B10: Senographe Essential | C10: 583153BU2 | D10: 2009 | E10: 2020-06-23, drugi po 6 miesiącach
A11: 3 | B11: B650 | C11: SEW14127236HA | D11: 2014 | E11: 44143
B12: Przegląd zgodny z wymaganiami producenta obejmujący min. czyszczenie, sprawdzenie bezpieczeństwa mechanicznego i elektrycznego, kontrolę zużycia części i wyposażenia, sprawdzenie poprawności ogólnego funkcjonowania aparatu, kalibrację i testy kontrolne, sprawdzenie zgodności parametrów funkcjonalnych urządzeń z deklarowanymi przez producenta, sprawdzenie poprawności działania zgodnie z normami bezpieczeństwa zalecanymi przez producenta, konserwację zgodnie z zaleceniami producenta, testy bezpieczeństwa elektrycznego. Koszt przeglądu obejmuje koszty dojazdu. | G12: TAK
B13: Poszczególne przeglądy zostaną udokumentowane kartą pracy/raportem serwisowym, oraz wpisem do paszportu technicznego, a wyniki testu bezpieczeństwa elektrycznego na oddzielnym protokole. Aparaty zostaną oznakowane nalepką z terminem wykonania kolejnego przeglądu. | G13: TAK
B14: Wykonawca posiada uprawnienia serwisowe lub szkolenia serwisowe wystawione przez producenta ww. aparatów lub autoryzowanego przedstawiciela, uprawniające do wykonywania przeglądów i napraw. | G14: TAK
A16: Cena brutto razem: | C16: =SUM(H9:H11) -> 0 | F16: Kwota VAT:
A17: cena brutto słownie:

Sheet Zadanie nr 29
B2: Część | C2: 29
A4: Temat: | C4: Urządzenia ZdAJ
B6: Szczegółowy podział zadania:
A8: Nr | B8: Nazwa/ Model | C8: Nr seryjny | D8: Rok produkcji | E8: Przegląd do | F8: Cena netto | G8: Stawka podatku VAT | H8: Cena brutto
A9: 1 | B9: Drzwi osłonowe obrotowe | C9: Nr 02 seria 57/06 | D9: 2006 | E9: 44171
A10: 2 | B10: Drzwi osłonowe obrotowe | C10: Nr 01 seria 57/06 | D10: 2006 | E10: 44171
A11: 3 | B11: Drzwi osłonowe obrotowe | C11: Nr 03 seria 57/06 | D11: 2007 | E11: 44171
A12: 4 | B12: Drzwi osłonowe obrotowe | C12: Nr 06 seria 44/03 | D12: 2003 | E12: 44171
A13: 5 | B13: Stół Polkam 15M | C13: 47/05 | D13: 2005 | E13: 44171
B14: Przegląd zgodny z wymaganiami producenta obejmujący min. czyszczenie, sprawdzenie bezpieczeństwa mechanicznego i elektrycznego, kontrolę zużycia części i wyposażenia, sprawdzenie poprawności ogólnego funkcjonowania aparatu, kalibrację i testy kontrolne, sprawdzenie zgodności parametrów funkcjonalnych urządzeń z deklarowanymi przez producenta, sprawdzenie poprawności działania zgodnie z normami bezpieczeństwa zalecanymi przez producenta, konserwację zgodnie z zaleceniami producenta, testy bezpieczeństwa elektrycznego. Przegląd obejmuje wymianę wyłączników krańcowych w 2 szt. drzwi (01 57/06, 02 57/06). Przegląd drzwi może być wykonany po godz. 18 od poniedziałku do piątku oraz w soboty, przegląd stołu może być wykonany po godz. 15. Koszt przeglądu obejmuje koszty dojazdu. | G14: TAK
B15: Poszczególne przeglądy zostaną udokumentowane kartą pracy/raportem serwisowym, oraz wpisem do paszportu technicznego, a wyniki testu bezpieczeństwa elektrycznego na oddzielnym protokole. Aparaty zostaną oznakowane nalepką z terminem wykonania kolejnego przeglądu. | G15: TAK
B16: Wykonawca posiada uprawnienia serwisowe lub szkolenia serwisowe wystawione przez producenta ww. aparatów lub autoryzowanego przedstawiciela, uprawniające do wykonywania przeglądów i napraw. | G16: TAK
A18: Cena brutto razem: | F18: Kwota VAT:
A19: cena brutto słownie:

Sheet Zadanie nr 30
B2: Część | C2: 30
A4: Temat: | C4: Inkubatory CO2, cieplarki Incucell
B6: Szczegółowy podział zadania:
A8: Nr | B8: Nazwa/ Model | C8: Nr seryjny | D8: Rok produkcji | E8: Przegląd do | F8: Cena netto | G8: Stawka podatku VAT | H8: Cena brutto
A9: 1 | B9: ="Forma 8000" -> Forma 8000 | C9: ="300111884" -> 300111884 | D9: 2017 | E9: ="2021-01-10" -> 2021-01-10
A10: 2 | B10: ="MCO-5AC" -> MCO-5AC | C10: ="16110200" -> 16110200 | D10: 2017 | E10: ="2020-12-04" -> 2020-12-04
A11: 3 | B11: ="MCO-5AC" -> MCO-5AC | C11: ="16110197" -> 16110197 | D11: 2017 | E11: ="2020-12-04" -> 2020-12-04
A12: 4 | B12: ="MCO-5AC" -> MCO-5AC | C12: ="16120208" -> 16120208 | D12: 2017 | E12: ="2020-12-04" -> 2020-12-04
A13: 5 | B13: ="INCUCEL 55" -> INCUCEL 55 | C13: ="--" -> -- | D13: 2003 | E13: 44056
A14: 6 | B14: ="INCUCEL 55" -> INCUCEL 55 | C14: ="B080009" -> B080009 | D14: 2008 | E14: 44056
A15: 7 | B15: ="Incucell V" -> Incucell V | C15: ="D 172660" -> D 172660 | D15: 2017 | E15: ="2020-12-05" -> 2020-12-05
A16: 8 | B16: ="Incucell V" -> Incucell V | C16: ="D 172661" -> D 172661 | D16: 2017 | E16: ="2020-12-05" -> 2020-12-05
A17: 9 | B17: 311 | C17: 3198964610 | D17: 2011 | E17: 44056
B18: Przegląd zgodny z wymaganiami producenta obejmujący min. czyszczenie, sprawdzenie bezpieczeństwa mechanicznego i elektrycznego, kontrolę zużycia części i wyposażenia, sprawdzenie poprawności ogólnego funkcjonowania aparatów, kalibrację i testy kontrolne, sprawdzenie zgodności parametrów funkcjonalnych urządzeń z deklarowanymi przez producenta, sprawdzenie poprawności działania zgodnie z normami bezpieczeństwa zalecanymi przez producenta, konserwację zgodnie z zaleceniami producenta, testy bezpieczeństwa elektrycznego. Koszt przeglądu obejmuje koszty dojazdu. | G18: TAK
B19: Poszczególne przeglądy zostaną udokumentowane kartą pracy/raportem serwisowym, oraz wpisem do paszportu technicznego, a wyniki testu bezpieczeństwa elektrycznego na oddzielnym protokole. Aparaty zostaną oznakowane nalepką z terminem wykonania kolejnego przeglądu. | G19: TAK
B20: Wykonawca posiada uprawnienia serwisowe lub szkolenia serwisowe wystawione przez co najmniej 1-go (dowolnego) producenta inkubatorów CO2, uprawniające do wykonywania przeglądów i napraw. | G20: TAK
A22: Cena brutto razem: | C22: =SUM(H9:H17) -> 0 | F22: Kwota VAT:
A23: cena brutto słownie:

Sheet Zadanie nr 31
B2: Część | C2: 31
A4: Temat: | C4: Cytometr przepływowy
B6: Szczegółowy podział zadania:
A8: Nr | B8: Nazwa/ Model | C8: Nr seryjny | D8: Rok produkcji | E8: Przegląd do | F8: Cena netto | G8: Stawka podatku VAT | H8: Cena brutto
A9: 1 | B9: FACSCalibur | C9: E0669 | D9: 1996 | E9: 2020-07-09, drugi po 6 miesiącach
B10: Przegląd zgodny z wymaganiami producenta obejmujący min. czyszczenie wnętrza aparatu, czyszczenie i optymalizacja zestrojenia optyki, sprawdzenie bezpieczeństwa mechanicznego i elektrycznego, kontrolę zużycia części i wyposażenia, sprawdzenie poprawności ogólnego funkcjonowania aparatu, kalibrację i testy kontrolne, sprawdzenie zgodności parametrów funkcjonalnych urządzeń z deklarowanymi przez producenta, sprawdzenie poprawności działania zgodnie z normami bezpieczeństwa zalecanymi przez producenta, konserwację zgodnie z zaleceniami producenta, wymiana zestawu "PM Kit", testy bezpieczeństwa elektrycznego. Koszt przeglądu obejmuje koszty dojazdu. | G10: TAK
B11: Poszczególne przeglądy zostaną udokumentowane kartą pracy/raportem serwisowym, oraz wpisem do paszportu technicznego, a wyniki testu bezpieczeństwa elektrycznego na oddzielnym protokole. Aparaty zostaną oznakowane nalepką z terminem wykonania kolejnego przeglądu. | G11: TAK
B12: Wykonawca posiada uprawnienia serwisowe lub szkolenia serwisowe wystawione przez co najmniej 1-go (dowolnego) producenta cytometrów, uprawniające do wykonywania przeglądów i napraw. | G12: TAK
A14: Cena brutto razem: | C14: =SUM(H9:H9) -> 0 | F14: Kwota VAT:
A15: cena brutto słownie:

Sheet Zadanie nr 32
B2: Część | C2: 32
A4: Temat: | C4: Aparat do suchego rozmrażania osocza
B6: Szczegółowy podział zadania:
A8: Nr | B8: Nazwa/ Model | C8: Nr seryjny | D8: Rok produkcji | E8: Przegląd do | F8: Cena netto | G8: Stawka podatku VAT | H8: Cena brutto
A9: 1 | B9: Sahara III | C9: 99121057 | D9: 2006 | E9: 44012
B10: Przegląd zgodny z wymaganiami producenta obejmujący min. czyszczenie, sprawdzenie bezpieczeństwa mechanicznego i elektrycznego, kontrolę zużycia części i wyposażenia, sprawdzenie poprawności ogólnego funkcjonowania aparatu, kalibrację i testy kontrolne, sprawdzenie zgodności parametrów funkcjonalnych urządzeń z deklarowanymi przez producenta, sprawdzenie poprawności działania zgodnie z normami bezpieczeństwa zalecanymi przez producenta, konserwację zgodnie z zaleceniami producenta, testy bezpieczeństwa elektrycznego. | G10: TAK
B11: Poszczególne przeglądy zostaną udokumentowane kartą pracy/raportem serwisowym, oraz wpisem do paszportu technicznego, a wyniki testu bezpieczeństwa elektrycznego na oddzielnym protokole. Aparaty zostaną oznakowane nalepką z terminem wykonania kolejnego przeglądu. Koszt przeglądu obejmuje koszty dojazdu lub wysyłki. Wykonawca ponosi pełną odpowiedzialność za przewożony sprzęt. | G11: TAK
B12: Wykonawca posiada uprawnienia serwisowe lub szkolenia serwisowe wystawione przez co najmniej 1-go (dowolnego) producenta urządzenia do suchego rozmrażania osocza, uprawniające do wykonywania przeglądów i napraw. | G12: TAK
A14: Cena brutto razem: | C14: =SUM(H9:H9) -> 0 | F14: Kwota VAT:
A15: cena brutto słownie:

Sheet Zadanie nr 33
B2: Część | C2: 33
A4: Temat: | C4: Myjnie-dezynfektory do kaczek i basenów Steelco
B6: Szczegółowy podział zadania:
A8: Nr | B8: Nazwa/ Model | C8: Nr seryjny | D8: Rok produkcji | E8: Przegląd do | F8: Cena netto | G8: Stawka podatku VAT | H8: Cena brutto
A9: 1 | B9: BP 100 HA | C9: 1004045 | D9: 2010 | E9: 44037
A10: 2 | B10: BP 100 HA | C10: 1004047 | D10: 2010 | E10: 44037
A11: 3 | B11: BP 100 HA | C11: 1004041 | D11: 2010 | E11: 44037
A12: 4 | B12: BP 100 HA | C12: 804061 | D12: 2009 | E12: 44037
A13: 5 | B13: BP 100 HA | C13: 1004039 | D13: 2010 | E13: 44037
B14: Przegląd zgodny z wymaganiami producenta obejmujący min. czyszczenie, sprawdzenie bezpieczeństwa mechanicznego i elektrycznego, kontrolę zużycia części i wyposażenia, sprawdzenie poprawności ogólnego funkcjonowania myjni, kalibrację i testy kontrolne, sprawdzenie zgodności parametrów funkcjonalnych urządzeń z deklarowanymi przez producenta, sprawdzenie poprawności działania zgodnie z normami bezpieczeństwa zalecanymi przez producenta, konserwację zgodnie z zaleceniami producenta, sprawdzenie i czyszczenie sitek na elektrozaworach, sprawdzenie i odkamienienie dysz i wytwornicy pary, testy bezpieczeństwa elektrycznego. Koszt przeglądu obejmuje koszty dojazdu. | G14: TAK
B15: Poszczególne przeglądy zostaną udokumentowane kartą pracy/raportem serwisowym, oraz wpisem do paszportu technicznego. Aparaty zostaną oznakowane nalepką z terminem wykonania kolejnego przeglądu. | G15: TAK
B16: Wykonawca posiada uprawnienia serwisowe lub szkolenia serwisowe wystawione przez co najmniej 1-go (dowolnego) producenta myjni-dezynfektora, uprawniające do wykonywania przeglądów i napraw. | G16: TAK
A18: Cena brutto razem: | C18: =SUM(H9:H13) -> 0 | F18: Kwota VAT:
A19: cena brutto słownie:

Sheet Zadanie nr 34
B2: Część | C2: 34
A4: Temat: | C4: Aparat do hipertermii
B6: Szczegółowy podział zadania:
A8: Nr | B8: Nazwa/ Model | C8: Nr seryjny | D8: Rok produkcji | E8: Przegląd do | F8: Cena netto | G8: Stawka podatku VAT | H8: Cena brutto
A9: 1 | B9: BSD-500 | C9: 080922-033 | D9: 2008 | E9: 2020-08-30, drugi po 6 miesiącach
B10: Przegląd zgodny z wymaganiami producenta obejmujący min. czyszczenie, sprawdzenie bezpieczeństwa mechanicznego i elektrycznego, oczyszczenie dróg chłodzenia, smarowanie ruchomych części mechanicznych, sprawdzenie i porządkowanie oprogramowania systemowego, kontrolę zużycia części i wyposażenia, sprawdzenie poprawności ogólnego funkcjonowania aparatu, kalibrację i testy kontrolne, sprawdzenie zgodności parametrów funkcjonalnych urządzeń z deklarowanymi przez producenta, sprawdzenie poprawności działania zgodnie z normami bezpieczeństwa zalecanymi przez producenta, konserwację zgodnie z zaleceniami producenta, sprawdzenie bezpieczeństwa elektrycznego w niezbędnym zakresie. W ramach przeglądu dostawa i wymiana węży przedłużających systemu wodnego WCS. Koszt przeglądu obejmuje koszty dojazdu. | G10: TAK
B11: Poszczególne przeglądy zostaną udokumentowane kartą pracy/raportem serwisowym, oraz wpisem do paszportu technicznego, a wyniki testu bezpieczeństwa elektrycznego na oddzielnym protokole. Aparaty zostaną oznakowane nalepką z terminem wykonania kolejnego przeglądu. | G11: TAK
B12: Wykonawca posiada uprawnienia serwisowe lub szkolenia serwisowe wystawione przez producenta ww. aparatów lub autoryzowanego przedstawiciela, uprawniające do wykonywania przeglądów i napraw. | G12: TAK
A14: Cena brutto razem: | C14: =SUM(H9:H9) -> 0 | F14: Kwota VAT:
A15: cena brutto słownie:

Sheet Zadanie nr 35
B2: Część | C2: 35
A4: Temat: | C4: Komory manipulacyjne
B6: Szczegółowy podział zadania:
A8: Nr | B8: Nazwa/ Model | C8: Nr seryjny | D8: Rok produkcji | E8: Przegląd do | F8: Cena netto | G8: Stawka podatku VAT | H8: Cena brutto
A9: 1 | B9: NMC 50 DSI | C9: 9443 | D9: 2012 | E9: 44165
A10: 2 | B10: NMC 50 1/30-20VF | C10: 6230 | D10: 2008 | E10: 44165
B11: Przegląd zgodny z wymaganiami producenta obejmujący min. czyszczenie, sprawdzenie bezpieczeństwa mechanicznego i elektrycznego, sprawdzenie prawidłowego otwierania i zamykania szklanej pokrywy frontowej, prawidłowego ruchu osłony ze szkła ołowiowego, systemu wentylacji i systemu filtrów, systemu oświetlenia i UV, systemu podnośników, kontrolę zużycia części i wyposażenia, sprawdzenie poprawności ogólnego funkcjonowania aparatu, kalibrację i testy kontrolne, sprawdzenie zgodności parametrów funkcjonalnych urządzeń z deklarowanymi przez producenta, sprawdzenie poprawności działania zgodnie z normami bezpieczeństwa zalecanymi przez producenta, konserwację zgodnie z zaleceniami producenta, sprawdzenie bezpieczeństwa elektrycznego w niezbędnym zakresie. Koszt przeglądu obejmuje również sprawdzenie mierników dawki Curiementor obejmujące kontrolę przewodów sygnałowych i przycisków, sprawdzenie zerowania i pomiaru tła, sprawdzenie działania źródłem kontrolnym dostarczonym przez użytkownika. Koszt przeglądu obejmuje koszty dojazdu. | G11: TAK
B12: Poszczególne przeglądy zostaną udokumentowane kartą pracy/raportem serwisowym, oraz wpisem do paszportu technicznego. Aparaty zostaną oznakowane nalepką z terminem wykonania kolejnego przeglądu. | G12: TAK
B13: Wykonawca posiada uprawnienia serwisowe lub szkolenia serwisowe wystawione przez producenta ww. aparatów lub autoryzowanego przedstawiciela, uprawniające do wykonywania przeglądów i napraw. | G13: TAK
A15: Cena brutto razem: | C15: =SUM(H9:H10) -> 0 | F15: Kwota VAT:
A16: cena brutto słownie:

Sheet Zadanie nr 36
B2: Część | C2: 36
A4: Temat: | C4: Systemy do planowania leczenia
B6: Szczegółowy podział zadania:
A8: Nr | B8: Nazwa/ Model | C8: Nr seryjny | D8: Rok produkcji | E8: Przegląd do | F8: Cena netto | G8: Stawka podatku VAT | H8: Cena brutto
A9: 1 | B9: Oncentra Prostate | C9: 70062 | D9: 2011 | E9: 43999
A10: 2 | B10: Oncentra Brachy | C10: 03E65C6E | D10: 2013 | E10: 43999
B11: Przegląd zgodny z wymaganiami producenta obejmujący min. czyszczenie i konserwacja wnętrza serwerów i stacji klienckich,weryfikacja błędów w logach systemowych oraz logach aplikacji. Sprawdzenie poprawności wykonywania backupów. Sprawdzenie poprawności działania systemów. Koszt przeglądu obejmuje koszty dojazdu. | G11: TAK
B12: Poszczególne przeglądy zostaną udokumentowane kartą pracy/raportem serwisowym wraz z listą kontrolną przeprowadzonych czynności, oraz wpisem do paszportu technicznego. Aparaty zostaną oznakowane nalepką z terminem wykonania kolejnego przeglądu. | G12: TAK
B13: Wykonawca posiada uprawnienia serwisowe lub szkolenia serwisowe wystawione przez producenta ww. systemów lub autoryzowanego przedstawiciela, uprawniające do wykonywania przeglądów i napraw. | G13: TAK
A15: Cena brutto razem: | C15: =SUM(H9:H10) -> 0 | F15: Kwota VAT:
A16: cena brutto słownie:

Sheet Zadanie nr 37
B2: Część | C2: 37
A4: Temat: | C4: Drukarki do klisz
B6: Szczegółowy podział zadania:
A8: Nr | B8: Nazwa/ Model | C8: Nr seryjny | D8: Rok produkcji | E8: Przegląd do | F8: Cena netto | G8: Stawka podatku VAT | H8: Cena brutto
A9: 1 | B9: Drystar Axys | C9: 2552 | D9: 2009 | E9: 44106
B10: Przegląd zgodny z wymaganiami producenta obejmujący min. czyszczenie i konserwację, sprawdzenie poprawności działania, niezbędne testy i kalibracje. Koszt przeglądu obejmuje koszty dojazdu. | G10: TAK
B11: Poszczególne przeglądy zostaną udokumentowane kartą pracy/raportem serwisowym wraz z listą kontrolną przeprowadzonych czynności, oraz wpisem do paszportu technicznego. Aparaty zostaną oznakowane nalepką z terminem wykonania kolejnego przeglądu. | G11: TAK
B12: Wykonawca posiada uprawnienia serwisowe lub szkolenia serwisowe wystawione przez co najmniej 1-go (dowolnego) producenta drukarek do klisz, uprawniające do wykonywania przeglądów i napraw. | G12: TAK
A14: Cena brutto razem: | C14: =SUM(H9:H9) -> 0 | F14: Kwota VAT:
A15: cena brutto słownie:

Sheet Zadanie nr 38
B2: Część | C2: 38
A4: Temat: | C4: Urządzenia do biopsji mammotomicznej
B6: Szczegółowy podział zadania:
A8: Nr | B8: Nazwa/ Model | C8: Nr seryjny | D8: Rok produkcji | E8: Przegląd do | F8: Cena netto | G8: Stawka podatku VAT | H8: Cena brutto
A9: 1 | B9: Mammotome Revolve | C9: MSCM1001373 | D9: 2017 | E9: 44199
A10: 2 | B10: MammoTest | C10: 10161 | D10: 2009 | E10: 2020-07-31, drugi po 6 miesiącach
B11: Przegląd zgodny z wymaganiami producenta obejmujący min. czyszczenie, sprawdzenie bezpieczeństwa mechanicznego i elektrycznego, kontrolę zużycia części i wyposażenia, sprawdzenie poprawności ogólnego funkcjonowania aparatu, kalibrację i testy kontrolne, sprawdzenie zgodności parametrów funkcjonalnych urządzenia z deklarowanymi przez producenta, sprawdzenie poprawności działania zgodnie z normami bezpieczeństwa zalecanymi przez producenta, konserwację zgodnie z zaleceniami producenta, testy bezpieczeństwa elektrycznego, przygotowanie szczegółowego protokołu z przeglądu zawierającego wyniki pomiarów. | G11: TAK
B12: Poszczególne przeglądy zostaną udokumentowane kartą pracy/raportem serwisowym, oraz wpisem do paszportu technicznego, a wyniki testu bezpieczeństwa elektrycznego na oddzielnym protokole. Aparaty zostaną oznakowane nalepką z terminem wykonania kolejnego przeglądu. Koszt przeglądu obejmuje koszty dojazdu lub wysyłki. W przypadku wysyłki Wykonawca ponosi pełną odpowiedzialność za przewożony sprzęt. Na czas przeglądu Mammotome Revolve należy zapewnić aparat zastępczy wraz z akcesoriami. | G12: TAK
B13: Wykonawca posiada uprawnienia serwisowe lub szkolenia serwisowe wystawione przez producenta ww. aparatów lub autoryzowanego przedstawiciela, uprawniające do wykonywania przeglądów i napraw. | G13: TAK
A15: Cena brutto razem: | C15: =SUM(H9:H10) -> 0 | F15: Kwota VAT:
A16: cena brutto słownie:

Sheet Zadanie nr 39
B2: Część | C2: 39
A4: Temat: | C4: Aparat rtg Ziehm
B6: Szczegółowy podział zadania:
A8: Nr | B8: Nazwa/ Model | C8: Nr seryjny | D8: Rok produkcji | E8: Przegląd do | F8: Cena netto | G8: Stawka podatku VAT | H8: Cena brutto
A9: 1 | B9: Ziehm Vision RFD | C9: 20515 | D9: 2014 | E9: 44161
B10: Przegląd zgodny z wymaganiami producenta obejmujący min. czyszczenie, sprawdzenie bezpieczeństwa mechanicznego i elektrycznego, kontrolę zużycia części i wyposażenia, sprawdzenie poprawności ogólnego funkcjonowania aparatu i jego gotowości do pracy, sprawdzenie, pomiary i korekta fizycznych parametrów ekspozycji, sprawdzenie i korekta geometrii wiązki promieniowania, kontrola jakości obrazów, oczyszczenie dróg chłodzenia i odprowadzania ciepła, smarowanie ruchomych części mechanicznych, konserwacja oprogramowania systemowego i aplikacyjnego, przygotowanie szczegółowego protokołu z przeglądu zawierającego wyniki pomiarów w odniesieniu do obowiązujących norm, wystawienie certyfikatu sprawności, testy bezpieczeństwa elektrycznego. Koszt przeglądu obejmuje koszty dojazdu. | G10: TAK
B11: Poszczególne przeglądy zostaną udokumentowane kartą pracy/raportem serwisowym, oraz wpisem do paszportu technicznego, a wyniki testu bezpieczeństwa elektrycznego na oddzielnym protokole. Aparaty zostaną oznakowane nalepką z terminem wykonania kolejnego przeglądu. | G11: TAK
B12: Wykonawca posiada uprawnienia serwisowe lub szkolenia serwisowe wystawione przez producenta ww. aparatów lub autoryzowanego przedstawiciela, uprawniające do wykonywania przeglądów i napraw. | G12: TAK
A14: Cena brutto razem: | C14: =SUM(H9:H9) -> 0 | F14: Kwota VAT:
A15: cena brutto słownie:

Sheet Zadanie nr 40
B2: Część | C2: 40
A4: Temat: | C4: Myjnie-dezynfektory do kaczek i basenów Getinge
B6: Szczegółowy podział zadania:
A8: Nr | B8: Nazwa/ Model | C8: Nr seryjny | D8: Rok produkcji | E8: Przegląd do | F8: Cena netto | G8: Stawka podatku VAT | H8: Cena brutto
A9: 1 | B9: FD1800 | C9: WAA053960 | D9: 2014 | E9: 44155
A10: 2 | B10: FD1800 | C10: WAA053961 | D10: 2014 | E10: 44155
B11: Przegląd zgodny z wymaganiami producenta obejmujący min. czyszczenie, sprawdzenie bezpieczeństwa mechanicznego i elektrycznego, kontrolę zużycia części i wyposażenia, sprawdzenie poprawności ogólnego funkcjonowania myjni, kalibrację i testy kontrolne, sprawdzenie zgodności parametrów funkcjonalnych urządzeń z deklarowanymi przez producenta, sprawdzenie poprawności działania zgodnie z normami bezpieczeństwa zalecanymi przez producenta, konserwację zgodnie z zaleceniami producenta, sprawdzenie i czyszczenie sitek na elektrozaworach, sprawdzenie i odkamienienie dysz i wytwornicy pary, testy bezpieczeństwa elektrycznego. Koszt przeglądu obejmuje koszty dojazdu. | G11: TAK
B12: Poszczególne przeglądy zostaną udokumentowane kartą pracy/raportem serwisowym, oraz wpisem do paszportu technicznego. Aparaty zostaną oznakowane nalepką z terminem wykonania kolejnego przeglądu. | G12: TAK
B13: Wykonawca posiada uprawnienia serwisowe lub szkolenia serwisowe wystawione przez co najmniej 1-go (dowolnego) producenta myjni-dezynfektora, uprawniające do wykonywania przeglądów i napraw. | G13: TAK
A15: Cena brutto razem: | C15: =SUM(H9:H10) -> 0 | F15: Kwota VAT:
A16: cena brutto słownie:

Sheet Zadanie nr 41
B2: Część | C2: 41
A4: Temat: | C4: Aparat do znieczulania Taema
B6: Szczegółowy podział zadania:
A8: Nr | B8: Nazwa/ Model | C8: Nr seryjny | D8: Rok produkcji | E8: Przegląd do | F8: Cena netto | G8: Stawka podatku VAT | H8: Cena brutto
A9: 1 | B9: Clarys 2000 | C9: C1587 | D9: 2007 | E9: 44285
B10: Przegląd zgodny z wymaganiami producenta obejmujący min. czyszczenie, sprawdzenie bezpieczeństwa mechanicznego i elektrycznego, kontrolę zużycia części i wyposażenia, sprawdzenie poprawności ogólnego funkcjonowania aparatu, kalibrację i testy kontrolne, sprawdzenie zgodności parametrów funkcjonalnych aparatu z deklarowanymi przez producenta, sprawdzenie poprawności działania zgodnie z normami bezpieczeństwa zalecanymi przez producenta, konserwację zgodnie z zaleceniami producenta, testy bezpieczeństwa elektrycznego. Przegląd obejmuje min. wymianę zestawu serwisowego wymienionego w instrukcji obsługi oraz czujnika tlenu. Koszt przeglądu obejmuje koszty dojazdu. | G10: TAK
B11: Przegląd zostanie udokumentowany kartą pracy/raportem serwisowym, oraz wpisem do paszportu technicznego, a wyniki testu bezpieczeństwa elektrycznego na oddzielnym protokole. Aparat zostanie oznakowany nalepką z terminem wykonania kolejnego przeglądu. | G11: TAK
B12: Wykonawca posiada uprawnienia serwisowe lub szkolenia serwisowe wystawione przez producenta ww. aparatu lub autoryzowanego przedstawiciela, uprawniające do wykonywania przeglądów i napraw. | G12: TAK
A14: Cena brutto razem: | C14: =SUM(H9:H9) -> 0 | F14: Kwota VAT:
A15: cena brutto słownie:

Sheet Zadanie nr 42
B2: Część | C2: 42
A4: Temat: | C4: Respiratory Covidien
B6: Szczegółowy podział zadania:
A8: Nr | B8: Nazwa/ Model | C8: Nr seryjny | D8: Rok produkcji | E8: Przegląd do | F8: Cena netto | G8: Stawka podatku VAT | H8: Cena brutto
A9: 1 | B9: ="Puritan Bennett 840" -> Puritan Bennett 840 | C9: ="3512142596" -> 3512142596 | D9: 2014 | E9: 44147
A10: 2 | B10: ="Puritan Bennett 840" -> Puritan Bennett 840 | C10: ="3512142406" -> 3512142406 | D10: 2014 | E10: 44147
A11: 3 | B11: ="Puritan Bennett 840" -> Puritan Bennett 840 | C11: ="3512142536" -> 3512142536 | D11: 2014 | E11: 44147
A12: 4 | B12: ="Puritan Bennett 840" -> Puritan Bennett 840 | C12: ="3512142610" -> 3512142610 | D12: 2014 | E12: 44147
A13: 5 | B13: ="Puritan Bennett 840" -> Puritan Bennett 840 | C13: ="3512142510" -> 3512142510 | D13: 2014 | E13: 44147
B14: Przegląd zgodny z wymaganiami producenta obejmujący min. czyszczenie, sprawdzenie bezpieczeństwa mechanicznego i elektrycznego, kontrolę zużycia części i wyposażenia, sprawdzenie poprawności ogólnego funkcjonowania aparatu, kalibrację i testy kontrolne, sprawdzenie zgodności parametrów funkcjonalnych urządzeń z deklarowanymi przez producenta, sprawdzenie poprawności działania zgodnie z normami bezpieczeństwa zalecanymi przez producenta, konserwację zgodnie z zaleceniami producenta, testy bezpieczeństwa elektrycznego. Przegląd obejmuje czujników tlenu we wszystkich respiratorach. Koszt przeglądu obejmuje koszty dojazdu. | G14: TAK
B15: Poszczególne przeglądy zostaną udokumentowane kartą pracy/raportem serwisowym, oraz wpisem do paszportu technicznego, a wyniki testu bezpieczeństwa elektrycznego na oddzielnym protokole. Aparaty zostaną oznakowane nalepką z terminem wykonania kolejnego przeglądu. | G15: TAK
B16: Wykonawca posiada uprawnienia serwisowe lub szkolenia serwisowe wystawione przez producenta ww. aparatów lub autoryzowanego przedstawiciela, uprawniające do wykonywania przeglądów i napraw. | G16: TAK
A18: Cena brutto razem: | C18: =SUM(H9:H13) -> 0 | F18: Kwota VAT:
A19: cena brutto słownie:

Sheet Zadanie nr 43
B2: Część | C2: 43
A4: Temat: | C4: Zestawy endoskopowe Karl Storz
B6: Szczegółowy podział zadania:
A8: Nr | B8: Nazwa/ Model | C8: Nr seryjny | D8: Rok produkcji | E8: Przegląd do | F8: Cena netto | G8: Stawka podatku VAT | H8: Cena brutto
A9: 1 | B9: Image1 S | C9: XS01524 | D9: 2017 | E9: 44247
A10: 2 | B10: Telepack X/ Telecam DX II | C10: 20045020/ VV836914-H | D10: 2014 | E10: 44127
B11: Przegląd zgodny z wymaganiami producenta obejmujący min. czyszczenie, sprawdzenie bezpieczeństwa mechanicznego i elektrycznego, kontrolę zużycia części i wyposażenia, sprawdzenie poprawności ogólnego funkcjonowania aparatu, kalibrację i testy kontrolne, sprawdzenie zgodności parametrów funkcjonalnych urządzeń z deklarowanymi przez producenta, sprawdzenie poprawności działania zgodnie z normami bezpieczeństwa zalecanymi przez producenta, konserwację zgodnie z zaleceniami producenta, testy bezpieczeństwa elektrycznego. Wykonawca w ramach przeglądu zobowiązuje się do przygotowania bieżących zaleceń eksploatacyjnych związanych ze stanem aparatów, instrumentów oraz ich dalszym użytkowaniem. Wykonawca zobowiązuje się do wykonania ekspertyz technicznych związanych z wykrytymi usterkami oraz kosztorysu naprawy. Koszt przeglądu obejmuje koszty dojazdu. | G11: TAK
B12: Poszczególne przeglądy zostaną udokumentowane kartą pracy/raportem serwisowym, oraz wpisem do paszportu technicznego, a wyniki testu bezpieczeństwa elektrycznego na oddzielnym protokole. Aparaty zostaną oznakowane nalepką z terminem wykonania kolejnego przeglądu. | G12: TAK
B13: Wykonawca posiada uprawnienia serwisowe lub szkolenia serwisowe wystawione przez co najmniej 1-go (dowolnego) producenta sprzętu endoskopowego, uprawniające do wykonywania przeglądów i napraw. | G13: TAK
A15: Cena brutto razem: | C15: =SUM(H9:H10) -> 0 | F15: Kwota VAT:
A16: cena brutto słownie:

Sheet Zadanie nr 44
B2: Część | C2: 44
A4: Temat: | C4: Myjnia dezynfektor do kaczek i basenów Franke
B6: Szczegółowy podział zadania:
A8: Nr | B8: Nazwa/ Model | C8: Nr seryjny | D8: Rok produkcji | E8: Przegląd do | F8: Cena netto | G8: Stawka podatku VAT | H8: Cena brutto
A9: 1 | B9: DEKO 190 | C9: 0847V180.PL01 | D9: 2008 | E9: 44085
B10: Przegląd zgodny z wymaganiami producenta obejmujący min. czyszczenie, sprawdzenie bezpieczeństwa mechanicznego i elektrycznego, kontrolę zużycia części i wyposażenia, sprawdzenie poprawności ogólnego funkcjonowania myjni, kalibrację i testy kontrolne, sprawdzenie zgodności parametrów funkcjonalnych urządzeń z deklarowanymi przez producenta, sprawdzenie poprawności działania zgodnie z normami bezpieczeństwa zalecanymi przez producenta, konserwację zgodnie z zaleceniami producenta, sprawdzenie i czyszczenie sitek na elektrozaworach, sprawdzenie i odkamienienie dysz i wytwornicy pary, testy bezpieczeństwa elektrycznego. Koszt przeglądu obejmuje koszty dojazdu. | G10: TAK
B11: Poszczególne przeglądy zostaną udokumentowane kartą pracy/raportem serwisowym, oraz wpisem do paszportu technicznego, a wyniki testu bezpieczeństwa elektrycznego na oddzielnym protokole. Aparaty zostaną oznakowane nalepką z terminem wykonania kolejnego przeglądu. | G11: TAK
B12: Wykonawca posiada uprawnienia serwisowe lub szkolenia serwisowe wystawione przez co najmniej 1-go (dowolnego) producenta myjni-dezynfektora, uprawniające do wykonywania przeglądów i napraw. | G12: TAK
A14: Cena brutto razem: | C14: =H9 -> 0 | F14: Kwota VAT:
A15: cena brutto słownie:

Sheet Zadanie nr 45
B2: Część | C2: 45
A4: Temat: | C4: Morcelator Richard Wolf
B6: Szczegółowy podział zadania:
A8: Nr | B8: Nazwa/ Model | C8: Nr seryjny | D8: Rok produkcji | E8: Przegląd do | F8: Cena netto | G8: Stawka podatku VAT | H8: Cena brutto
A9: 1 | B9: 2307101 | C9: 149401407R | D9: 2014 | E9: 44141
B10: Przegląd zgodny z wymaganiami producenta obejmujący min. czyszczenie, sprawdzenie bezpieczeństwa mechanicznego i elektrycznego, kontrolę zużycia części i wyposażenia, sprawdzenie poprawności ogólnego funkcjonowania aparatu wraz z instrumentami, kalibrację i testy kontrolne, sprawdzenie zgodności parametrów funkcjonalnych urządzeń z deklarowanymi przez producenta, sprawdzenie poprawności działania zgodnie z normami bezpieczeństwa zalecanymi przez producenta, konserwację zgodnie z zaleceniami producenta, testy bezpieczeństwa elektrycznego. Wykonawca w ramach przeglądu zobowiązuje się do przygotowania bieżących zaleceń eksploatacyjnych związanych ze stanem aparatu, instrumentów oraz ich dalszym użytkowaniem. Wykonawca zobowiązuje się do wykonania ekspertyz technicznych związanych z wykrytymi usterkami oraz kosztorysu naprawy. Koszt przeglądu obejmuje koszty dojazdu. | G10: TAK
B11: Poszczególne przeglądy zostaną udokumentowane kartą pracy/raportem serwisowym, oraz wpisem do paszportu technicznego, a wyniki testu bezpieczeństwa elektrycznego na oddzielnym protokole. Aparaty zostaną oznakowane nalepką z terminem wykonania kolejnego przeglądu. | G11: TAK
B12: Wykonawca posiada uprawnienia serwisowe lub szkolenia serwisowe wystawione przez co najmniej 1-go (dowolnego) producenta sprzętu endoskopowego, uprawniające do wykonywania przeglądów i napraw. | G12: TAK
A14: Cena brutto razem: | C14: =SUM(H9) -> 0 | F14: Kwota VAT:
A15: cena brutto słownie:

Sheet Zadanie nr 46
B2: Część | C2: 46
A4: Temat: | C4: Nóż harmoniczny
B6: Szczegółowy podział zadania:
A8: Nr | B8: Nazwa/ Model | C8: Nr seryjny | D8: Rok produkcji | E8: Przegląd do | F8: Cena netto | G8: Stawka podatku VAT | H8: Cena brutto
A9: 1 | B9: GEN11 | C9: 1111408462 | D9: 2014 | E9: 44242
B10: Przegląd zgodny z wymaganiami producenta obejmujący min. czyszczenie, sprawdzenie bezpieczeństwa mechanicznego i elektrycznego, kontrolę zużycia części i wyposażenia, sprawdzenie poprawności ogólnego funkcjonowania aparatu, kalibrację i testy kontrolne, sprawdzenie zgodności parametrów funkcjonalnych urządzeń z deklarowanymi przez producenta, sprawdzenie poprawności działania zgodnie z normami bezpieczeństwa zalecanymi przez producenta, konserwację zgodnie z zaleceniami producenta, testy bezpieczeństwa elektrycznego. | G10: TAK
B11: Poszczególne przeglądy zostaną udokumentowane kartą pracy/raportem serwisowym, oraz wpisem do paszportu technicznego, a wyniki testu bezpieczeństwa elektrycznego na oddzielnym protokole. Aparaty zostaną oznakowane nalepką z terminem wykonania kolejnego przeglądu. Koszt przeglądu obejmuje koszty dojazdu lub wysyłki. W przypadku wysyłki Wykonawca ponosi pełną odpowiedzialność za przewożony sprzęt. | G11: TAK
B12: Wykonawca posiada uprawnienia serwisowe lub szkolenia serwisowe wystawione przez producenta ww. aparatu lub autoryzowanego przedstawiciela, uprawniające do wykonywania przeglądów i napraw. | G12: TAK
A14: Cena brutto razem: | C14: =SUM(H9) -> 0 | F14: Kwota VAT:
A15: cena brutto słownie:

Sheet Zadanie nr 47
B2: Część | C2: 47
A4: Temat: | C4: Aspirator ultradźwiękowy
B6: Szczegółowy podział zadania:
A8: Nr | B8: Nazwa/ Model | C8: Nr seryjny | D8: Rok produkcji | E8: Przegląd do | F8: Cena netto | G8: Stawka podatku VAT | H8: Cena brutto
A9: 1 | B9: Cusa Excel+ | C9: HGK1405704IE | D9: 2014 | E9: 44211
B10: Przegląd zgodny z wymaganiami producenta obejmujący min. czyszczenie, sprawdzenie bezpieczeństwa mechanicznego i elektrycznego, kontrolę zużycia części i wyposażenia, sprawdzenie poprawności ogólnego funkcjonowania aparatu, kalibrację i testy kontrolne, sprawdzenie zgodności parametrów funkcjonalnych urządzeń z deklarowanymi przez producenta, sprawdzenie poprawności działania zgodnie z normami bezpieczeństwa zalecanymi przez producenta, konserwację zgodnie z zaleceniami producenta, testy bezpieczeństwa elektrycznego. | G10: TAK
B11: Poszczególne przeglądy zostaną udokumentowane kartą pracy/raportem serwisowym, oraz wpisem do paszportu technicznego, a wyniki testu bezpieczeństwa elektrycznego na oddzielnym protokole. Aparaty zostaną oznakowane nalepką z terminem wykonania kolejnego przeglądu. Koszt przeglądu obejmuje koszty dojazdu. | G11: TAK
B12: Wykonawca posiada uprawnienia serwisowe lub szkolenia serwisowe wystawione przez producenta ww. aparatu lub autoryzowanego przedstawiciela, uprawniające do wykonywania przeglądów i napraw. | G12: TAK
A14: Cena brutto razem: | C14: =SUM(H9) -> 0 | F14: Kwota VAT:
A15: cena brutto słownie:

Sheet Zadanie nr 48
B2: Część | C2: 48
A4: Temat: | C4: Kardiomonitor do pomiarów hemodynamicznych serca
B6: Szczegółowy podział zadania:
A8: Nr | B8: Nazwa/ Model | C8: Nr seryjny | D8: Rok produkcji | E8: Przegląd do | F8: Cena netto | G8: Stawka podatku VAT | H8: Cena brutto
A9: 1 | B9: EV1000 | C9: EVD55520 | D9: 2014 | E9: 44262
B10: Przegląd zgodny z wymaganiami producenta obejmujący min. czyszczenie, sprawdzenie bezpieczeństwa mechanicznego i elektrycznego, kontrolę zużycia części i wyposażenia, sprawdzenie poprawności ogólnego funkcjonowania aparatu, kalibrację i testy kontrolne, sprawdzenie zgodności parametrów funkcjonalnych urządzeń z deklarowanymi przez producenta, sprawdzenie poprawności działania zgodnie z normami bezpieczeństwa zalecanymi przez producenta, konserwację zgodnie z zaleceniami producenta, testy bezpieczeństwa elektrycznego. | G10: TAK
B11: Poszczególne przeglądy zostaną udokumentowane kartą pracy/raportem serwisowym, oraz wpisem do paszportu technicznego, a wyniki testu bezpieczeństwa elektrycznego na oddzielnym protokole. Aparaty zostaną oznakowane nalepką z terminem wykonania kolejnego przeglądu. Koszt przeglądu obejmuje koszty dojazdu lub wysyłki. W przypadku wysyłki Wykonawca ponosi pełną odpowiedzialność za przewożony sprzęt. | G11: TAK
B12: Wykonawca posiada uprawnienia serwisowe lub szkolenia serwisowe wystawione przez co najmniej 1-go (dowolnego) producenta kardiomonitorów, uprawniające do wykonywania przeglądów i napraw. | G12: TAK
A14: Cena brutto razem: | C14: =SUM(H9) -> 0 | F14: Kwota VAT:
A15: cena brutto słownie:

Sheet Zadanie nr 49
B2: Część | C2: 49
A4: Temat: | C4: Łóżka szpitalne elektryczne
B6: Szczegółowy podział zadania:
A8: Nr | B8: Nazwa/ Model | C8: Nr seryjny | D8: Rok produkcji | E8: Przegląd do | F8: Cena netto | G8: Stawka podatku VAT | H8: Cena brutto
A9: 1 | B9: LE-12.0/N-337/06 | C9: 0606/00055 | D9: 2006 | E9: 44135
A10: 2 | B10: LE-12.0/N-337/06 | C10: 0606/00056 | D10: 2006 | E10: 44135
A11: 3 | B11: Falcon E | C11: 0914/022131/00555 | D11: 2008 | E11: 44135
A12: 4 | B12: Falcon E | C12: 0914/022131/00564 | D12: 2008 | E12: 44135
A13: 5 | B13: Falcon E | C13: 0914/022131/00567 | D13: 2014 | E13: 44135
A14: 6 | B14: Falcon E | C14: 0914/022131/00560 | D14: 2014 | E14: 44135
A15: 7 | B15: Falcon E | C15: 0914/022131/00565 | D15: 2014 | E15: 44135
A16: 8 | B16: Falcon E | C16: 0914/022131/00568 | D16: 2014 | E16: 44135
A17: 9 | B17: Falcon E | C17: 0914/022131/00550 | D17: 2014 | E17: 44135
A18: 10 | B18: Falcon E | C18: 0914/022131/00548 | D18: 2014 | E18: 44135
A19: 11 | B19: Falcon E | C19: 0914/022131/00570 | D19: 2014 | E19: 44135
A20: 12 | B20: Falcon E | C20: 0914/022131/00559 | D20: 2014 | E20: 44135
... A45: 37 | B45: LR-03.7 | C45: 0908/01066 | D45: 2006 | E45: 44135
B46: Przegląd zgodny z wymaganiami producenta obejmujący min. czyszczenie, sprawdzenie bezpieczeństwa mechanicznego i elektrycznego, kontrolę zużycia części i wyposażenia, sprawdzenie poprawności ogólnego funkcjonowania łóżek, sprawdzenie zgodności parametrów funkcjonalnych łóżek z deklarowanymi przez producenta, sprawdzenie poprawności działania zgodnie z normami bezpieczeństwa zalecanymi przez producenta, konserwację zgodnie z zaleceniami producenta, testy bezpieczeństwa elektrycznego. | G46: TAK
B47: Poszczególne przeglądy zostaną udokumentowane kartą pracy/raportem serwisowym, oraz wpisem do paszportu technicznego, a wyniki testu bezpieczeństwa elektrycznego na oddzielnym protokole. Łóżka zostaną oznakowane nalepką z terminem wykonania kolejnego przeglądu. Koszt przeglądu obejmuje koszty dojazdu. | G47: TAK
B48: Wykonawca posiada uprawnienia serwisowe lub szkolenia serwisowe wystawione przez co najmniej 1-go producenta wymienionych wyżej łóżek, uprawniające do wykonywania przeglądów i napraw. | G48: TAK
A50: Cena brutto razem: | C50: =SUM(H9:H45) -> 0 | F50: Kwota VAT:
A51: cena brutto słownie:

Sheet Zadanie nr 50
B2: Część | C2: 50
A4: Temat: | C4: Łóżka intensywnej opieki medycznej
B6: Szczegółowy podział zadania:
A8: Nr | B8: Nazwa/ Model | C8: Nr seryjny | D8: Rok produkcji | E8: Przegląd do | F8: Cena netto | G8: Stawka podatku VAT | H8: Cena brutto
A9: 1 | B9: ="Trend-ICU (PR-902-020)" -> Trend-ICU (PR-902-020) | C9: 133569_1_5/1 | D9: 2014 | E9: 44135
A10: 2 | B10: ="Trend-ICU (PR-902-020)" -> Trend-ICU (PR-902-020) | C10: 133569_1_5/2 | D10: 2014 | E10: 44135
A11: 3 | B11: ="Trend-ICU (PR-902-020)" -> Trend-ICU (PR-902-020) | C11: 133569_1_5/3 | D11: 2014 | E11: 44135
A12: 4 | B12: ="Trend-ICU (PR-902-020)" -> Trend-ICU (PR-902-020) | C12: 133569_1_5/4 | D12: 2014 | E12: 44135
A13: 5 | B13: ="Trend-ICU (PR-902-020)" -> Trend-ICU (PR-902-020) | C13: 133569_1_5/5 | D13: 2014 | E13: 44135
B14: Przegląd zgodny z wymaganiami producenta obejmujący min. czyszczenie, sprawdzenie bezpieczeństwa mechanicznego i elektrycznego, kontrolę zużycia części i wyposażenia, sprawdzenie poprawności ogólnego funkcjonowania łóżek, sprawdzenie zgodności parametrów funkcjonalnych łóżek z deklarowanymi przez producenta, sprawdzenie poprawności działania zgodnie z normami bezpieczeństwa zalecanymi przez producenta, konserwację zgodnie z zaleceniami producenta, testy bezpieczeństwa elektrycznego. | G14: TAK
B15: Poszczególne przeglądy zostaną udokumentowane kartą pracy/raportem serwisowym, oraz wpisem do paszportu technicznego, a wyniki testu bezpieczeństwa elektrycznego na oddzielnym protokole. Łóżka zostaną oznakowane nalepką z terminem wykonania kolejnego przeglądu. Koszt przeglądu obejmuje koszty dojazdu. | G15: TAK
B16: Wykonawca posiada uprawnienia serwisowe lub szkolenia serwisowe wystawione przez producenta wymienionych wyżej łóżek, uprawniające do wykonywania przeglądów i napraw. | G16: TAK
A18: Cena brutto razem: | C18: =SUM(H9:H13) -> 0 | F18: Kwota VAT:
A19: cena brutto słownie:

Sheet Zadanie nr 51
B2: Część | C2: 51
A4: Temat: | C4: Sprzęt endoskopowy Pentax
B6: Szczegółowy podział zadania:
A8: Nr | B8: Nazwa/ Model | C8: Nr seryjny | D8: Rok produkcji | E8: Przegląd do | F8: Cena netto | G8: Stawka podatku VAT | H8: Cena brutto
A9: 1 | B9: EPK-i | C9: EF012025 | D9: 2014 | E9: 44165
A10: 2 | B10: EB-1975K | C10: GI20230 | D10: 2014 | E10: 44165
A11: 3 | B11: EG-2990i | C11: A118405 | D11: 2014 | E11: 44165
A12: 4 | B12: EC-3890Fi2 | C12: A112057 | D12: 2014 | E12: 44165
B13: Przegląd zgodny z wymaganiami producenta obejmujący min. czyszczenie, sprawdzenie bezpieczeństwa mechanicznego i elektrycznego, kontrolę zużycia części i wyposażenia, sprawdzenie poprawności ogólnego funkcjonowania aparatu, kalibrację i testy kontrolne, sprawdzenie zgodności parametrów funkcjonalnych urządzeń z deklarowanymi przez producenta, sprawdzenie poprawności działania zgodnie z normami bezpieczeństwa zalecanymi przez producenta, konserwację zgodnie z zaleceniami producenta, testy bezpieczeństwa elektrycznego. Wykonawca w ramach przeglądu zobowiązuje się do przygotowania bieżących zaleceń eksploatacyjnych związanych ze stanem aparatów oraz ich dalszym użytkowaniem. Wykonawca zobowiązuje się do wykonania ekspertyz technicznych związanych z wykrytymi usterkami oraz kosztorysu naprawy. Wykonawca zobowiązuje się do zwrotu endoskopów w nie pogorszonym stanie technicznym, wszelkie działania mogące pogorszyć stan techniczny endoskopów muszą być wcześniej uzgadniane z Zamawiającym. | G13: TAK
B14: Poszczególne przeglądy zostaną udokumentowane kartą pracy/raportem serwisowym, oraz wpisem do paszportu technicznego, a wyniki testu bezpieczeństwa elektrycznego na oddzielnym protokole. Aparaty zostaną oznakowane nalepką z terminem wykonania kolejnego przeglądu. Koszt przeglądu obejmuje koszty dojazdu lub wysyłki. W przypadku wysyłki, fakt pobrania sprzętu do przeglądu i odbioru sprzętu po przeglądzie zostanie potwierdzony pokwitowaniem z zaznaczeniem nazwy, typu i numeru fabrycznego sprzętu. Wykonawca ponosi pełną odpowiedzialność za przewożony sprzęt. | G14: TAK
B15: Wykonawca posiada uprawnienia serwisowe lub szkolenia serwisowe wystawione przez co najmniej 1-go (dowolnego) producenta sprzętu endoskopowego, uprawniające do wykonywania przeglądów i napraw. | G15: TAK
A17: Cena brutto razem: | F17: Kwota VAT:
A18: cena brutto słownie:

Sheet Zadanie nr 52
B2: Część | C2: 52
A4: Temat: | C4: Laser do udrażniania światła oskrzeli
A6: Szczegółowy podział zadania:
A8: Nr | B8: Nazwa/ Model | C8: Nr seryjny | D8: Rok produkcji | E8: Przegląd do | F8: Cena netto | G8: Stawka podatku VAT | H8: Cena brutto
A9: 1 | B9: Ceralas D50 | C9: 2416-G | D9: 2007 | E9: 44225
B10: Przegląd zgodny z wymaganiami producenta obejmujący min. czyszczenie, kontrolę zużycia części i wyposażenia, sprawdzenie poprawności ogólnego funkcjonowania aparatu, kalibrację i testy kontrolne, sprawdzenie zgodności parametrów funkcjonalnych urządzenia z deklarowanymi przez producenta, sprawdzenie poprawności działania zgodnie z normami bezpieczeństwa zalecanymi przez producenta, konserwację zgodnie z zaleceniami producenta, testy bezpieczeństwa elektrycznego. Koszt przeglądu obejmuje koszty dojazdu. | G10: TAK
B11: Poszczególne przeglądy zostaną udokumentowane kartą pracy/raportem serwisowym, oraz wpisem do paszportu technicznego, a wyniki testu bezpieczeństwa elektrycznego na oddzielnym protokole. Aparaty zostaną oznakowane nalepką z terminem wykonania kolejnego przeglądu. | G11: TAK
B12: Wykonawca posiada uprawnienia serwisowe lub szkolenia serwisowe wystawione przez co najmniej 1-go (dowolnego) producenta laserów do zastosowań medycznych,uprawniające do wykonywania przeglądów i napraw. | G12: TAK
A14: Cena brutto: | C14: =H9 -> 0 | F14: Kwota VAT:
A15: cena brutto słownie:

Sheet Zadanie nr 53
B2: Część | C2: 53
A4: Temat: | C4: Ciśnieniomierze
A6: Szczegółowy podział zadania:
A8: Nr | B8: Nazwa/ Model | C8: Nr seryjny | D8: Rok produkcji | E8: Przegląd do | F8: Cena netto | G8: Stawka podatku VAT | H8: Cena brutto
A9: 1 | B9: 711 | C9: 2500733L | D9: 2003 | E9: 44177
A10: 2 | B10: 711 | C10: 017409 | D10: 2008 | E10: 44177
A11: 3 | B11: 711 | C11: 2500744L | D11: 2008 | E11: 44177
A12: 4 | B12: 711 | C12: 81001903 | D12: 2010 | E12: 44177
A13: 5 | B13: TMA-30 PRO | C13: 01966 | D13: 2013 | E13: 44177
A14: 6 | B14: elektroniczny | C14: 11742 | D14: 2002 | E14: 44177
A15: 7 | B15: elektroniczny | C15: 0137013366 | D15: 2002 | E15: 44177
A16: 8 | B16: HS-60B | C16: 090702010 | D16: 2006 | E16: 44177
A17: 9 | B17: HS-60B | C17: 050712200 | D17: 2006 | E17: 44177
A18: 10 | B18: HS-60B | C18: 040602010 | D18: 2008 | E18: 44177
A19: 11 | B19: Intermed | C19: 26102012321 | D19: 2006 | E19: 44177
A20: 12 | B20: KDS-1 | C20: 090546 | D20: 2010 | E20: 44177
... A46: 38 | B46: stołowy | C46: 01270509 | D46: 2007 | E46: 44177
A47: 39 | B47: stołowy | C47: 1260509 | D47: 2008 | E47: 44177
A48: 40 | B48: stołowy | C48: 01230509 | D48: 2008 | E48: 44177
A49: 41 | B49: Tech-med | C49: 002415 | D49: 2012 | E49: 44177
A50: 42 | B50: TENS-1 | C50: 865690 | D50: 2006 | E50: 44177
A51: 43 | B51: TENS-1 | C51: 9907237 | D51: 2006 | E51: 44177
A52: 44 | B52: TMA-3BASIC | C52: 021407802 | D52: 2014 | E52: 44177
A53: 45 | B53: TMA-3BASIC | C53: 021407818 | D53: 2014 | E53: 44177
A54: 46 | B54: TM-SZ | C54: 0602 | D54: 2010 | E54: 44177
A55: 47 | B55: TM-SZ | C55: 0196 | D55: 2010 | E55: 44177
A56: 48 | B56: TM-SZ | C56: 0193 | D56: 2010 | E56: 44177
A57: 49 | B57: TM-SZ | C57: 0192 | D57: 2010 | E57: 44177
A58: 50 | B58: TM-SZ | C58: 0195 | D58: 2010 | E58: 44177
A59: 51 | B59: TM-SZ | C59: 1971 | D59: 2013 | E59: 44177
... A73: 65 | B73: zegarowy INCO | C73: 97110160 | D73: 2010 | E73: 44177
B74: Przegląd zgodny z wymaganiami producenta obejmujący min. kontrolę zużycia części i wyposażenia, sprawdzenie poprawności ogólnego funkcjonowania aparatu, kalibrację i testy kontrolne, sprawdzenie zgodności parametrów funkcjonalnych urządzenia z deklarowanymi przez producenta, sprawdzenie poprawności działania zgodnie z normami bezpieczeństwa zalecanymi przez producenta, konserwację zgodnie z zaleceniami producenta. Koszt przeglądu obejmuje koszty dojazdu. | G74: TAK
B75: Poszczególne przeglądy zostaną udokumentowane kartą pracy/raportem serwisowym. Aparaty zostaną oznakowane nalepką z terminem wykonania kolejnego przeglądu. | G75: TAK
B76: Wykonawca posiada uprawnienia serwisowe lub szkolenia serwisowe wystawione przez co najmniej 1-go (dowolnego) producenta ciśnieniomierzy, uprawniające do wykonywania przeglądów i napraw. | G76: TAK
A78: Cena brutto: | C78: =SUM(H9:H73) -> 0 | F78: Kwota VAT:
A79: cena brutto słownie:

Sheet Zadanie nr 54
B2: Część | C2: 54
A4: Temat: | C4: Aparat do znieczulania Mindray
B6: Szczegółowy podział zadania:
A8: Nr | B8: Nazwa/ Model | C8: Nr seryjny | D8: Rok produkcji | E8: Przegląd do | F8: Cena netto | G8: Stawka podatku VAT | H8: Cena brutto
A9: 1 | B9: Aparat do znieczulania A7 (+ monitor BeneView T8) | C9: GC-44000091 (CF-3C120730) | D9: 2013 | E9: 44255
B10: Przegląd zgodny z wymaganiami producenta obejmujący min. czyszczenie, sprawdzenie bezpieczeństwa mechanicznego i elektrycznego, kontrolę zużycia części i wyposażenia, sprawdzenie poprawności ogólnego funkcjonowania aparatu, kalibrację i testy kontrolne, sprawdzenie zgodności parametrów funkcjonalnych urządzeń z deklarowanymi przez producenta, sprawdzenie poprawności działania zgodnie z normami bezpieczeństwa zalecanymi przez producenta, konserwację zgodnie z zaleceniami producenta, testy bezpieczeństwa elektrycznego. Przegląd obejmuje wymianę zestawu serwisowego. Koszt przeglądu obejmuje koszty dojazdu. | G10: TAK
B11: Przegląd zostanie udokumentowany kartą pracy/raportem serwisowym, oraz wpisem do paszportu technicznego, a wyniki testu bezpieczeństwa elektrycznego na oddzielnym protokole. Aparat zostanie oznakowany nalepką z terminem wykonania kolejnego przeglądu. | G11: TAK
B12: Wykonawca posiada uprawnienia serwisowe lub szkolenia serwisowe wystawione przez producenta ww. aparatu lub autoryzowanego przedstawiciela, uprawniające do wykonywania przeglądów i napraw. | G12: TAK
A14: Cena brutto razem: | C14: =SUM(H9:H9) -> 0 | F14: Kwota VAT:
A15: cena brutto słownie:

Sheet Zadanie nr 55
B2: Część | C2: 55
A4: Temat: | C4: System transportu pacjenta
B6: Szczegółowy podział zadania:
A8: Nr | B8: Nazwa/ Model | C8: Nr seryjny | D8: Rok produkcji | E8: Przegląd do | F8: Cena netto | G8: Stawka podatku VAT | H8: Cena brutto
A9: 1 | B9: Zephyr ZTG-4 | C9: 6844 | D9: 2015 | E9: 44057
B10: Przegląd zgodny z wymaganiami producenta obejmujący min. czyszczenie, kontrolę zużycia części i wyposażenia, sprawdzenie poprawności ogólnego funkcjonowania aparatu, kalibrację i testy kontrolne, sprawdzenie zgodności parametrów funkcjonalnych urządzenia z deklarowanymi przez producenta, sprawdzenie poprawności działania zgodnie z normami bezpieczeństwa zalecanymi przez producenta, konserwację zgodnie z zaleceniami producenta, testy bezpieczeństwa elektrycznego. Koszt przeglądu obejmuje koszty dojazdu. | G10: TAK
B11: Przegląd zostanie udokumentowany kartą pracy/raportem serwisowym, oraz wpisem do paszportu technicznego, a wyniki testu bezpieczeństwa elektrycznego na oddzielnym protokole. Aparat zostanie oznakowany nalepką z terminem wykonania kolejnego przeglądu. | G11: TAK
B12: Wykonawca posiada uprawnienia serwisowe lub szkolenia serwisowe wystawione przez producenta ww. aparatu lub autoryzowanego przedstawiciela, uprawniające do wykonywania przeglądów i napraw. | G12: TAK
A14: Cena brutto razem: | C14: =SUM(H9:H9) -> 0 | F14: Kwota VAT:
A15: cena brutto słownie:

Sheet Zadanie nr 56
B2: Część | C2: 56
A4: Temat: | C4: Mikroskopy
B6: Szczegółowy podział zadania:
A8: Nr | B8: Nazwa/ Model | C8: Nr seryjny | D8: Rok produkcji | E8: Przegląd do | F8: Cena netto | G8: Stawka podatku VAT | H8: Cena brutto
A9: 1 | B9: BX53 | C9: 7G46601 | D9: 2017 | E9: 44027
A10: 2 | B10: CKX53 | C10: 7G47230 | D10: 2017 | E10: 44027
A11: 3 | B11: CX31 | C11: 7B17339 | D11: 2007 | E11: 44027
A12: 4 | B12: Eclipse 400 | C12: 674888 | D12: 2000 | E12: 44027
A13: 5 | B13: HUND H600 | C13: 1010201 | D13: 2000 | E13: 44027
A14: 6 | B14: HUND V300 | C14: 1010234 | D14: 2000 | E14: 44027
A15: 7 | B15: Motic BA 310 LED Binokular | C15: 1.1130001919 | D15: 2016 | E15: 44027
A16: 8 | B16: Nikon E200 | C16: 105264 | D16: 2011 | E16: 44027
A17: 9 | B17: AMPLIVAL | C17: 74175 | D17: 1985 | E17: 44027
A18: 10 | B18: AMPLIVAL | C18: 74149 | D18: 1985 | E18: 44027
A19: 11 | B19: BX-41 | C19: 3K12946 | D19: 2004 | E19: 44027
A20: 12 | B20: BX-51 | C20: 1922435 | D20: 2000 | E20: 44027
... A44: 36 | B44: Zeiss | C44: 857956 | D44: 1988 | E44: 44027
B45: Przegląd zgodny z wymaganiami producenta obejmujący min. czyszczenie, kalibrację i testy kontrolne, sprawdzenie zgodności parametrów funkcjonalnych urządzeń z deklarowanymi przez producenta, sprawdzenie poprawności działania zgodnie z normami bezpieczeństwa zalecanymi przez producenta, konserwację zgodnie z zaleceniami producenta, testy bezpieczeństwa elektrycznego. Koszt przeglądu obejmuje koszty dojazdu. | G45: TAK
B46: Przegląd zostanie udokumentowany kartą pracy/raportem serwisowym, oraz wpisem do paszportu technicznego. Mikroskopy zostaną oznakowany nalepką z terminem wykonania kolejnego przeglądu. | G46: TAK
B47: Wykonawca posiada uprawnienia serwisowe lub szkolenia serwisowe wystawione przez co najmniej 1-go (dowolnego) producenta mikroskopów, uprawniające do wykonywania przeglądów i napraw. | G47: TAK
A49: Cena brutto razem: | C49: =SUM(H9:H44) -> 0 | F49: Kwota VAT:
A50: cena brutto słownie:

Sheet Zadanie nr 57
B2: Część | C2: 57
A4: Temat: | C4: Pipety
B6: Szczegółowy podział zadania:
A8: Nr | B8: Nazwa/ Model | C8: Pojemność | D8: Nr ser. | E8: Przegląd do | F8: Cena netto | G8: Stawka podatku VAT | H8: Cena brutto
A9: 1 | B9: ="Multipette M4" -> Multipette M4 | C9: 1-10ml | D9: ="R15718G" -> R15718G | E9: ="2020-07-31" -> 2020-07-31
A10: 2 | B10: ="Reference" -> Reference | C10: ="50 - 200µl" -> 50 - 200µl | D10: ="3852102" -> 3852102 | E10: ="2020-07-31" -> 2020-07-31
A11: 3 | B11: ="Research" -> Research | C11: ="10 - 100µl " -> 10 - 100µl | D11: ="2959665" -> 2959665 | E11: ="2020-07-31" -> 2020-07-31
A12: 4 | B12: ="Research" -> Research | C12: ="10 - 100µl " -> 10 - 100µl | D12: ="2960445" -> 2960445 | E12: ="2020-07-31" -> 2020-07-31
A13: 5 | B13: ="Research" -> Research | C13: ="100 - 1000µl " -> 100 - 1000µl | D13: ="2987875" -> 2987875 | E13: ="2020-07-31" -> 2020-07-31
A14: 6 | B14: ="Research" -> Research | C14: ="10 - 100µl " -> 10 - 100µl | D14: ="2959885" -> 2959885 | E14: ="2020-07-31" -> 2020-07-31
A15: 7 | B15: ="Research" -> Research | C15: ="100 - 1000µl " -> 100 - 1000µl | D15: ="2988485" -> 2988485 | E15: ="2020-07-31" -> 2020-07-31
A16: 8 | B16: ="Research" -> Research | C16: ="10 - 100µl " -> 10 - 100µl | D16: ="2961105" -> 2961105 | E16: ="2020-07-31" -> 2020-07-31
A17: 9 | B17: ="Research" -> Research | C17: ="100 - 1000µl " -> 100 - 1000µl | D17: ="2987635" -> 2987635 | E17: ="2020-07-31" -> 2020-07-31
A18: 10 | B18: ="Research" -> Research | C18: ="2 - 20µl " -> 2 - 20µl | D18: ="1839785" -> 1839785 | E18: ="2020-07-31" -> 2020-07-31
A19: 11 | B19: ="Research" -> Research | C19: ="100 - 1000µl " -> 100 - 1000µl | D19: ="2988175" -> 2988175 | E19: ="2020-07-31" -> 2020-07-31
A20: 12 | B20: ="Research" -> Research | C20: ="10 - 100µl" -> 10 - 100µl | D20: ="365227Z" -> 365227Z | E20: ="2020-07-31" -> 2020-07-31
A21: 13 | B21: ="Research" -> Research | C21: ="20 - 200µl" -> 20 - 200µl | D21: ="4560851" -> 4560851 | E21: ="2020-07-31" -> 2020-07-31
A22: 14 | B22: ="Research" -> Research | C22: ="2 - 20µl" -> 2 - 20µl | D22: ="254323" -> 254323 | E22: ="2020-07-31" -> 2020-07-31
A23: 15 | B23: ="Research" -> Research | C23: ="10 - 100µl" -> 10 - 100µl | D23: ="4521551" -> 4521551 | E23: ="2020-07-31" -> 2020-07-31
A24: 16 | B24: ="Research" -> Research | C24: ="20 - 200µl" -> 20 - 200µl | D24: ="4557961" -> 4557961 | E24: ="2020-07-31" -> 2020-07-31
A25: 17 | B25: ="Research" -> Research | C25: ="200 - 1000µl" -> 200 - 1000µl | D25: ="295849" -> 295849 | E25: ="2020-07-31" -> 2020-07-31
A26: 18 | B26: ="Research" -> Research | C26: ="2 - 20µl" -> 2 - 20µl | D26: ="3446221" -> 3446221 | E26: ="2020-07-31" -> 2020-07-31
A27: 19 | B27: ="Research" -> Research | C27: ="100 - 1000µl" -> 100 - 1000µl | D27: ="4590481" -> 4590481 | E27: ="2020-07-31" -> 2020-07-31
A28: 20 | B28: ="Research" -> Research | C28: ="20 - 200µl" -> 20 - 200µl | D28: ="2142749" -> 2142749 | E28: ="2020-07-31" -> 2020-07-31
A29: 21 | B29: ="Research plus" -> Research plus | C29: ="100 - 1000µl " -> 100 - 1000µl | D29: ="362308A" -> 362308A | E29: ="2020-07-31" -> 2020-07-31
A30: 22 | B30: ="Research plus" -> Research plus | C30: ="100 - 1000µl " -> 100 - 1000µl | D30: ="362497A" -> 362497A | E30: ="2020-07-31" -> 2020-07-31
A31: 23 | B31: ="Research plus" -> Research plus | C31: ="0,5 - 5µl " -> 0,5 - 5µl | D31: ="I26430F" -> I26430F | E31: ="2020-07-31" -> 2020-07-31
A32: 24 | B32: ="Research plus" -> Research plus | C32: ="500 - 5000µl " -> 500 - 5000µl | D32: ="J26430F" -> J26430F | E32: ="2020-07-31" -> 2020-07-31
A33: 25 | B33: ="Research plus" -> Research plus | C33: ="10 - 100µl " -> 10 - 100µl | D33: ="214445A" -> 214445A | E33: ="2020-07-31" -> 2020-07-31
A34: 26 | B34: ="Research plus" -> Research plus | C34: ="100 - 1000µl " -> 100 - 1000µl | D34: ="364467Z" -> 364467Z | E34: ="2020-07-31" -> 2020-07-31
A35: 27 | B35: ="Research plus" -> Research plus | C35: ="2 - 20µl" -> 2 - 20µl | D35: ="P29578C" -> P29578C | E35: ="2020-07-31" -> 2020-07-31
A36: 28 | B36: ="Research plus" -> Research plus | C36: ="10 - 100µl" -> 10 - 100µl | D36: ="214403A" -> 214403A | E36: ="2020-07-31" -> 2020-07-31
A37: 29 | B37: ="Research plus" -> Research plus | C37: ="10 - 100µl" -> 10 - 100µl | D37: ="O36485C" -> O36485C | E37: ="2020-07-31" -> 2020-07-31
A38: 30 | B38: ="Research plus" -> Research plus | C38: ="2 - 20µl" -> 2 - 20µl | D38: ="252001Z" -> 252001Z | E38: ="2020-07-31" -> 2020-07-31
A39: 31 | B39: ="Research plus" -> Research plus | C39: ="100 - 1000µl" -> 100 - 1000µl | D39: ="364475Z" -> 364475Z | E39: ="2020-07-31" -> 2020-07-31
A40: 32 | B40: ="Research plus" -> Research plus | C40: ="2 - 20µl" -> 2 - 20µl | D40: ="P31692B" -> P31692B | E40: ="2020-07-31" -> 2020-07-31
A41: 33 | B41: ="Research plus" -> Research plus | C41: ="2 - 20µl" -> 2 - 20µl | D41: ="273782A" -> 273782A | E41: ="2020-07-31" -> 2020-07-31
A42: 34 | B42: ="Research plus" -> Research plus | C42: ="0,5 - 10µl" -> 0,5 - 10µl | D42: ="3424851" -> 3424851 | E42: ="2020-07-31" -> 2020-07-31
A43: 35 | B43: ="Research plus" -> Research plus | C43: ="2 - 20µl" -> 2 - 20µl | D43: ="1305429" -> 1305429 | E43: ="2020-07-31" -> 2020-07-31
A44: 36 | B44: ="Research plus" -> Research plus | C44: ="20 - 200µl" -> 20 - 200µl | D44: ="2487319" -> 2487319 | E44: ="2020-07-31" -> 2020-07-31
A45: 37 | B45: ="Research plus" -> Research plus | C45: ="100 - 1000µl" -> 100 - 1000µl | D45: ="2493089" -> 2493089 | E45: ="2020-07-31" -> 2020-07-31
A46: 38 | B46: ="Research plus" -> Research plus | C46: ="2 - 20µl" -> 2 - 20µl | D46: ="336667A" -> 336667A | E46: ="2020-07-31" -> 2020-07-31
A47: 39 | B47: ="Research plus" -> Research plus | C47: ="2 - 20µl" -> 2 - 20µl | D47: ="P31579B" -> P31579B | E47: ="2020-07-31" -> 2020-07-31
A48: 40 | B48: ="Research plus" -> Research plus | C48: ="0,1 - 2,5µl" -> 0,1 - 2,5µl | D48: ="P10388G" -> P10388G | E48: ="2020-07-31" -> 2020-07-31
A49: 41 | B49: ="Research plus" -> Research plus | C49: ="0,1 - 2,5µl" -> 0,1 - 2,5µl | D49: ="P10571G" -> P10571G | E49: ="2020-07-31" -> 2020-07-31
A50: 42 | B50: ="Research plus" -> Research plus | C50: ="0,1 - 2,5µl" -> 0,1 - 2,5µl | D50: ="P10392G" -> P10392G | E50: ="2020-07-31" -> 2020-07-31
A51: 43 | B51: ="Research plus" -> Research plus | C51: ="0,1 - 2,5µl" -> 0,1 - 2,5µl | D51: ="P10382G" -> P10382G | E51: ="2020-07-31" -> 2020-07-31
A52: 44 | B52: ="Research plus" -> Research plus | C52: ="0,1 - 2,5µl" -> 0,1 - 2,5µl | D52: ="P10387G" -> P10387G | E52: ="2020-07-31" -> 2020-07-31
A53: 45 | B53: ="Research plus" -> Research plus | C53: ="0,1 - 2,5µl" -> 0,1 - 2,5µl | D53: ="P10574G" -> P10574G | E53: ="2020-07-31" -> 2020-07-31
A54: 46 | B54: ="Research plus" -> Research plus | C54: ="0,1 - 2,5µl" -> 0,1 - 2,5µl | D54: ="P10390G" -> P10390G | E54: ="2020-07-31" -> 2020-07-31
A55: 47 | B55: ="Research plus" -> Research plus | C55: ="0,1 - 2,5µl" -> 0,1 - 2,5µl | D55: ="P10386G" -> P10386G | E55: ="2020-07-31" -> 2020-07-31
A56: 48 | B56: ="Research plus" -> Research plus | C56: ="0,5 - 10µl" -> 0,5 - 10µl | D56: ="O13994G" -> O13994G | E56: ="2020-07-31" -> 2020-07-31
A57: 49 | B57: ="Research plus" -> Research plus | C57: ="0,5 - 10µl" -> 0,5 - 10µl | D57: ="O13993G" -> O13993G | E57: ="2020-07-31" -> 2020-07-31
A58: 50 | B58: ="Research plus" -> Research plus | C58: ="0,5 - 10µl" -> 0,5 - 10µl | D58: ="O13995G" -> O13995G | E58: ="2020-07-31" -> 2020-07-31
A59: 51 | B59: ="Research plus" -> Research plus | C59: ="0,5 - 10µl" -> 0,5 - 10µl | D59: ="O13610G" -> O13610G | E59: ="2020-07-31" -> 2020-07-31
A60: 52 | B60: ="Research plus" -> Research plus | C60: ="0,5 - 10µl" -> 0,5 - 10µl | D60: ="O14001G" -> O14001G | E60: ="2020-07-31" -> 2020-07-31
A61: 53 | B61: ="Research plus" -> Research plus | C61: ="0,5 - 10µl" -> 0,5 - 10µl | D61: ="O13722G" -> O13722G | E61: ="2020-07-31" -> 2020-07-31
A62: 54 | B62: ="Research plus" -> Research plus | C62: ="0,5 - 10µl" -> 0,5 - 10µl | D62: ="O13539G" -> O13539G | E62: ="2020-07-31" -> 2020-07-31
A63: 55 | B63: ="Research plus" -> Research plus | C63: ="0,5 - 10µl" -> 0,5 - 10µl | D63: ="O13937G" -> O13937G | E63: ="2020-07-31" -> 2020-07-31
A64: 56 | B64: ="Research plus" -> Research plus | C64: ="0,5 - 10µl" -> 0,5 - 10µl | D64: ="O13942G" -> O13942G | E64: ="2020-07-31" -> 2020-07-31
A65: 57 | B65: ="Research plus" -> Research plus | C65: ="0,5 - 10µl" -> 0,5 - 10µl | D65: ="O13603G" -> O13603G | E65: ="2020-07-31" -> 2020-07-31
A66: 58 | B66: ="Research plus" -> Research plus | C66: ="2,0 - 20µl" -> 2,0 - 20µl | D66: ="O24226G" -> O24226G | E66: ="2020-07-31" -> 2020-07-31
A67: 59 | B67: ="Research plus" -> Research plus | C67: ="2,0 - 20µl" -> 2,0 - 20µl | D67: ="O24214G" -> O24214G | E67: ="2020-07-31" -> 2020-07-31
A68: 60 | B68: ="Research plus" -> Research plus | C68: ="2,0 - 20µl" -> 2,0 - 20µl | D68: ="O24105G" -> O24105G | E68: ="2020-07-31" -> 2020-07-31
A69: 61 | B69: ="Research plus" -> Research plus | C69: ="2,0 - 20µl" -> 2,0 - 20µl | D69: ="O24218G" -> O24218G | E69: ="2020-07-31" -> 2020-07-31
A70: 62 | B70: ="Research plus" -> Research plus | C70: ="2,0 - 20µl" -> 2,0 - 20µl | D70: ="O24302G" -> O24302G | E70: ="2020-07-31" -> 2020-07-31
A71: 63 | B71: ="Research plus" -> Research plus | C71: ="2,0 - 20µl" -> 2,0 - 20µl | D71: ="O24257G" -> O24257G | E71: ="2020-07-31" -> 2020-07-31
A72: 64 | B72: ="Research plus" -> Research plus | C72: ="2,0 - 20µl" -> 2,0 - 20µl | D72: ="O23925G" -> O23925G | E72: ="2020-07-31" -> 2020-07-31
A73: 65 | B73: ="Research plus" -> Research plus | C73: ="2,0 - 20µl" -> 2,0 - 20µl | D73: ="O24359G" -> O24359G | E73: ="2020-07-31" -> 2020-07-31
A74: 66 | B74: ="Research plus" -> Research plus | C74: ="2,0 - 20µl" -> 2,0 - 20µl | D74: ="O24074G" -> O24074G | E74: ="2020-07-31" -> 2020-07-31
A75: 67 | B75: ="Research plus" -> Research plus | C75: ="2,0 - 20µl" -> 2,0 - 20µl | D75: ="O24361G" -> O24361G | E75: ="2020-07-31" -> 2020-07-31
A76: 68 | B76: ="Research plus" -> Research plus | C76: ="2,0 - 20µl" -> 2,0 - 20µl | D76: ="O24320G" -> O24320G | E76: ="2020-07-31" -> 2020-07-31
A77: 69 | B77: ="Research plus" -> Research plus | C77: ="2,0 - 20µl" -> 2,0 - 20µl | D77: ="O24222G" -> O24222G | E77: ="2020-07-31" -> 2020-07-31
A78: 70 | B78: ="Research plus" -> Research plus | C78: ="10 - 100µl" -> 10 - 100µl | D78: ="N37094G" -> N37094G | E78: ="2020-07-31" -> 2020-07-31
A79: 71 | B79: ="Research plus" -> Research plus | C79: ="10 - 100µl" -> 10 - 100µl | D79: ="N37087G" -> N37087G | E79: ="2020-07-31" -> 2020-07-31
A80: 72 | B80: ="Research plus" -> Research plus | C80: ="10 - 100µl" -> 10 - 100µl | D80: ="N37042G" -> N37042G | E80: ="2020-07-31" -> 2020-07-31
A81: 73 | B81: ="Research plus" -> Research plus | C81: ="10 - 100µl" -> 10 - 100µl | D81: ="N36966G" -> N36966G | E81: ="2020-07-31" -> 2020-07-31
A82: 74 | B82: ="Research plus" -> Research plus | C82: ="10 - 100µl" -> 10 - 100µl | D82: ="N37036G" -> N37036G | E82: ="2020-07-31" -> 2020-07-31
A83: 75 | B83: ="Research plus" -> Research plus | C83: ="10 - 100µl" -> 10 - 100µl | D83: ="N36961G" -> N36961G | E83: ="2020-07-31" -> 2020-07-31
A84: 76 | B84: ="Research plus" -> Research plus | C84: ="10 - 100µl" -> 10 - 100µl | D84: ="N37093G" -> N37093G | E84: ="2020-07-31" -> 2020-07-31
A85: 77 | B85: ="Research plus" -> Research plus | C85: ="20 - 200µl" -> 20 - 200µl | D85: ="O22813G" -> O22813G | E85: ="2020-07-31" -> 2020-07-31
A86: 78 | B86: ="Research plus" -> Research plus | C86: ="20 - 200µl" -> 20 - 200µl | D86: ="O22522G" -> O22522G | E86: ="2020-07-31" -> 2020-07-31
A87: 79 | B87: ="Research plus" -> Research plus | C87: ="20 - 200µl" -> 20 - 200µl | D87: ="O22468G" -> O22468G | E87: ="2020-07-31" -> 2020-07-31
A88: 80 | B88: ="Research plus" -> Research plus | C88: ="20 - 200µl" -> 20 - 200µl | D88: ="O22815G" -> O22815G | E88: ="2020-07-31" -> 2020-07-31
A89: 81 | B89: ="Research plus" -> Research plus | C89: ="20 - 200µl" -> 20 - 200µl | D89: ="O22790G" -> O22790G | E89: ="2020-07-31" -> 2020-07-31
A90: 82 | B90: ="Research plus" -> Research plus | C90: ="20 - 200µl" -> 20 - 200µl | D90: ="O22533G" -> O22533G | E90: ="2020-07-31" -> 2020-07-31
A91: 83 | B91: ="Research plus" -> Research plus | C91: ="20 - 200µl" -> 20 - 200µl | D91: ="O22804G" -> O22804G | E91: ="2020-07-31" -> 2020-07-31
A92: 84 | B92: ="Research plus" -> Research plus | C92: ="20 - 200µl" -> 20 - 200µl | D92: ="O22532G" -> O22532G | E92: ="2020-07-31" -> 2020-07-31
A93: 85 | B93: ="Research plus" -> Research plus | C93: ="20 - 200µl" -> 20 - 200µl | D93: ="O22799G" -> O22799G | E93: ="2020-07-31" -> 2020-07-31
A94: 86 | B94: ="Research plus" -> Research plus | C94: ="20 - 200µl" -> 20 - 200µl | D94: ="O22767G" -> O22767G | E94: ="2020-07-31" -> 2020-07-31
A95: 87 | B95: ="Research plus" -> Research plus | C95: ="20 - 200µl" -> 20 - 200µl | D95: ="O22681G" -> O22681G | E95: ="2020-07-31" -> 2020-07-31
A96: 88 | B96: ="Research plus" -> Research plus | C96: ="20 - 200µl" -> 20 - 200µl | D96: ="O22562G" -> O22562G | E96: ="2020-07-31" -> 2020-07-31
A97: 89 | B97: ="Research plus" -> Research plus | C97: ="100 - 1000µl" -> 100 - 1000µl | D97: ="N14078G" -> N14078G | E97: ="2020-07-31" -> 2020-07-31
A98: 90 | B98: ="Research plus" -> Research plus | C98: ="100 - 1000µl" -> 100 - 1000µl | D98: ="N13954G" -> N13954G | E98: ="2020-07-31" -> 2020-07-31
A99: 91 | B99: ="Research plus" -> Research plus | C99: ="100 - 1000µl" -> 100 - 1000µl | D99: ="N14389G" -> N14389G | E99: ="2020-07-31" -> 2020-07-31
A100: 92 | B100: ="Research plus" -> Research plus | C100: ="100 - 1000µl" -> 100 - 1000µl | D100: ="N13915G" -> N13915G | E100: ="2020-07-31" -> 2020-07-31
A101: 93 | B101: ="Research plus" -> Research plus | C101: ="100 - 1000µl" -> 100 - 1000µl | D101: ="N13917G" -> N13917G | E101: ="2020-07-31" -> 2020-07-31
A102: 94 | B102: ="Research plus" -> Research plus | C102: ="100 - 1000µl" -> 100 - 1000µl | D102: ="N13914G" -> N13914G | E102: ="2020-07-31" -> 2020-07-31
A103: 95 | B103: ="Research plus" -> Research plus | C103: ="100 - 1000µl" -> 100 - 1000µl | D103: ="N14049G" -> N14049G | E103: ="2020-07-31" -> 2020-07-31
A104: 96 | B104: ="Research plus" -> Research plus | C104: ="100 - 1000µl" -> 100 - 1000µl | D104: ="N13911G" -> N13911G | E104: ="2020-07-31" -> 2020-07-31
...

Sheet Zadanie nr 58
B2: Część | C2: 58
A4: Temat: | C4: Detektor promieniowania gamma
B6: Szczegółowy podział zadania:
A8: Nr | B8: Nazwa/ Model | C8: Nr seryjny | D8: Rok produkcji | E8: Przegląd do | F8: Cena netto | G8: Stawka podatku VAT | H8: Cena brutto
A9: 1 | B9: Wprobe LAP | C9: 2500112 | D9: 2017 | E9: 44181
B10: Przegląd zgodny z wymaganiami producenta obejmujący min. czyszczenie, kalibrację i testy kontrolne, sprawdzenie zgodności parametrów funkcjonalnych urządzeń z deklarowanymi przez producenta, sprawdzenie poprawności działania zgodnie z normami bezpieczeństwa zalecanymi przez producenta, konserwację zgodnie z zaleceniami producenta, wymianę baterii. | G10: TAK
B11: Przegląd zostanie udokumentowany kartą pracy/raportem serwisowym, oraz wpisem do paszportu technicznego. Aparat zostanie oznakowany nalepką z terminem wykonania kolejnego przeglądu. Koszt przeglądu obejmuje koszty dojazdu lub wysyłki. W przypadku wysyłki Wykonawca ponosi pełną odpowiedzialność za przewożony sprzęt. | G11: TAK
B12: Wykonawca posiada uprawnienia serwisowe lub szkolenia serwisowe wystawione przez co najmniej 1-go (dowolnego) producenta detektorów promieniowania gamma, uprawniające do wykonywania przeglądów i napraw. | G12: TAK
A14: Cena brutto razem: | F14: Kwota VAT:
A15: cena brutto słownie:

Sheet Zadanie nr 59
B2: Część | C2: 59
A4: Temat: | C4: Generator do termoablacji
B6: Szczegółowy podział zadania:
A8: Nr | B8: Nazwa/ Model | C8: Nr seryjny | D8: Rok produkcji | E8: Przegląd do | F8: Cena netto | G8: Stawka podatku VAT | H8: Cena brutto
A9: 1 | B9: Solero MTA | C9: QBY0002479 | D9: 2017 | E9: 44118
B10: Przegląd zgodny z wymaganiami producenta obejmujący min. czyszczenie, sprawdzenie bezpieczeństwa mechanicznego i elektrycznego, kontrolę zużycia części i wyposażenia, sprawdzenie poprawności ogólnego funkcjonowania aparatu, kalibrację i testy kontrolne, sprawdzenie zgodności parametrów funkcjonalnych urządzeń z deklarowanymi przez producenta, sprawdzenie poprawności działania zgodnie z normami bezpieczeństwa zalecanymi przez producenta, konserwację zgodnie z zaleceniami producenta, testy bezpieczeństwa elektrycznego. Koszt przeglądu obejmuje koszty dojazdu. | G10: TAK
B11: Przegląd zostanie udokumentowany kartą pracy/raportem serwisowym, oraz wpisem do paszportu technicznego, a wyniki testu bezpieczeństwa elektrycznego na oddzielnym protokole. Aparat zostanie oznakowany nalepką z terminem wykonania kolejnego przeglądu. | G11: TAK
B12: Wykonawca posiada uprawnienia serwisowe lub szkolenia serwisowe wystawione przez producenta ww. aparatu lub autoryzowanego przedstawiciela, uprawniające do wykonywania przeglądów i napraw. | G12: TAK
A14: Cena brutto razem: | F14: Kwota VAT:
A15: cena brutto słownie:

Sheet Zadanie nr 60
B2: Część | C2: 60
A4: Temat: | C4: Performer hipertermii
B6: Szczegółowy podział zadania:
A8: Nr | B8: Nazwa/ Model | C8: Nr seryjny | D8: Rok produkcji | E8: Przegląd do | F8: Cena netto | G8: Stawka podatku VAT | H8: Cena brutto
A9: 1 | B9: Performer HT | C9: 261 | D9: 2017 | E9: 44259
B10: Przegląd zgodny z wymaganiami producenta obejmujący min. czyszczenie, sprawdzenie bezpieczeństwa mechanicznego i elektrycznego, kontrolę zużycia części i wyposażenia, sprawdzenie poprawności ogólnego funkcjonowania aparatu, kalibrację i testy kontrolne, sprawdzenie zgodności parametrów funkcjonalnych urządzeń z deklarowanymi przez producenta, sprawdzenie poprawności działania zgodnie z normami bezpieczeństwa zalecanymi przez producenta, konserwację zgodnie z zaleceniami producenta, testy bezpieczeństwa elektrycznego. Koszt przeglądu obejmuje koszty dojazdu. | G10: TAK
B11: Przegląd zostanie udokumentowany kartą pracy/raportem serwisowym, oraz wpisem do paszportu technicznego, a wyniki testu bezpieczeństwa elektrycznego na oddzielnym protokole. Aparat zostanie oznakowany nalepką z terminem wykonania kolejnego przeglądu. | G11: TAK
B12: Wykonawca posiada uprawnienia serwisowe lub szkolenia serwisowe wystawione przez producenta ww. aparatu lub autoryzowanego przedstawiciela, uprawniające do wykonywania przeglądów i napraw. | G12: TAK
A14: Cena brutto razem: | F14: Kwota VAT:
A15: cena brutto słownie:

Sheet Zadanie nr 61
B2: Część | C2: 61
A4: Temat: | C4: System obrazowania VS3 Iridium
B6: Szczegółowy podział zadania:
A8: Nr | B8: Nazwa/ Model | C8: Nr seryjny | D8: Rok produkcji | E8: Przegląd do | F8: Cena netto | G8: Stawka podatku VAT | H8: Cena brutto
A9: 1 | B9: VS3 Iridium | C9: 353-0426 | D9: 2017 | E9: 44196
B10: Przegląd zgodny z wymaganiami producenta obejmujący min. czyszczenie, sprawdzenie bezpieczeństwa mechanicznego i elektrycznego, kontrolę zużycia części i wyposażenia, sprawdzenie poprawności ogólnego funkcjonowania aparatu, kalibrację i testy kontrolne, sprawdzenie zgodności parametrów funkcjonalnych urządzeń z deklarowanymi przez producenta, sprawdzenie poprawności działania zgodnie z normami bezpieczeństwa zalecanymi przez producenta, konserwację zgodnie z zaleceniami producenta, testy bezpieczeństwa elektrycznego. Koszt przeglądu obejmuje koszty dojazdu. | G10: TAK
B11: Przegląd zostanie udokumentowany kartą pracy/raportem serwisowym, oraz wpisem do paszportu technicznego, a wyniki testu bezpieczeństwa elektrycznego na oddzielnym protokole. Aparat zostanie oznakowany nalepką z terminem wykonania kolejnego przeglądu. | G11: TAK
B12: Wykonawca posiada uprawnienia serwisowe lub szkolenia serwisowe wystawione przez producenta ww. aparatu lub autoryzowanego przedstawiciela, uprawniające do wykonywania przeglądów i napraw. | G12: TAK
A14: Cena brutto razem: | C14: =SUM(H9) -> 0 | F14: Kwota VAT:
A15: cena brutto słownie:

Sheet Zadanie nr 62
B2: Część | C2: 62
A4: Temat: | C4: Robotyczny pozycjoner optyki
B6: Szczegółowy podział zadania:
A8: Nr | B8: Nazwa/ Model | C8: Nr seryjny | D8: Rok produkcji | E8: Przegląd do | F8: Cena netto | G8: Stawka podatku VAT | H8: Cena brutto
A9: 1 | B9: Endocontrol Viky | C9: CX0807-17080 | D9: 2017 | E9: 44263
B10: Przegląd zgodny z wymaganiami producenta obejmujący min. czyszczenie, sprawdzenie bezpieczeństwa mechanicznego i elektrycznego, kontrolę zużycia części i wyposażenia, sprawdzenie poprawności ogólnego funkcjonowania aparatu, kalibrację i testy kontrolne, sprawdzenie zgodności parametrów funkcjonalnych urządzeń z deklarowanymi przez producenta, sprawdzenie poprawności działania zgodnie z normami bezpieczeństwa zalecanymi przez producenta, konserwację zgodnie z zaleceniami producenta, testy bezpieczeństwa elektrycznego. Koszt przeglądu obejmuje koszty dojazdu. | G10: TAK
B11: Przegląd zostanie udokumentowany kartą pracy/raportem serwisowym, oraz wpisem do paszportu technicznego, a wyniki testu bezpieczeństwa elektrycznego na oddzielnym protokole. Aparat zostanie oznakowany nalepką z terminem wykonania kolejnego przeglądu. | G11: TAK
B12: Wykonawca posiada uprawnienia serwisowe lub szkolenia serwisowe wystawione przez co najmniej 1-go (dowolnego) producenta robytycznych pozycjonerów optyki, uprawniające do wykonywania przeglądów i napraw. | G12: TAK
A14: Cena brutto razem: | C14: =SUM(H9) -> 0 | F14: Kwota VAT:
A15: cena brutto słownie:

Sheet Zadanie nr 63
B2: Część | C2: 63
A4: Temat: | C4: Kardiostymulator zewnętrzny
B6: Szczegółowy podział zadania:
A8: Nr | B8: Nazwa/ Model | C8: Nr seryjny | D8: Rok produkcji | E8: Przegląd do | F8: Cena netto | G8: Stawka podatku VAT | H8: Cena brutto
A9: 1 | B9: MIP-801 | C9: 1167 | D9: 2014 | E9: 44123
B10: Przegląd zgodny z wymaganiami producenta obejmujący min. czyszczenie, sprawdzenie bezpieczeństwa mechanicznego i elektrycznego, kontrolę zużycia części i wyposażenia, sprawdzenie poprawności ogólnego funkcjonowania aparatu, kalibrację i testy kontrolne, sprawdzenie zgodności parametrów funkcjonalnych urządzeń z deklarowanymi przez producenta, sprawdzenie poprawności działania zgodnie z normami bezpieczeństwa zalecanymi przez producenta, konserwację zgodnie z zaleceniami producenta. Koszt przeglądu obejmuje koszty dojazdu. | G10: TAK
B11: Przegląd zostanie udokumentowany kartą pracy/raportem serwisowym, oraz wpisem do paszportu technicznego. Aparat zostanie oznakowany nalepką z terminem wykonania kolejnego przeglądu. | G11: TAK
B12: Wykonawca posiada uprawnienia serwisowe lub szkolenia serwisowe wystawione przez co najmniej 1-go (dowolnego) producenta kardiostymulatorów, uprawniające do wykonywania przeglądów i napraw. | G12: TAK
A14: Cena brutto razem: | C14: =SUM(H9) -> 0 | F14: Kwota VAT:
A15: cena brutto słownie:

Sheet Zadanie nr 64
B2: Część | C2: 64
A4: Temat: | C4: Respiratory transportowe
B6: Szczegółowy podział zadania:
A8: Nr | B8: Nazwa/ Model | C8: Nr seryjny | D8: Rok produkcji | E8: Przegląd do | F8: Cena netto | G8: Stawka podatku VAT | H8: Cena brutto
A9: 1 | B9: Medumat Easy CPR | C9: 3850 | D9: 2014 | E9: 44256
A10: 2 | B10: Medumat Easy CPR | C10: 3957 | D10: 2014 | E10: 44256
A11: 3 | B11: Medumat Easy CPR | C11: 3956 | D11: 2014 | E11: 44256
A12: 4 | B12: Medumat Easy CPR | C12: 3979 | D12: 2014 | E12: 44256
A13: 5 | B13: Medumat Easy CPR | C13: 3954 | D13: 2014 | E13: 44256
B14: Przegląd zgodny z wymaganiami producenta obejmujący min. czyszczenie, sprawdzenie bezpieczeństwa mechanicznego i elektrycznego, kontrolę zużycia części i wyposażenia, sprawdzenie poprawności ogólnego funkcjonowania aparatu, kalibrację i testy kontrolne, sprawdzenie zgodności parametrów funkcjonalnych aparatu z deklarowanymi przez producenta, sprawdzenie poprawności działania zgodnie z normami bezpieczeństwa zalecanymi przez producenta, konserwację zgodnie z zaleceniami producenta. Przegląd obejmuje min. wymianę zestawu serwisowego wymienionego w instrukcji obsługi. Koszt przeglądu obejmuje koszty dojazdu. | G14: TAK
B15: Poszczególne przeglądy zostaną udokumentowane kartą pracy/raportem serwisowym, oraz wpisem do paszportu technicznego. Aparaty zostaną oznakowane nalepką z terminem wykonania kolejnego przeglądu. | G15: TAK
B16: Wykonawca posiada uprawnienia serwisowe lub szkolenia serwisowe wystawione przez co najmniej 1-go (dowolnego) producenta respiratorów transportowych, uprawniające do wykonywania przeglądów i napraw. | G16: TAK
A18: Cena brutto razem: | C18: =SUM(H9:H13) -> 0 | F18: Kwota VAT:
A19: cena brutto słownie:

Sheet Zadanie nr 65
B2: Część | C2: 65
A4: Temat: | C4: Stół operacyjny Saturn Select
B6: Szczegółowy podział zadania:
A8: Nr | B8: Nazwa/ Model | C8: Nr seryjny | D8: Rok produkcji | E8: Przegląd do | F8: Cena netto | G8: Stawka podatku VAT | H8: Cena brutto
A9: 1 | B9: Saturn Select K | C9: 100299892 | D9: 2006 | E9: 44206
B10: Przegląd zgodny z wymaganiami producenta obejmujący min. czyszczenie, sprawdzenie bezpieczeństwa mechanicznego i elektrycznego, smarowanie ruchomych części mechanicznych, kontrolę zużycia części i wyposażenia, sprawdzenie poprawności ogólnego funkcjonowania aparatu, kalibrację i testy kontrolne, sprawdzenie zgodności parametrów funkcjonalnych urządzeń z deklarowanymi przez producenta, sprawdzenie poprawności działania zgodnie z normami bezpieczeństwa zalecanymi przez producenta, konserwację zgodnie z zaleceniami producenta, testy bezpieczeństwa elektrycznego. Koszt przeglądu obejmuje koszty dojazdu. | G10: TAK
B11: Przegląd zostanie udokumentowany kartą pracy/raportem serwisowym, oraz wpisem do paszportu technicznego, a wyniki testu bezpieczeństwa elektrycznego na oddzielnym protokole. Aparat zostanie oznakowany nalepką z terminem wykonania kolejnego przeglądu. | G11: TAK
B12: Wykonawca posiada uprawnienia serwisowe lub szkolenia serwisowe wystawione przez co najmniej 1-go (dowolnego) producenta stołów operacyjnych, potwierdzające uprawnienia do wykonywania czynności serwisowych. | G12: TAK
A14: Cena brutto razem: | C14: =SUM(H9:H9) -> 0 | F14: Kwota VAT:
A15: cena brutto słownie:

Sheet Zadanie nr 66
B2: Część | C2: 66
A4: Temat: | C4: Lampy operacyjne
B6: Szczegółowy podział zadania:
A8: Nr | B8: Nazwa/ Model | C8: Nr seryjny | D8: Rok produkcji | E8: Przegląd do | F8: Cena netto | G8: Stawka podatku VAT | H8: Cena brutto
A9: 1 | B9: Mach LED 5 SC | C9: 11/03663 11/09154 | D9: 2011 | E9: 44196
A10: 2 | B10: Mach M3 | C10: 05/0723 | D10: 2005 | E10: 44051
A11: 3 | B11: Chromophare D650plus | C11: 6010060 | D11: 2006 | E11: 44196
B12: Przegląd zgodny z wymaganiami producenta obejmujący min. czyszczenie, sprawdzenie bezpieczeństwa mechanicznego i elektrycznego, smarowanie ruchomych części mechanicznych, kontrolę zużycia części i wyposażenia, sprawdzenie poprawności ogólnego funkcjonowania aparatu, kalibrację i testy kontrolne, sprawdzenie zgodności parametrów funkcjonalnych urządzeń z deklarowanymi przez producenta, sprawdzenie poprawności działania zgodnie z normami bezpieczeństwa zalecanymi przez producenta, konserwację zgodnie z zaleceniami producenta, testy bezpieczeństwa elektrycznego. Koszt przeglądu obejmuje koszty dojazdu. | G12: TAK
B13: Poszczególne przeglądy zostaną udokumentowane kartą pracy/raportem serwisowym, oraz wpisem do paszportu technicznego, a wyniki testu bezpieczeństwa elektrycznego na oddzielnym protokole. Aparaty zostaną oznakowane nalepką z terminem wykonania kolejnego przeglądu. | G13: TAK
B14: Wykonawca posiada uprawnienia serwisowe lub szkolenia serwisowe wystawione przez co najmniej 1-go (dowolnego) producenta lamp operacyjnych, potwierdzające uprawnienia do wykonywania czynności serwisowych. | G14: TAK
A16: Cena brutto razem: | C16: =SUM(H9:H11) -> 0 | F16: Kwota VAT:
A17: cena brutto słownie:

Sheet Zadanie nr 67
B2: Część | C2: 67
A4: Temat: | C4: Sekwenator Ion S5 z wyposażeniem
B6: Szczegółowy podział zadania:
A8: Nr | B8: Nazwa/ Model | C8: Nr seryjny | D8: Rok produkcji | E8: Przegląd do | F8: Cena netto | G8: Stawka podatku VAT | H8: Cena brutto
A9: 1 | B9: Ion S5 | C9: 2772717110499 | D9: 2017 | E9: 44012
A10: 2 | B10: Ion Chef | C10: 242470864 | D10: 2017 | E10: 44012
B11: Przegląd zgodny z wymaganiami producenta obejmujący min. czyszczenie, sprawdzenie bezpieczeństwa mechanicznego i elektrycznego, kontrolę zużycia części i wyposażenia, sprawdzenie poprawności ogólnego funkcjonowania aparatu, kalibrację i testy kontrolne, sprawdzenie zgodności parametrów funkcjonalnych urządzeń z deklarowanymi przez producenta, sprawdzenie poprawności działania zgodnie z normami bezpieczeństwa zalecanymi przez producenta, konserwację zgodnie z zaleceniami producenta, testy bezpieczeństwa elektrycznego. Koszt przeglądu obejmuje koszty dojazdu. | G11: TAK
B12: Poszczególne przeglądy zostaną udokumentowane kartą pracy/raportem serwisowym, oraz wpisem do paszportu technicznego, a wyniki testu bezpieczeństwa elektrycznego na oddzielnym protokole. Aparaty zostaną oznakowane nalepką z terminem wykonania kolejnego przeglądu. | G12: TAK
B13: Wykonawca posiada uprawnienia serwisowe lub szkolenia serwisowe wystawione przez co najmniej 1-go (dowolnego) producenta sekwenatorów, potwierdzające uprawnienia do wykonywania czynności serwisowych. | G13: TAK
A15: Cena brutto razem: | C15: =SUM(H9:H10) -> 0 | F15: Kwota VAT:
A16: cena brutto słownie:

Sheet Zadanie nr 68
B2: Część | C2: 68
A4: Temat: | C4: Sekwenator kapilarny
B6: Szczegółowy podział zadania:
A8: Nr | B8: Nazwa/ Model | C8: Nr seryjny | D8: Rok produkcji | E8: Przegląd do | F8: Cena netto | G8: Stawka podatku VAT | H8: Cena brutto
A9: 1 | B9: AB 3500 | C9: 29118-020 | D9: 2017 | E9: 44012
B10: Przegląd zgodny z wymaganiami producenta obejmujący min. czyszczenie, sprawdzenie bezpieczeństwa mechanicznego i elektrycznego, kontrolę zużycia części i wyposażenia, sprawdzenie poprawności ogólnego funkcjonowania aparatu, kalibrację i testy kontrolne, sprawdzenie zgodności parametrów funkcjonalnych urządzenia z deklarowanymi przez producenta, sprawdzenie poprawności działania zgodnie z normami bezpieczeństwa zalecanymi przez producenta, konserwację zgodnie z zaleceniami producenta, testy bezpieczeństwa elektrycznego. Koszt przeglądu obejmuje koszty dojazdu. | G10: TAK
B11: Przegląd zostanie udokumentowany kartą pracy/raportem serwisowym, oraz wpisem do paszportu technicznego, a wyniki testu bezpieczeństwa elektrycznego na oddzielnym protokole. Aparat zostanie oznakowany nalepką z terminem wykonania kolejnego przeglądu. | G11: TAK
B12: Wykonawca posiada uprawnienia serwisowe lub szkolenia serwisowe wystawione przez co najmniej 1-go (dowolnego) producenta sekwenatorów, potwierdzające uprawnienia do wykonywania czynności serwisowych. | G12: TAK
A14: Cena brutto razem: | C14: =SUM(H9:H9) -> 0 | F14: Kwota VAT:
A15: cena brutto słownie:

Sheet Zadanie nr 69
B2: Część | C2: 69
A4: Temat: | C4: Zamrażarki niskotemperaturowe
B6: Szczegółowy podział zadania:
A8: Nr | B8: Nazwa/ Model | C8: Nr seryjny | D8: Rok produkcji | E8: Przegląd do | F8: Cena netto | G8: Stawka podatku VAT | H8: Cena brutto
A9: 1 | B9: PLATINUM 340 V-4STD | C9: 50984 | D9: 2008 | E9: 44091
A10: 2 | B10: MDF-DU500VH-PE | C10: 17090110 | D10: 2017 | E10: 44170
A11: 3 | B11: MDF-DU702VX | C11: 17070064 | D11: 2017 | E11: 44027
A12: 4 | B12: MDF-DU702VX | C12: 17070059 | D12: 2017 | E12: 44027
B13: Przegląd zgodny z wymaganiami producenta obejmujący min. czyszczenie, sprawdzenie bezpieczeństwa mechanicznego i elektrycznego, kontrolę zużycia części i wyposażenia, sprawdzenie poprawności ogólnego funkcjonowania aparatu, kalibrację i testy kontrolne, sprawdzenie zgodności parametrów funkcjonalnych urządzeń z deklarowanymi przez producenta, sprawdzenie poprawności działania zgodnie z normami bezpieczeństwa zalecanymi przez producenta, konserwację zgodnie z zaleceniami producenta, testy bezpieczeństwa elektrycznego. Koszt przeglądu obejmuje koszty dojazdu. | G13: TAK
B14: Przegląd zostanie udokumentowany kartą pracy/raportem serwisowym, oraz wpisem do paszportu technicznego, a wyniki testu bezpieczeństwa elektrycznego na oddzielnym protokole. Aparat zostanie oznakowany nalepką z terminem wykonania kolejnego przeglądu. | G14: TAK
B15: Wykonawca posiada uprawnienia serwisowe lub szkolenia serwisowe wystawione przez co najmniej 1-go (dowolnego) producenta zamrażarek niskotemperaturowych, potwierdzające uprawnienia do wykonywania czynności serwisowych. | G15: TAK
A17: Cena brutto razem: | C17: =SUM(H9:H12) -> 0 | F17: Kwota VAT:
A18: cena brutto słownie:

Sheet Zadanie nr 70
B2: Część | C2: 70
A4: Temat: | C4: Wirówki laboratoryjne Heraeus
B6: Szczegółowy podział zadania:
A8: Nr | B8: Nazwa/ Model | C8: Nr seryjny | D8: Rok produkcji | E8: Przegląd do | F8: Cena netto | G8: Stawka podatku VAT | H8: Cena brutto
A9: 1 | B9: Heraus Megafuge 16 | C9: 3205 | D9: 2017 | E9: 44169
A10: 2 | B10: Heraus Megafuge 8R | C10: 42130970 | D10: 2017 | E10: 44169
B11: Przegląd zgodny z wymaganiami producenta obejmujący min. czyszczenie, sprawdzenie bezpieczeństwa mechanicznego i elektrycznego, kontrolę zużycia części i wyposażenia, sprawdzenie poprawności ogólnego funkcjonowania aparatu, kalibrację i testy kontrolne, sprawdzenie zgodności parametrów funkcjonalnych urządzeń z deklarowanymi przez producenta, sprawdzenie poprawności działania zgodnie z normami bezpieczeństwa zalecanymi przez producenta, konserwację zgodnie z zaleceniami producenta, testy bezpieczeństwa elektrycznego. Koszt przeglądu obejmuje koszty dojazdu. | G11: TAK
B12: Przegląd zostanie udokumentowany kartą pracy/raportem serwisowym, oraz wpisem do paszportu technicznego, a wyniki testu bezpieczeństwa elektrycznego na oddzielnym protokole. Aparat zostanie oznakowany nalepką z terminem wykonania kolejnego przeglądu. | G12: TAK
B13: Wykonawca posiada uprawnienia serwisowe lub szkolenia serwisowe wystawione przez co najmniej 1-go (dowolnego) producenta wirówek laboratoryjnych, potwierdzające uprawnienia do wykonywania czynności serwisowych. | G13: TAK
A15: Cena brutto razem: | C15: =SUM(H9:H10) -> 0 | F15: Kwota VAT:
A16: cena brutto słownie:

Sheet Zadanie nr 71
B2: Część | C2: 71
A4: Temat: | C4: Termomiksery
B6: Szczegółowy podział zadania:
A8: Nr | B8: Nazwa/ Model | C8: Nr seryjny | D8: Rok produkcji | E8: Przegląd do | F8: Cena netto | G8: Stawka podatku VAT | H8: Cena brutto
A9: 1 | B9: ="Thermomixer C" -> Thermomixer C | C9: ="5382GM120753" -> 5382GM120753 | D9: 2017 | E9: ="2020-11-22" -> 2020-11-22
A10: 2 | B10: ="Thermomixer C" -> Thermomixer C | C10: ="5382GM720761" -> 5382GM720761 | D10: 2017 | E10: ="2020-11-22" -> 2020-11-22
B11: Przegląd zgodny z wymaganiami producenta obejmujący min. czyszczenie, sprawdzenie bezpieczeństwa mechanicznego i elektrycznego, kontrolę zużycia części i wyposażenia, sprawdzenie poprawności ogólnego funkcjonowania aparatu, kalibrację i testy kontrolne, sprawdzenie zgodności parametrów funkcjonalnych urządzeń z deklarowanymi przez producenta, sprawdzenie poprawności działania zgodnie z normami bezpieczeństwa zalecanymi przez producenta, konserwację zgodnie z zaleceniami producenta, testy bezpieczeństwa elektrycznego. Koszt przeglądu obejmuje koszty dojazdu. | G11: TAK
B12: Przegląd zostanie udokumentowany kartą pracy/raportem serwisowym, oraz wpisem do paszportu technicznego, a wyniki testu bezpieczeństwa elektrycznego na oddzielnym protokole. Aparat zostanie oznakowany nalepką z terminem wykonania kolejnego przeglądu. | G12: TAK
B13: Wykonawca posiada uprawnienia serwisowe lub szkolenia serwisowe wystawione przez co najmniej 1-go (dowolnego) producenta termomikserów, potwierdzające uprawnienia do wykonywania czynności serwisowych. | G13: TAK
A15: Cena brutto razem: | C15: =SUM(H9:H10) -> 0 | F15: Kwota VAT:
A16: cena brutto słownie:

Sheet Zadanie nr 72
B2: Część | C2: 72
A4: Temat: | C4: Inkubator, wirówka Bio-Rad
B6: Szczegółowy podział zadania:
A8: Nr | B8: Nazwa/ Model | C8: Nr seryjny | D8: Rok produkcji | E8: Przegląd do | F8: Cena netto | G8: Stawka podatku VAT | H8: Cena brutto
A9: 1 | B9: 37 SI | C9: 2003346 | D9: 2014 | E9: 43996
A10: 2 | B10: 12 SII | C10: 2003614 | D10: 2014 | E10: 43996
B11: Przegląd zgodny z wymaganiami producenta obejmujący min. czyszczenie, sprawdzenie bezpieczeństwa mechanicznego i elektrycznego, kontrolę zużycia części i wyposażenia, sprawdzenie poprawności ogólnego funkcjonowania aparatu, kalibrację i testy kontrolne, sprawdzenie zgodności parametrów funkcjonalnych urządzeń z deklarowanymi przez producenta, sprawdzenie poprawności działania zgodnie z normami bezpieczeństwa zalecanymi przez producenta, konserwację zgodnie z zaleceniami producenta, testy bezpieczeństwa elektrycznego. Koszt przeglądu obejmuje koszty dojazdu. | G11: TAK
B12: Przegląd zostanie udokumentowany kartą pracy/raportem serwisowym, oraz wpisem do paszportu technicznego, a wyniki testu bezpieczeństwa elektrycznego na oddzielnym protokole. Aparat zostanie oznakowany nalepką z terminem wykonania kolejnego przeglądu. | G12: TAK
B13: Wykonawca posiada uprawnienia serwisowe lub szkolenia serwisowe wystawione przez co najmniej 1-go (dowolnego) producenta wirówek laboratoryjnych, potwierdzające uprawnienia do wykonywania czynności serwisowych. | G13: TAK
A15: Cena brutto razem: | C15: =SUM(H9:H10) -> 0 | F15: Kwota VAT:
A16: cena brutto słownie:

Sheet Zadanie nr 73
B2: Część | C2: 73
A4: Temat: | C4: Termocyklery PCR firmy Termo Scientific
B6: Szczegółowy podział zadania:
A8: Nr | B8: Nazwa/ Model | C8: Nr seryjny | D8: Rok produkcji | E8: Przegląd do | F8: Cena netto | G8: Stawka podatku VAT | H8: Cena brutto
A9: 1 | B9: Veriti 96-Well | C9: 2990236012 | D9: 2017 | E9: 44064
A10: 2 | B10: Veriti 96-Well | C10: 2990236211 | D10: 2017 | E10: 44064
A11: 3 | B11: Veriti 96-Well | C11: 2990236209 | D11: 2017 | E11: 44064
A12: 4 | B12: Veriti 96-Well | C12: 2990236212 | D12: 2017 | E12: 44064
B13: Przegląd zgodny z wymaganiami producenta obejmujący min. czyszczenie, sprawdzenie bezpieczeństwa mechanicznego i elektrycznego, kontrolę zużycia części i wyposażenia, sprawdzenie poprawności ogólnego funkcjonowania aparatu, kalibrację i testy kontrolne, sprawdzenie zgodności parametrów funkcjonalnych urządzeń z deklarowanymi przez producenta, sprawdzenie poprawności działania zgodnie z normami bezpieczeństwa zalecanymi przez producenta, konserwację zgodnie z zaleceniami producenta, testy bezpieczeństwa elektrycznego. Koszt przeglądu obejmuje koszty dojazdu. | G13: TAK
B14: Przegląd zostanie udokumentowany kartą pracy/raportem serwisowym, oraz wpisem do paszportu technicznego, a wyniki testu bezpieczeństwa elektrycznego na oddzielnym protokole. Aparat zostanie oznakowany nalepką z terminem wykonania kolejnego przeglądu. | G14: TAK
B15: Wykonawca posiada uprawnienia serwisowe lub szkolenia serwisowe wystawione przez co najmniej 1-go (dowolnego) producenta termocyklerów, potwierdzające uprawnienia do wykonywania czynności serwisowych. | G15: TAK
A17: Cena brutto razem: | C17: =SUM(H9:H12) -> 0 | F17: Kwota VAT:
A18: cena brutto słownie:

Sheet Zadanie nr 74
B2: Część | C2: 74
A4: Temat: | C4: Urządzenie ViiA 7
B6: Szczegółowy podział zadania:
A8: Nr | B8: Nazwa/ Model | C8: Nr seryjny | D8: Rok produkcji | E8: Przegląd do | F8: Cena netto | G8: Stawka podatku VAT | H8: Cena brutto
A9: 1 | B9: ViiA 7 | C9: 278880545 | D9: 2011 | E9: 44012
B10: Przegląd zgodny z wymaganiami producenta obejmujący min. czyszczenie, sprawdzenie bezpieczeństwa mechanicznego i elektrycznego, kontrolę zużycia części i wyposażenia, sprawdzenie poprawności ogólnego funkcjonowania aparatu, kalibrację i testy kontrolne, sprawdzenie zgodności parametrów funkcjonalnych urządzenia z deklarowanymi przez producenta, sprawdzenie poprawności działania zgodnie z normami bezpieczeństwa zalecanymi przez producenta, konserwację zgodnie z zaleceniami producenta, testy bezpieczeństwa elektrycznego. Koszt przeglądu obejmuje koszty dojazdu. | G10: TAK
B11: Przegląd zostanie udokumentowany kartą pracy/raportem serwisowym, oraz wpisem do paszportu technicznego, a wyniki testu bezpieczeństwa elektrycznego na oddzielnym protokole. Aparat zostanie oznakowany nalepką z terminem wykonania kolejnego przeglądu. | G11: TAK
B12: Wykonawca posiada uprawnienia serwisowe lub szkolenia serwisowe wystawione przez co najmniej 1-go (dowolnego) producenta urządzeń do PCR, potwierdzające uprawnienia do wykonywania czynności serwisowych. | G12: TAK
A14: Cena brutto razem: | C14: =SUM(H9:H9) -> 0 | F14: Kwota VAT:
A15: cena brutto słownie:

Sheet Zadanie nr 75
B2: Część | C2: 75
A4: Temat: | C4: Komory laminarne BioBan
B6: Szczegółowy podział zadania:
A8: Nr | B8: Nazwa/ Model | C8: Nr seryjny | D8: Rok produkcji | E8: Przegląd do | F8: Cena netto | G8: Stawka podatku VAT | H8: Cena brutto
A9: 1 | B9: ="UV3 HEPA" -> UV3 HEPA | C9: ="P080211-002" -> P080211-002 | D9: 2011 | E9: ="2020-11-25" -> 2020-11-25
A10: 2 | B10: ="BioBan" -> BioBan | C10: ="63170" -> 63170 | D10: 2011 | E10: ="2020-11-14" -> 2020-11-14
A11: 3 | B11: ="BioBan" -> BioBan | C11: ="63171" -> 63171 | D11: 2011 | E11: ="2020-11-14" -> 2020-11-14
B12: Przegląd zgodny z wymaganiami producenta obejmujący min. czyszczenie, sprawdzenie bezpieczeństwa mechanicznego i elektrycznego, kontrolę zużycia części i wyposażenia, sprawdzenie poprawności ogólnego funkcjonowania aparatu, kalibrację i testy kontrolne, sprawdzenie zgodności parametrów funkcjonalnych urządzeń z deklarowanymi przez producenta, sprawdzenie poprawności działania zgodnie z normami bezpieczeństwa zalecanymi przez producenta, konserwację zgodnie z zaleceniami producenta, testy bezpieczeństwa elektrycznego. Koszt przeglądu obejmuje koszty dojazdu. | G12: TAK
B13: Poszczególne przeglądy zostaną udokumentowane kartą pracy/raportem serwisowym, oraz wpisem do paszportu technicznego, a wyniki testu bezpieczeństwa elektrycznego na oddzielnym protokole. Aparaty zostaną oznakowane nalepką z terminem wykonania kolejnego przeglądu. | G13: TAK
B14: Wykonawca posiada uprawnienia serwisowe lub szkolenia serwisowe wystawione przez co najmniej 1-go (dowolnego) producenta komór laminarnych, potwierdzające uprawnienia do wykonywania czynności serwisowych. | G14: TAK
A16: Cena brutto razem: | C16: =SUM(H9:H11) -> 0 | F16: Kwota VAT:
A17: cena brutto słownie:

Sheet Zadanie nr 76
B2: Część | C2: 76
A4: Temat: | C4: Barwiarka, zaklejarka Sakura
B6: Szczegółowy podział zadania:
A8: Nr | B8: Nazwa/ Model | C8: Nr seryjny | D8: Rok produkcji | E8: Przegląd do | F8: Cena netto | G8: Stawka podatku VAT | H8: Cena brutto
A9: 1 | B9: Prisma 6133 | C9: 61330751-0315 | D9: 2016 | E9: ="2020-11-11" -> 2020-11-11
A10: 2 | B10: Film Coverslipper 4742 | C10: 47420985-0116 | D10: 2016 | E10: ="2020-11-11" -> 2020-11-11
B11: Przegląd zgodny z wymaganiami producenta obejmujący min. czyszczenie, sprawdzenie bezpieczeństwa mechanicznego i elektrycznego, kontrolę zużycia części i wyposażenia, sprawdzenie poprawności ogólnego funkcjonowania aparatów, kalibrację i testy kontrolne, sprawdzenie zgodności parametrów funkcjonalnych urządzeń z deklarowanymi przez producenta, sprawdzenie poprawności działania zgodnie z normami bezpieczeństwa zalecanymi przez producenta, konserwację zgodnie z zaleceniami producenta, testy bezpieczeństwa elektrycznego. Przegląd obejmuje wymianę zestawu serwisowego w zaklejarce Film Coverslipper 4742. Koszt przeglądu obejmuje koszty dojazdu. | G11: TAK
B12: Poszczególne przeglądy zostaną udokumentowane kartą pracy/raportem serwisowym, oraz wpisem do paszportu technicznego, a wyniki testu bezpieczeństwa elektrycznego na oddzielnym protokole. Aparaty zostaną oznakowane nalepką z terminem wykonania kolejnego przeglądu. | G12: TAK
B13: Wykonawca posiada uprawnienia serwisowe lub szkolenia serwisowe wystawione przez co najmniej 1-go (dowolnego) producenta barwiarek i zaklejarek, potwierdzające uprawnienia do wykonywania czynności serwisowych. | G13: TAK
A15: Cena brutto razem: | C15: =SUM(H9:H10) -> 0 | F15: Kwota VAT:
A16: cena brutto słownie:

Sheet Arkusz1
